BEGIN:VCALENDAR
VERSION:2.0
PRODID:-//Kirche-Velbert.de - ECPv6.15.20//NONSGML v1.0//EN
CALSCALE:GREGORIAN
METHOD:PUBLISH
X-WR-CALNAME:Kirche-Velbert.de
X-ORIGINAL-URL:https://kirche-velbert.de
X-WR-CALDESC:Veranstaltungen für Kirche-Velbert.de
REFRESH-INTERVAL;VALUE=DURATION:PT1H
X-Robots-Tag:noindex
X-PUBLISHED-TTL:PT1H
BEGIN:VTIMEZONE
TZID:Europe/Berlin
BEGIN:DAYLIGHT
TZOFFSETFROM:+0100
TZOFFSETTO:+0200
TZNAME:CEST
DTSTART:20250330T010000
END:DAYLIGHT
BEGIN:STANDARD
TZOFFSETFROM:+0200
TZOFFSETTO:+0100
TZNAME:CET
DTSTART:20251026T010000
END:STANDARD
BEGIN:DAYLIGHT
TZOFFSETFROM:+0100
TZOFFSETTO:+0200
TZNAME:CEST
DTSTART:20260329T010000
END:DAYLIGHT
BEGIN:STANDARD
TZOFFSETFROM:+0200
TZOFFSETTO:+0100
TZNAME:CET
DTSTART:20261025T010000
END:STANDARD
BEGIN:DAYLIGHT
TZOFFSETFROM:+0100
TZOFFSETTO:+0200
TZNAME:CEST
DTSTART:20270328T010000
END:DAYLIGHT
BEGIN:STANDARD
TZOFFSETFROM:+0200
TZOFFSETTO:+0100
TZNAME:CET
DTSTART:20271031T010000
END:STANDARD
END:VTIMEZONE
BEGIN:VEVENT
DTSTART;TZID=Europe/Berlin:20260424T100000
DTEND;TZID=Europe/Berlin:20260424T100000
DTSTAMP:20260422T041822
CREATED:20260210T195454Z
LAST-MODIFIED:20260210T195454Z
UID:9848-1777024800-1777024800@kirche-velbert.de
SUMMARY:Seniorenheim-Gottesdienst Johanniterheim
DESCRIPTION:Der Gottesdienst mit Abendmahl findet um 10 Uhr im Johannessaal statt. \nGäste sind willkommen!
URL:https://kirche-velbert.de/veranstaltung/seniorenheim-gottesdienst-johanniterheim-10/
LOCATION:Johanniterheim\, Velbert
CATEGORIES:Gottesdienst
ATTACH;FMTTYPE=image/jpeg:https://kirche-velbert.de/wp-content/uploads/Kirchenfenster_calendar.jpeg
END:VEVENT
BEGIN:VEVENT
DTSTART;TZID=Europe/Berlin:20260424T160000
DTEND;TZID=Europe/Berlin:20260424T160000
DTSTAMP:20260422T041822
CREATED:20260206T171158Z
LAST-MODIFIED:20260206T171158Z
UID:9665-1777046400-1777046400@kirche-velbert.de
SUMMARY:Picknickdecken-Gottesdienst
DESCRIPTION:Picknickdecken-Gottesdienst!\n\nEin fröhlicher Gottesdienst für Familien und Kinder.\n\nMit Liedern\, biblischen Geschichten\, die kindgerecht erzählt werden\, einem Impuls für Erwachsene und natürlich einem kleinen Picknick!\n\nDazu bringt jede Familie eine Picknickdecke mit!\n\nHerzliche Einladung!\n\nLeitung: Team
URL:https://kirche-velbert.de/veranstaltung/picknickdecken-gottesdienst-5/
LOCATION:Ev. Kirche Tönisheide\, Kuhlendahler Str. 35\, Velbert\, NRW\, 42553
CATEGORIES:Familie,Gottesdienst
ATTACH;FMTTYPE=image/jpeg:https://kirche-velbert.de/wp-content/uploads/Familie_Picknickdecke_Kalender.jpeg
END:VEVENT
BEGIN:VEVENT
DTSTART;TZID=Europe/Berlin:20260424T180000
DTEND;TZID=Europe/Berlin:20260424T180000
DTSTAMP:20260422T041822
CREATED:20260210T200255Z
LAST-MODIFIED:20260210T200255Z
UID:9863-1777053600-1777053600@kirche-velbert.de
SUMMARY:Gottesdienst im Helios-Klinikum
DESCRIPTION:Pfrin. Anhuef-Natro \n\n4. Etage\, Raum A 4172 \n\n 
URL:https://kirche-velbert.de/veranstaltung/gottesdienst-im-helios-klinikum-16/
LOCATION:Helios Klinikum Niederberg\, Robert-Koch-Straße 2\, Velbert\, 42549\, Germany
CATEGORIES:Gottesdienst
ATTACH;FMTTYPE=image/jpeg:https://kirche-velbert.de/wp-content/uploads/Mini_Altar_calendar.jpeg
END:VEVENT
BEGIN:VEVENT
DTSTART;TZID=Europe/Berlin:20260426T100000
DTEND;TZID=Europe/Berlin:20260426T100000
DTSTAMP:20260422T041822
CREATED:20260206T171543Z
LAST-MODIFIED:20260206T171543Z
UID:9667-1777197600-1777197600@kirche-velbert.de
SUMMARY:Gottesdienst mit Jahresfest des CVJM-Posaunenchores
DESCRIPTION:Gottesdienst mit Jahresfest des CVJM-Posaunenchores \nLeitung: Pfr. Dr. Jeschke
URL:https://kirche-velbert.de/veranstaltung/gottesdienst-mit-jahresfest-des-cvjm-posaunenchores/
LOCATION:Ev. Kirche Tönisheide\, Kuhlendahler Str. 35\, Velbert\, NRW\, 42553
CATEGORIES:Gottesdienst
ATTACH;FMTTYPE=image/jpeg:https://kirche-velbert.de/wp-content/uploads/01-Jahresfest-Posaunenchor-e1754056699483.jpg
END:VEVENT
BEGIN:VEVENT
DTSTART;TZID=Europe/Berlin:20260426T110000
DTEND;TZID=Europe/Berlin:20260426T110000
DTSTAMP:20260422T041822
CREATED:20260206T171807Z
LAST-MODIFIED:20260206T171807Z
UID:9669-1777201200-1777201200@kirche-velbert.de
SUMMARY:Familiengottesdienst zum Kinderbibeltag
DESCRIPTION:Familiengottesdienst zum Kinderbibeltag \nLeitung: Pfrin. Schmerkotte
URL:https://kirche-velbert.de/veranstaltung/familiengottesdienst-zum-kinderbibeltag-2/
LOCATION:Christuskirche\, Grünstr. 27\, Velbert\, NRW\, 42551
CATEGORIES:Familie,Gottesdienst
ATTACH;FMTTYPE=image/png:https://kirche-velbert.de/wp-content/uploads/Christuskirche-001_calendar.png
END:VEVENT
BEGIN:VEVENT
DTSTART;TZID=Europe/Berlin:20260426T190000
DTEND;TZID=Europe/Berlin:20260426T190000
DTSTAMP:20260422T041822
CREATED:20260206T171944Z
LAST-MODIFIED:20260206T171944Z
UID:9671-1777230000-1777230000@kirche-velbert.de
SUMMARY:Gottesdienst Lobpreisabend
DESCRIPTION:Lobpreisabend\, M. Fritz\, Pfr. Flaig und Team
URL:https://kirche-velbert.de/veranstaltung/gottesdienst-lobpreisabend/
LOCATION:Markuskirche\, Losenburger Weg 40\, Velbert\, NRW\, 42549
CATEGORIES:Gottesdienst
ATTACH;FMTTYPE=image/png:https://kirche-velbert.de/wp-content/uploads/Markuskirche_calendar.png
END:VEVENT
BEGIN:VEVENT
DTSTART;TZID=Europe/Berlin:20260503T103000
DTEND;TZID=Europe/Berlin:20260503T103000
DTSTAMP:20260422T041822
CREATED:20260206T172150Z
LAST-MODIFIED:20260206T172150Z
UID:9674-1777804200-1777804200@kirche-velbert.de
SUMMARY:Oase-Gottesdienst mit Abendmahl
DESCRIPTION:Der besondere Sonntagsgottesdienst gestaltet vom Oase-Team mit Abendmahl. \nPfr. Flaig und Team
URL:https://kirche-velbert.de/veranstaltung/oase-gottesdienst-mit-abendmahl/
LOCATION:Markuskirche\, Losenburger Weg 40\, Velbert\, NRW\, 42549
CATEGORIES:Gottesdienst
ATTACH;FMTTYPE=image/jpeg:https://kirche-velbert.de/wp-content/uploads/Oase_calendar.jpeg
END:VEVENT
BEGIN:VEVENT
DTSTART;TZID=Europe/Berlin:20260503T110000
DTEND;TZID=Europe/Berlin:20260503T110000
DTSTAMP:20260422T041822
CREATED:20260206T172340Z
LAST-MODIFIED:20260419T085146Z
UID:9676-1777806000-1777806000@kirche-velbert.de
SUMMARY:Gottesdienst
DESCRIPTION:Leitung: Pfrn. Maret Schmerkotte
URL:https://kirche-velbert.de/veranstaltung/gottesdienst-34/
LOCATION:Alte Kirche\, Friedrichstr. 158\, Velbert\, NRW\, 42551
CATEGORIES:Gottesdienst
ATTACH;FMTTYPE=image/png:https://kirche-velbert.de/wp-content/uploads/Alte-Kirche-005b_calendar.png
END:VEVENT
BEGIN:VEVENT
DTSTART;TZID=Europe/Berlin:20260506T103000
DTEND;TZID=Europe/Berlin:20260506T103000
DTSTAMP:20260422T041822
CREATED:20260210T195028Z
LAST-MODIFIED:20260210T195028Z
UID:9838-1778063400-1778063400@kirche-velbert.de
SUMMARY:Seniorenheim-Gottesdienst für die Bewohner Rheinischer Hof
DESCRIPTION:Pfr. i.R. Bendokat
URL:https://kirche-velbert.de/veranstaltung/seniorenheim-gottesdienst-fuer-die-bewohner-rheinischer-hof-6/
LOCATION:Seniorenheim Residenz\, Rheinischer Hof\, Velbert\, Kolpingstraße 5-7\, Velbert\, 42551
CATEGORIES:Gottesdienst
ATTACH;FMTTYPE=image/jpeg:https://kirche-velbert.de/wp-content/uploads/Kirchenfenster_calendar.jpeg
END:VEVENT
BEGIN:VEVENT
DTSTART;TZID=Europe/Berlin:20260506T190000
DTEND;TZID=Europe/Berlin:20260506T190000
DTSTAMP:20260422T041822
CREATED:20260413T115217Z
LAST-MODIFIED:20260413T115217Z
UID:10087-1778094000-1778094000@kirche-velbert.de
SUMMARY:Kneipengottesdienst
DESCRIPTION:Am Mittwoch\, dem 6. Mai\, findet um 19 Uhr unser Kneipengottesdienst statt! \nOrt: Die Velberter Traditionskneipe „Bistro Treffpunkt“\, Nevigeser Straße 286\, Velbert-Tönisheide \nMit Juliane Engert und Dieter Jeschke
URL:https://kirche-velbert.de/veranstaltung/kneipengottesdienst/
LOCATION:NRW
CATEGORIES:Gottesdienst
ATTACH;FMTTYPE=image/jpeg:https://kirche-velbert.de/wp-content/uploads/dasein-rund-e1772133285254.jpg
ORGANIZER;CN="Erprobungsraum dasein":MAILTO:juliane.engert@ekir.de
END:VEVENT
BEGIN:VEVENT
DTSTART;TZID=Europe/Berlin:20260507T101500
DTEND;TZID=Europe/Berlin:20260507T101500
DTSTAMP:20260422T041822
CREATED:20260210T195153Z
LAST-MODIFIED:20260210T195153Z
UID:9842-1778148900-1778148900@kirche-velbert.de
SUMMARY:Seniorenheim-Gottesdienst für die Bewohner Domizil
DESCRIPTION:Pfr. i.R. Bendokat
URL:https://kirche-velbert.de/veranstaltung/seniorenheim-gottesdienst-fuer-die-bewohner-domizil-6/
LOCATION:Seniorenheim Domizil\, Velbert\, Friedrichstr. 191\, Velbert\, 42551
CATEGORIES:Gottesdienst
ATTACH;FMTTYPE=image/jpeg:https://kirche-velbert.de/wp-content/uploads/Kirchenfenster_calendar.jpeg
END:VEVENT
BEGIN:VEVENT
DTSTART;TZID=Europe/Berlin:20260508T100000
DTEND;TZID=Europe/Berlin:20260508T100000
DTSTAMP:20260422T041822
CREATED:20260210T195516Z
LAST-MODIFIED:20260210T195516Z
UID:9850-1778234400-1778234400@kirche-velbert.de
SUMMARY:Seniorenheim-Gottesdienst Johanniterheim
DESCRIPTION:Der Gottesdienst mit Abendmahl findet um 10 Uhr im Johannessaal statt. \nGäste sind willkommen!
URL:https://kirche-velbert.de/veranstaltung/seniorenheim-gottesdienst-johanniterheim-11/
LOCATION:Johanniterheim\, Velbert
CATEGORIES:Gottesdienst
ATTACH;FMTTYPE=image/jpeg:https://kirche-velbert.de/wp-content/uploads/Kirchenfenster_calendar.jpeg
END:VEVENT
BEGIN:VEVENT
DTSTART;TZID=Europe/Berlin:20260508T180000
DTEND;TZID=Europe/Berlin:20260508T180000
DTSTAMP:20260422T041822
CREATED:20260207T185832Z
LAST-MODIFIED:20260207T185832Z
UID:9688-1778263200-1778263200@kirche-velbert.de
SUMMARY:Gottesdienst Abendmahl mit den Konfirmandinnen und Konfirmanden
DESCRIPTION:Abendmahl mit den Konfirmandinnen und Konfirmanden \nTeam
URL:https://kirche-velbert.de/veranstaltung/gottesdienst-abendmahl-mit-den-konfirmandinnen-und-konfirmanden/
LOCATION:Markuskirche\, Losenburger Weg 40\, Velbert\, NRW\, 42549
CATEGORIES:Gottesdienst
ATTACH;FMTTYPE=image/png:https://kirche-velbert.de/wp-content/uploads/Markuskirche_calendar.png
END:VEVENT
BEGIN:VEVENT
DTSTART;TZID=Europe/Berlin:20260508T180000
DTEND;TZID=Europe/Berlin:20260508T180000
DTSTAMP:20260422T041822
CREATED:20260210T200006Z
LAST-MODIFIED:20260210T200006Z
UID:9858-1778263200-1778263200@kirche-velbert.de
SUMMARY:Gottesdienst im Helios-Klinikum
DESCRIPTION:Abendmahl mit Pfrin. Matzey-Striewski \n\n4. Etage\, Raum A 4172 \n\n 
URL:https://kirche-velbert.de/veranstaltung/gottesdienst-im-helios-klinikum-14/
LOCATION:Helios Klinikum Niederberg\, Robert-Koch-Straße 2\, Velbert\, 42549\, Germany
CATEGORIES:Gottesdienst
ATTACH;FMTTYPE=image/jpeg:https://kirche-velbert.de/wp-content/uploads/Mini_Altar_calendar.jpeg
END:VEVENT
BEGIN:VEVENT
DTSTART;TZID=Europe/Berlin:20260509T100000
DTEND;TZID=Europe/Berlin:20260509T100000
DTSTAMP:20260422T041822
CREATED:20260207T190146Z
LAST-MODIFIED:20260207T190146Z
UID:9691-1778320800-1778320800@kirche-velbert.de
SUMMARY:Gottesdienst mit Konfirmation
DESCRIPTION:Konfirmation \nLeitung: Team
URL:https://kirche-velbert.de/veranstaltung/gottesdienst-mit-konfirmation/
LOCATION:Christuskirche\, Grünstr. 27\, Velbert\, NRW\, 42551
CATEGORIES:Gottesdienst
ATTACH;FMTTYPE=image/png:https://kirche-velbert.de/wp-content/uploads/Christuskirche-001_calendar.png
END:VEVENT
BEGIN:VEVENT
DTSTART;TZID=Europe/Berlin:20260509T120000
DTEND;TZID=Europe/Berlin:20260509T120000
DTSTAMP:20260422T041822
CREATED:20260207T190213Z
LAST-MODIFIED:20260207T190213Z
UID:9693-1778328000-1778328000@kirche-velbert.de
SUMMARY:Gottesdienst mit Konfirmation
DESCRIPTION:Konfirmation \nLeitung: Team
URL:https://kirche-velbert.de/veranstaltung/gottesdienst-mit-konfirmation-2/
LOCATION:Christuskirche\, Grünstr. 27\, Velbert\, NRW\, 42551
CATEGORIES:Gottesdienst
ATTACH;FMTTYPE=image/png:https://kirche-velbert.de/wp-content/uploads/Christuskirche-001_calendar.png
END:VEVENT
BEGIN:VEVENT
DTSTART;TZID=Europe/Berlin:20260509T140000
DTEND;TZID=Europe/Berlin:20260509T140000
DTSTAMP:20260422T041822
CREATED:20260207T190241Z
LAST-MODIFIED:20260207T190241Z
UID:9695-1778335200-1778335200@kirche-velbert.de
SUMMARY:Gottesdienst mit Konfirmation
DESCRIPTION:Konfirmation \nLeitung: Team
URL:https://kirche-velbert.de/veranstaltung/gottesdienst-mit-konfirmation-3/
LOCATION:Christuskirche\, Grünstr. 27\, Velbert\, NRW\, 42551
CATEGORIES:Gottesdienst
ATTACH;FMTTYPE=image/png:https://kirche-velbert.de/wp-content/uploads/Christuskirche-001_calendar.png
END:VEVENT
BEGIN:VEVENT
DTSTART;TZID=Europe/Berlin:20260510T100000
DTEND;TZID=Europe/Berlin:20260510T100000
DTSTAMP:20260422T041822
CREATED:20260207T190434Z
LAST-MODIFIED:20260207T190434Z
UID:9697-1778407200-1778407200@kirche-velbert.de
SUMMARY:Gottesdienst mit Konfirmation
DESCRIPTION:Konfirmation \nLeitung: Team
URL:https://kirche-velbert.de/veranstaltung/gottesdienst-mit-konfirmation-4/
LOCATION:Ev. Kirche Tönisheide\, Kuhlendahler Str. 35\, Velbert\, NRW\, 42553
CATEGORIES:Gottesdienst
ATTACH;FMTTYPE=image/png:https://kirche-velbert.de/wp-content/uploads/Kirche-Toenisheide-001_2b_calendar.png
END:VEVENT
BEGIN:VEVENT
DTSTART;TZID=Europe/Berlin:20260510T103000
DTEND;TZID=Europe/Berlin:20260510T103000
DTSTAMP:20260422T041822
CREATED:20260207T190743Z
LAST-MODIFIED:20260207T190743Z
UID:9701-1778409000-1778409000@kirche-velbert.de
SUMMARY:Gottesdienst
DESCRIPTION:Leitung: Pfr. Flaig
URL:https://kirche-velbert.de/veranstaltung/gottesdienst-35/
LOCATION:Markuskirche\, Losenburger Weg 40\, Velbert\, NRW\, 42549
CATEGORIES:Gottesdienst
ATTACH;FMTTYPE=image/png:https://kirche-velbert.de/wp-content/uploads/Markuskirche_calendar.png
END:VEVENT
BEGIN:VEVENT
DTSTART;TZID=Europe/Berlin:20260510T120000
DTEND;TZID=Europe/Berlin:20260510T120000
DTSTAMP:20260422T041822
CREATED:20260207T190459Z
LAST-MODIFIED:20260207T190459Z
UID:9699-1778414400-1778414400@kirche-velbert.de
SUMMARY:Gottesdienst mit Konfirmation
DESCRIPTION:Konfirmation \nLeitung: Team
URL:https://kirche-velbert.de/veranstaltung/gottesdienst-mit-konfirmation-5/
LOCATION:Ev. Kirche Tönisheide\, Kuhlendahler Str. 35\, Velbert\, NRW\, 42553
CATEGORIES:Gottesdienst
ATTACH;FMTTYPE=image/png:https://kirche-velbert.de/wp-content/uploads/Kirche-Toenisheide-001_2b_calendar.png
END:VEVENT
BEGIN:VEVENT
DTSTART;TZID=Europe/Berlin:20260514T110000
DTEND;TZID=Europe/Berlin:20260514T110000
DTSTAMP:20260422T041822
CREATED:20260207T191429Z
LAST-MODIFIED:20260207T191429Z
UID:9703-1778756400-1778756400@kirche-velbert.de
SUMMARY:Open Air Gottesdienst an der Christuskirche
DESCRIPTION:Mitgeschöpflichkeits-Gottesdienst im Freien an der Christuskirche. \nGott hat uns die Tiere als Mitgeschöpfe an die Seite gestellt und uns Menschen die Fürsorge für sie aufgetragen. Wir wollen Tiere als Mitgeschöpfe würdigen und sie in den Segen Gottes einschließen. Das Fest Christi Himmelfahrt symbolisiert die Verbindung zwischen Himmel und Erde. \nWer will\, kann dazu gerne einen Hund\, Katze\, Kaninchen oder andere Tiere mitbringen\, sofern sie nicht nervös reagieren.\nHaustiere können sehr treue Lebensbegleiter sein. Und das Wohlergehen von Tieren geht uns alle an. Kinder können auch ihre Kuscheltiere mitbringen. \nLeitung: Pfrin. Schmerkotte\, Pfr. Dr. Jeschke \nIn diesem Jahr gedenken wir des 800. Todestages von Franz von Assisi\nFranz stammte aus wohlhabenden Verhältnissen\, gab aber den geerbten Reichtum auf\, um ein Leben ganz nach dem Vorbild von Jesus Christus zu leben. Seine Lebensweise zog gleichgesinnte Gefährten an. Bald bildete sich eine Kommunität\, ein geistlicher Orden. Dieser Orden wuchs rasch an und wurde nach Franz von Assisi dann „Franziskanerorden“ genannt. In materieller Armut wollte er es Jesus gleichtun. Dies führte ihn in Opposition zum damaligen Klerus. Konsequente Nachfolge Jesu Christi: Franz von Assisi inspirierte damit auch bedeutende evangelische Gestalten wie Johannes Calvin\, Gerhard Tersteegen und Dietrich Bonhoeffer. Und er wollte nicht nur den Menschen\, sondern auch Tieren\, Pflanzen und der gesamten Natur das Evangelium von der Liebe Christi verkündigen. So wurde er Schutzpatron der Tiere\, der Umwelt und Ökologie. \nIn dem Gebet “Sonnengesang”\, dass Franz von Assisi im 13. Jahrhundert verfasste\, beschrieb er die Tiere als Brüder und Schwestern des Menschen und den Dank an die Natur\, ihre Phänomene und Wunder.
URL:https://kirche-velbert.de/veranstaltung/open-air-gottesdienst-an-der-christuskirche/
LOCATION:Christuskirche\, Grünstr. 27\, Velbert\, NRW\, 42551
CATEGORIES:Gottesdienst
ATTACH;FMTTYPE=image/png:https://kirche-velbert.de/wp-content/uploads/Christuskirche-001_calendar.png
END:VEVENT
BEGIN:VEVENT
DTSTART;TZID=Europe/Berlin:20260514T110000
DTEND;TZID=Europe/Berlin:20260514T110000
DTSTAMP:20260422T041822
CREATED:20260214T122950Z
LAST-MODIFIED:20260214T122950Z
UID:9902-1778756400-1778756400@kirche-velbert.de
SUMMARY:Open Air Mitgeschöpflichkeits-Gottesdienst
DESCRIPTION:In diesem Jahr gedenken wir des 800. Todestages von Franz von Assisi. \nFranz stammte aus wohlhabenden Verhältnissen\, gab aber den geerbten Reichtum auf\, um ein Leben ganz nach dem Vorbild von Jesus Christus zu leben. Seine Lebensweise zog gleichgesinnte Gefährten an. Bald bildete sich eine Kommunität\, ein geistlicher Orden. Dieser Orden wuchs rasch an und wurde nach Franz von Assisi dann „Franziskanerorden“ genannt. In materieller Armut wollte er es Jesus gleichtun. Dies führte ihn in Opposition zum damaligen Klerus. Konsequente Nachfolge Jesu Christi: Franz von Assisi inspirierte damit auch bedeutende evangelische Gestalten wie Johannes Calvin\, Gerhard Tersteegen und Dietrich Bonhoeffer. Und er wollte nicht nur den Menschen\, sondern auch Tieren\, Pflanzen und der gesamten Natur das Evangelium von der Liebe Christi verkündigen. \nSo wurde er Schutzpatron der Tiere\, der Umwelt und Ökologie. In dem Gebet “Sonnengesang”\, dass Franz von Assisi im 13. Jahrhundert verfasste\, beschrieb er die Tiere als Brüder und Schwestern des Menschen und den Dank an die Natur\, ihre Phänomene und Wunder. Wir lassen uns in diesem Jahr von ihm inspirieren mit verschiedenen Aktionen: \nAn Christi Himmelfahrt\, den 14. Mai\, feiern wir um 11 Uhr einen Mitgeschöpflichkeits-Gottesdienst im Freien an der Christuskirche. Gott hat uns die Tiere als Mitgeschöpfe an die Seite gestellt und uns Menschen die Fürsorge für sie aufgetragen. Wir wollen Tiere als Mitgeschöpfe würdigen und sie in den Segen Gottes einschließen. Das Fest Christi Himmelfahrt symbolisiert die Verbindung zwischen Himmel und Erde. \nWer will\, kann dazu gerne einen Hund\, Katze\, Kaninchen oder andere Tiere mitbringen\, sofern sie nicht nervös reagieren. Haustiere können sehr treue Lebensbegleiter sein. Und das Wohlergehen von Tieren geht uns alle an. \nKinder können auch ihre Kuscheltiere mitbringen.
URL:https://kirche-velbert.de/veranstaltung/open-air-mitgeschoepflichkeits-gottesdienst/
LOCATION:Christuskirche\, Grünstr. 27\, Velbert\, NRW\, 42551
CATEGORIES:Gottesdienst,Ökumene
ATTACH;FMTTYPE=image/png:https://kirche-velbert.de/wp-content/uploads/Christuskirche-001_calendar.png
END:VEVENT
BEGIN:VEVENT
DTSTART;TZID=Europe/Berlin:20260516T180000
DTEND;TZID=Europe/Berlin:20260516T180000
DTSTAMP:20260422T041822
CREATED:20260207T191825Z
LAST-MODIFIED:20260207T191825Z
UID:9705-1778954400-1778954400@kirche-velbert.de
SUMMARY:Kaffee & Wein
DESCRIPTION:Der andere Gottesdienst:\nImpulse\, Gespräche\, Gebet & Segen\, Musik\, Imbiss\, Kaffee & Wein\nin entspannter Atmosphäre zu Themen unseres Lebens \nKontakt: Pfr’in Maret Schmerkotte\, 02051-607036\nE-Mail maret.schmerkotte@kirche-velbert.de
URL:https://kirche-velbert.de/veranstaltung/kaffee-wein-3/
LOCATION:Gemeindehaus Oststraße\, Oststr. 59\, Velbert\, NRW\, 42551
CATEGORIES:Gottesdienst
ATTACH;FMTTYPE=image/jpeg:https://kirche-velbert.de/wp-content/uploads/kaffee_und_wein_200.jpg
END:VEVENT
BEGIN:VEVENT
DTSTART;TZID=Europe/Berlin:20260517T103000
DTEND;TZID=Europe/Berlin:20260517T103000
DTSTAMP:20260422T041822
CREATED:20260207T192037Z
LAST-MODIFIED:20260207T192227Z
UID:9707-1779013800-1779013800@kirche-velbert.de
SUMMARY:Gottesdienst
DESCRIPTION:Team des Hausbibelkreises
URL:https://kirche-velbert.de/veranstaltung/gottesdienst-36/
LOCATION:Markuskirche\, Losenburger Weg 40\, Velbert\, NRW\, 42549
CATEGORIES:Gottesdienst
ATTACH;FMTTYPE=image/png:https://kirche-velbert.de/wp-content/uploads/Markuskirche-neu-Turm-001_calendar.png
END:VEVENT
BEGIN:VEVENT
DTSTART;TZID=Europe/Berlin:20260522T100000
DTEND;TZID=Europe/Berlin:20260522T100000
DTSTAMP:20260422T041822
CREATED:20260210T195541Z
LAST-MODIFIED:20260210T195541Z
UID:9852-1779444000-1779444000@kirche-velbert.de
SUMMARY:Seniorenheim-Gottesdienst Johanniterheim
DESCRIPTION:Der Gottesdienst mit Abendmahl findet um 10 Uhr im Johannessaal statt. \nGäste sind willkommen!
URL:https://kirche-velbert.de/veranstaltung/seniorenheim-gottesdienst-johanniterheim-12/
LOCATION:Johanniterheim\, Velbert
CATEGORIES:Gottesdienst
ATTACH;FMTTYPE=image/jpeg:https://kirche-velbert.de/wp-content/uploads/Kirchenfenster_calendar.jpeg
END:VEVENT
BEGIN:VEVENT
DTSTART;TZID=Europe/Berlin:20260522T180000
DTEND;TZID=Europe/Berlin:20260522T180000
DTSTAMP:20260422T041822
CREATED:20260210T200318Z
LAST-MODIFIED:20260210T200318Z
UID:9865-1779472800-1779472800@kirche-velbert.de
SUMMARY:Gottesdienst im Helios-Klinikum
DESCRIPTION:Pfrin. Anhuef-Natro \n\n4. Etage\, Raum A 4172 \n\n 
URL:https://kirche-velbert.de/veranstaltung/gottesdienst-im-helios-klinikum-39/
LOCATION:Helios Klinikum Niederberg\, Robert-Koch-Straße 2\, Velbert\, 42549\, Germany
CATEGORIES:Gottesdienst
ATTACH;FMTTYPE=image/jpeg:https://kirche-velbert.de/wp-content/uploads/Mini_Altar_calendar.jpeg
END:VEVENT
BEGIN:VEVENT
DTSTART;TZID=Europe/Berlin:20260524T110000
DTEND;TZID=Europe/Berlin:20260524T110000
DTSTAMP:20260422T041822
CREATED:20260207T192728Z
LAST-MODIFIED:20260207T192728Z
UID:9711-1779620400-1779620400@kirche-velbert.de
SUMMARY:Musikgottesdienst am Pfingstsonntag
DESCRIPTION:Jenny Heilig\, Zink \n(Zink oder Cornetto ist ein Renaissance-Instrument\, das mit einem ähnlichen Mundstück wie die Trompete gespielt wird. Es hat einen weichen und gleichzeitig strahlenden Klang. Ganz besonders schön!)\nWerke von Frescobaldi\, Cima etc. \nLeitung: Per. Schmerkotte
URL:https://kirche-velbert.de/veranstaltung/musikgottesdienst-am-pfingstsonntag/
LOCATION:Alte Kirche\, Friedrichstr. 158\, Velbert\, NRW\, 42551
CATEGORIES:Gottesdienst
ATTACH;FMTTYPE=image/png:https://kirche-velbert.de/wp-content/uploads/Alte-Kirche-005b_calendar.png
END:VEVENT
BEGIN:VEVENT
DTSTART;TZID=Europe/Berlin:20260525T190000
DTEND;TZID=Europe/Berlin:20260525T190000
DTSTAMP:20260422T041822
CREATED:20260207T192938Z
LAST-MODIFIED:20260207T192938Z
UID:9714-1779735600-1779735600@kirche-velbert.de
SUMMARY:Gottesdienst Lobpreisabend
DESCRIPTION:Lobpreisabend\, M. Fritz\, Pfr. Flaig und Team
URL:https://kirche-velbert.de/veranstaltung/gottesdienst-lobpreisabend-2/
LOCATION:Markuskirche\, Losenburger Weg 40\, Velbert\, NRW\, 42549
CATEGORIES:Gottesdienst
ATTACH;FMTTYPE=image/png:https://kirche-velbert.de/wp-content/uploads/Markuskirche_calendar.png
END:VEVENT
BEGIN:VEVENT
DTSTART;TZID=Europe/Berlin:20260525T190000
DTEND;TZID=Europe/Berlin:20260525T190000
DTSTAMP:20260422T041822
CREATED:20260207T193328Z
LAST-MODIFIED:20260207T193328Z
UID:9716-1779735600-1779735600@kirche-velbert.de
SUMMARY:Gottesdienst mit Elementen aus Taizé
DESCRIPTION:Leitung: Pfr. Dr. Jeschke\, Pfr. Schmerkotte
URL:https://kirche-velbert.de/veranstaltung/gottesdienst-mit-elementen-aus-taize/
LOCATION:Ev. Kirche Tönisheide\, Kuhlendahler Str. 35\, Velbert\, NRW\, 42553
CATEGORIES:Gottesdienst
ATTACH;FMTTYPE=image/jpeg:https://kirche-velbert.de/wp-content/uploads/Toenisheide_Bibel_calendar.jpg
END:VEVENT
BEGIN:VEVENT
DTSTART;TZID=Europe/Berlin:20260530T100000
DTEND;TZID=Europe/Berlin:20260530T100000
DTSTAMP:20260422T041822
CREATED:20260207T194151Z
LAST-MODIFIED:20260207T194151Z
UID:9724-1780135200-1780135200@kirche-velbert.de
SUMMARY:Rudi's Kinderkirche
DESCRIPTION:Er ist wieder da! Der freche Rabe Rudi … heute um 10.00Uhr in der Markuskirche.\nIhr seid herzlich eingeladen\, ihm mal auf den Schnabel zu fühlen und zu hören\, was er so für einen Quatsch erzählt. \nInformationen findet ihr auf der Webseite von Rudi.
URL:https://kirche-velbert.de/veranstaltung/rudis-kinderkirche-6/
LOCATION:Markuskirche\, Losenburger Weg 40\, Velbert\, NRW\, 42549
CATEGORIES:Familie,Gottesdienst
ATTACH;FMTTYPE=image/jpeg:https://kirche-velbert.de/wp-content/uploads/Rudi_calendar.jpg
END:VEVENT
END:VCALENDAR