BEGIN:VCALENDAR
VERSION:2.0
PRODID:-//Kirche-Velbert.de - ECPv6.15.20//NONSGML v1.0//EN
CALSCALE:GREGORIAN
METHOD:PUBLISH
X-ORIGINAL-URL:https://kirche-velbert.de
X-WR-CALDESC:Veranstaltungen für Kirche-Velbert.de
REFRESH-INTERVAL;VALUE=DURATION:PT1H
X-Robots-Tag:noindex
X-PUBLISHED-TTL:PT1H
BEGIN:VTIMEZONE
TZID:Europe/Berlin
BEGIN:DAYLIGHT
TZOFFSETFROM:+0100
TZOFFSETTO:+0200
TZNAME:CEST
DTSTART:20250330T010000
END:DAYLIGHT
BEGIN:STANDARD
TZOFFSETFROM:+0200
TZOFFSETTO:+0100
TZNAME:CET
DTSTART:20251026T010000
END:STANDARD
BEGIN:DAYLIGHT
TZOFFSETFROM:+0100
TZOFFSETTO:+0200
TZNAME:CEST
DTSTART:20260329T010000
END:DAYLIGHT
BEGIN:STANDARD
TZOFFSETFROM:+0200
TZOFFSETTO:+0100
TZNAME:CET
DTSTART:20261025T010000
END:STANDARD
BEGIN:DAYLIGHT
TZOFFSETFROM:+0100
TZOFFSETTO:+0200
TZNAME:CEST
DTSTART:20270328T010000
END:DAYLIGHT
BEGIN:STANDARD
TZOFFSETFROM:+0200
TZOFFSETTO:+0100
TZNAME:CET
DTSTART:20271031T010000
END:STANDARD
END:VTIMEZONE
BEGIN:VEVENT
DTSTART;TZID=Europe/Berlin:20260424T193000
DTEND;TZID=Europe/Berlin:20260424T193000
DTSTAMP:20260422T140415
CREATED:20260210T194325Z
LAST-MODIFIED:20260210T194325Z
UID:9832-1777059000-1777059000@kirche-velbert.de
SUMMARY:Gott und die Welt
DESCRIPTION:„Gott und die Welt“ ist ein offener Gesprächskreis für alle\, die sich gerne über theologische und andere aktuelle Themen unterhalten. \nKommen Sie gerne dazu\, Sie müssen kein Vorwissen mitbringen. \nAnsprechpartnerin: Pfarrerin Maret Schmerkotte\,\nTel.: 02051-607036\, maret.schmerkotte@kirche-velbert.de
URL:https://kirche-velbert.de/veranstaltung/gott-und-die-welt-10/
LOCATION:Gemeindehaus Oststraße\, Oststr. 59\, Velbert\, NRW\, 42551
CATEGORIES:Gesprächskreis
ATTACH;FMTTYPE=image/jpeg:https://kirche-velbert.de/wp-content/uploads/Toetterkreis_calendar.jpeg
END:VEVENT
BEGIN:VEVENT
DTSTART;TZID=Europe/Berlin:20260426T150000
DTEND;TZID=Europe/Berlin:20260426T170000
DTSTAMP:20260422T140415
CREATED:20260226T194356Z
LAST-MODIFIED:20260226T194356Z
UID:9959-1777215600-1777222800@kirche-velbert.de
SUMMARY:Kunst und Kirche – Mut kreativ entdecken
DESCRIPTION:Kunst und Kirche – Mut kreativ entdecken\nOffenes Atelier der Diakonie Aprath\nNach einem thematischen Impuls zum Thema „Mut“ sind die Teilnehmenden eingeladen\, das Thema künstlerisch umzusetzen. Eine fachkundige Anleitung erhalten sie durch die Mitarbeiterinnen und Mitarbeiter des Offenen Ateliers. Alle Materialien und Farben werden zur Verfügung gestellt. \nIm Anschluss gibt es Snacks\, Getränke und Zeit für Gespräche über Gott und die Welt.\nEin integratives Angebot in Kooperation mit dem Offenen Atelier der Diakonie Aprath.
URL:https://kirche-velbert.de/veranstaltung/kunst-und-kirche-mut-kreativ-entdecken/
LOCATION:Diakonie Aprath\, Diakonissenweg 13\, Wülfrath\, 42489
ATTACH;FMTTYPE=image/jpeg:https://kirche-velbert.de/wp-content/uploads/dasein-rund-e1772133285254.jpg
ORGANIZER;CN="Erprobungsraum dasein":MAILTO:juliane.engert@ekir.de
END:VEVENT
BEGIN:VEVENT
DTSTART;TZID=Europe/Berlin:20260506T090000
DTEND;TZID=Europe/Berlin:20260506T100000
DTSTAMP:20260422T140415
CREATED:20260226T194804Z
LAST-MODIFIED:20260226T194804Z
UID:9962-1778058000-1778061600@kirche-velbert.de
SUMMARY:Kaffee und Klönen
DESCRIPTION:Kaffee und Klönen\nBäckerei Hosselmann im Kaufland Heiligenhaus\, Velberter Str. 38-44\, 42579 Heiligenhaus \nEin offenes Format zum Plaudern über Gott und die Welt – ernsthaft\, tiefgründig oder ganz alltagsnah.\nPfarrerin Juliane Engert ist vor Ort\, jede und jeder kann sich dazusetzen.
URL:https://kirche-velbert.de/veranstaltung/kaffee-und-kloenen/
LOCATION:NRW
CATEGORIES:Café
ATTACH;FMTTYPE=image/jpeg:https://kirche-velbert.de/wp-content/uploads/dasein-rund-e1772133285254.jpg
ORGANIZER;CN="Erprobungsraum dasein":MAILTO:juliane.engert@ekir.de
END:VEVENT
BEGIN:VEVENT
DTSTART;TZID=Europe/Berlin:20260514T110000
DTEND;TZID=Europe/Berlin:20260514T110000
DTSTAMP:20260422T140415
CREATED:20260207T191429Z
LAST-MODIFIED:20260207T191429Z
UID:9703-1778756400-1778756400@kirche-velbert.de
SUMMARY:Open Air Gottesdienst an der Christuskirche
DESCRIPTION:Mitgeschöpflichkeits-Gottesdienst im Freien an der Christuskirche. \nGott hat uns die Tiere als Mitgeschöpfe an die Seite gestellt und uns Menschen die Fürsorge für sie aufgetragen. Wir wollen Tiere als Mitgeschöpfe würdigen und sie in den Segen Gottes einschließen. Das Fest Christi Himmelfahrt symbolisiert die Verbindung zwischen Himmel und Erde. \nWer will\, kann dazu gerne einen Hund\, Katze\, Kaninchen oder andere Tiere mitbringen\, sofern sie nicht nervös reagieren.\nHaustiere können sehr treue Lebensbegleiter sein. Und das Wohlergehen von Tieren geht uns alle an. Kinder können auch ihre Kuscheltiere mitbringen. \nLeitung: Pfrin. Schmerkotte\, Pfr. Dr. Jeschke \nIn diesem Jahr gedenken wir des 800. Todestages von Franz von Assisi\nFranz stammte aus wohlhabenden Verhältnissen\, gab aber den geerbten Reichtum auf\, um ein Leben ganz nach dem Vorbild von Jesus Christus zu leben. Seine Lebensweise zog gleichgesinnte Gefährten an. Bald bildete sich eine Kommunität\, ein geistlicher Orden. Dieser Orden wuchs rasch an und wurde nach Franz von Assisi dann „Franziskanerorden“ genannt. In materieller Armut wollte er es Jesus gleichtun. Dies führte ihn in Opposition zum damaligen Klerus. Konsequente Nachfolge Jesu Christi: Franz von Assisi inspirierte damit auch bedeutende evangelische Gestalten wie Johannes Calvin\, Gerhard Tersteegen und Dietrich Bonhoeffer. Und er wollte nicht nur den Menschen\, sondern auch Tieren\, Pflanzen und der gesamten Natur das Evangelium von der Liebe Christi verkündigen. So wurde er Schutzpatron der Tiere\, der Umwelt und Ökologie. \nIn dem Gebet “Sonnengesang”\, dass Franz von Assisi im 13. Jahrhundert verfasste\, beschrieb er die Tiere als Brüder und Schwestern des Menschen und den Dank an die Natur\, ihre Phänomene und Wunder.
URL:https://kirche-velbert.de/veranstaltung/open-air-gottesdienst-an-der-christuskirche/
LOCATION:Christuskirche\, Grünstr. 27\, Velbert\, NRW\, 42551
CATEGORIES:Gottesdienst
ATTACH;FMTTYPE=image/png:https://kirche-velbert.de/wp-content/uploads/Christuskirche-001_calendar.png
END:VEVENT
BEGIN:VEVENT
DTSTART;TZID=Europe/Berlin:20260514T110000
DTEND;TZID=Europe/Berlin:20260514T110000
DTSTAMP:20260422T140415
CREATED:20260214T122950Z
LAST-MODIFIED:20260214T122950Z
UID:9902-1778756400-1778756400@kirche-velbert.de
SUMMARY:Open Air Mitgeschöpflichkeits-Gottesdienst
DESCRIPTION:In diesem Jahr gedenken wir des 800. Todestages von Franz von Assisi. \nFranz stammte aus wohlhabenden Verhältnissen\, gab aber den geerbten Reichtum auf\, um ein Leben ganz nach dem Vorbild von Jesus Christus zu leben. Seine Lebensweise zog gleichgesinnte Gefährten an. Bald bildete sich eine Kommunität\, ein geistlicher Orden. Dieser Orden wuchs rasch an und wurde nach Franz von Assisi dann „Franziskanerorden“ genannt. In materieller Armut wollte er es Jesus gleichtun. Dies führte ihn in Opposition zum damaligen Klerus. Konsequente Nachfolge Jesu Christi: Franz von Assisi inspirierte damit auch bedeutende evangelische Gestalten wie Johannes Calvin\, Gerhard Tersteegen und Dietrich Bonhoeffer. Und er wollte nicht nur den Menschen\, sondern auch Tieren\, Pflanzen und der gesamten Natur das Evangelium von der Liebe Christi verkündigen. \nSo wurde er Schutzpatron der Tiere\, der Umwelt und Ökologie. In dem Gebet “Sonnengesang”\, dass Franz von Assisi im 13. Jahrhundert verfasste\, beschrieb er die Tiere als Brüder und Schwestern des Menschen und den Dank an die Natur\, ihre Phänomene und Wunder. Wir lassen uns in diesem Jahr von ihm inspirieren mit verschiedenen Aktionen: \nAn Christi Himmelfahrt\, den 14. Mai\, feiern wir um 11 Uhr einen Mitgeschöpflichkeits-Gottesdienst im Freien an der Christuskirche. Gott hat uns die Tiere als Mitgeschöpfe an die Seite gestellt und uns Menschen die Fürsorge für sie aufgetragen. Wir wollen Tiere als Mitgeschöpfe würdigen und sie in den Segen Gottes einschließen. Das Fest Christi Himmelfahrt symbolisiert die Verbindung zwischen Himmel und Erde. \nWer will\, kann dazu gerne einen Hund\, Katze\, Kaninchen oder andere Tiere mitbringen\, sofern sie nicht nervös reagieren. Haustiere können sehr treue Lebensbegleiter sein. Und das Wohlergehen von Tieren geht uns alle an. \nKinder können auch ihre Kuscheltiere mitbringen.
URL:https://kirche-velbert.de/veranstaltung/open-air-mitgeschoepflichkeits-gottesdienst/
LOCATION:Christuskirche\, Grünstr. 27\, Velbert\, NRW\, 42551
CATEGORIES:Gottesdienst,Ökumene
ATTACH;FMTTYPE=image/png:https://kirche-velbert.de/wp-content/uploads/Christuskirche-001_calendar.png
END:VEVENT
BEGIN:VEVENT
DTSTART;TZID=Europe/Berlin:20260529T193000
DTEND;TZID=Europe/Berlin:20260529T193000
DTSTAMP:20260422T140415
CREATED:20260210T194402Z
LAST-MODIFIED:20260210T194402Z
UID:9834-1780083000-1780083000@kirche-velbert.de
SUMMARY:Gott und die Welt
DESCRIPTION:„Gott und die Welt“ ist ein offener Gesprächskreis für alle\, die sich gerne über theologische und andere aktuelle Themen unterhalten. \nKommen Sie gerne dazu\, Sie müssen kein Vorwissen mitbringen. \nAnsprechpartnerin: Pfarrerin Maret Schmerkotte\,\nTel.: 02051-607036\, maret.schmerkotte@kirche-velbert.de
URL:https://kirche-velbert.de/veranstaltung/gott-und-die-welt-11/
LOCATION:Gemeindehaus Oststraße\, Oststr. 59\, Velbert\, NRW\, 42551
CATEGORIES:Gesprächskreis
ATTACH;FMTTYPE=image/jpeg:https://kirche-velbert.de/wp-content/uploads/Toetterkreis_calendar.jpeg
END:VEVENT
BEGIN:VEVENT
DTSTART;TZID=Europe/Berlin:20260816T100000
DTEND;TZID=Europe/Berlin:20260816T100000
DTSTAMP:20260422T140415
CREATED:20260214T123229Z
LAST-MODIFIED:20260214T123229Z
UID:9904-1786874400-1786874400@kirche-velbert.de
SUMMARY:Kräuter-Gottesdienst
DESCRIPTION:In diesem Jahr gedenken wir des 800. Todestages von Franz von Assisi. \nFranz stammte aus wohlhabenden Verhältnissen\, gab aber den geerbten Reichtum auf\, um ein Leben ganz nach dem Vorbild von Jesus Christus zu leben. Seine Lebensweise zog gleichgesinnte Gefährten an. Bald bildete sich eine Kommunität\, ein geistlicher Orden. Dieser Orden wuchs rasch an und wurde nach Franz von Assisi dann „Franziskanerorden“ genannt. In materieller Armut wollte er es Jesus gleichtun. Dies führte ihn in Opposition zum damaligen Klerus. Konsequente Nachfolge Jesu Christi: Franz von Assisi inspirierte damit auch bedeutende evangelische Gestalten wie Johannes Calvin\, Gerhard Tersteegen und Dietrich Bonhoeffer. Und er wollte nicht nur den Menschen\, sondern auch Tieren\, Pflanzen und der gesamten Natur das Evangelium von der Liebe Christi verkündigen. \nSo wurde er Schutzpatron der Tiere\, der Umwelt und Ökologie. In dem Gebet “Sonnengesang”\, dass Franz von Assisi im 13. Jahrhundert verfasste\, beschrieb er die Tiere als Brüder und Schwestern des Menschen und den Dank an die Natur\, ihre Phänomene und Wunder. Wir lassen uns in diesem Jahr von ihm inspirieren mit verschiedenen Aktionen: \nAm Sonntag\, den 16. August feiern wir einen besonderen Kräuter-Gottesdienst auf Tönisheide\, in dem wir Dank sagen für die Heilkräfte der Kräuter und unsere Wertschätzung der Natur zum Ausdruck bringen.
URL:https://kirche-velbert.de/veranstaltung/kraeuter-gottesdienst/
LOCATION:Ev. Kirche Tönisheide\, Kuhlendahler Str. 35\, Velbert\, NRW\, 42553
CATEGORIES:Gottesdienst,Ökumene
ATTACH;FMTTYPE=image/png:https://kirche-velbert.de/wp-content/uploads/Kirche-Toenisheide-001_2b_calendar.png
END:VEVENT
END:VCALENDAR