BEGIN:VCALENDAR
VERSION:2.0
PRODID:-//Kirche-Velbert.de - ECPv6.15.20//NONSGML v1.0//EN
CALSCALE:GREGORIAN
METHOD:PUBLISH
X-ORIGINAL-URL:https://kirche-velbert.de
X-WR-CALDESC:Veranstaltungen für Kirche-Velbert.de
REFRESH-INTERVAL;VALUE=DURATION:PT1H
X-Robots-Tag:noindex
X-PUBLISHED-TTL:PT1H
BEGIN:VTIMEZONE
TZID:Europe/Berlin
BEGIN:DAYLIGHT
TZOFFSETFROM:+0100
TZOFFSETTO:+0200
TZNAME:CEST
DTSTART:20250330T010000
END:DAYLIGHT
BEGIN:STANDARD
TZOFFSETFROM:+0200
TZOFFSETTO:+0100
TZNAME:CET
DTSTART:20251026T010000
END:STANDARD
BEGIN:DAYLIGHT
TZOFFSETFROM:+0100
TZOFFSETTO:+0200
TZNAME:CEST
DTSTART:20260329T010000
END:DAYLIGHT
BEGIN:STANDARD
TZOFFSETFROM:+0200
TZOFFSETTO:+0100
TZNAME:CET
DTSTART:20261025T010000
END:STANDARD
BEGIN:DAYLIGHT
TZOFFSETFROM:+0100
TZOFFSETTO:+0200
TZNAME:CEST
DTSTART:20270328T010000
END:DAYLIGHT
BEGIN:STANDARD
TZOFFSETFROM:+0200
TZOFFSETTO:+0100
TZNAME:CET
DTSTART:20271031T010000
END:STANDARD
END:VTIMEZONE
BEGIN:VEVENT
DTSTART;TZID=Europe/Berlin:20260422T150000
DTEND;TZID=Europe/Berlin:20260422T163000
DTSTAMP:20260422T043116
CREATED:20260210T185644Z
LAST-MODIFIED:20260210T185644Z
UID:9815-1776870000-1776875400@kirche-velbert.de
SUMMARY:Mittwochscafé
DESCRIPTION:Unser Gesprächskreis trifft sich im 14-tägigen Rhythmus mittwochs von 15.00Uhr bis 16.30Uhr im Gemeindehaus Oststraße. \n\nTina Jung mit der Line dance – Gruppe\n\n\nEs erwartet Sie ein Programm mit Kaffee und Kuchen\, Klönen\, Singen\, Spielen und spannenden Themen. Das Miteinander ist fröhlich und nett. Sie sind herzlich eingeladen\, auch ohne Anmeldung vorbei zu kommen.
URL:https://kirche-velbert.de/veranstaltung/mittwochscafe-14/
LOCATION:Gemeindehaus Oststraße\, Oststr. 59\, Velbert\, NRW\, 42551
CATEGORIES:Café,Gesprächskreis
ATTACH;FMTTYPE=image/jpeg:https://kirche-velbert.de/wp-content/uploads/Spielen_Senioren_calendar.jpeg
END:VEVENT
BEGIN:VEVENT
DTSTART;TZID=Europe/Berlin:20260506T150000
DTEND;TZID=Europe/Berlin:20260506T163000
DTSTAMP:20260422T043116
CREATED:20260210T190134Z
LAST-MODIFIED:20260210T190134Z
UID:9818-1778079600-1778085000@kirche-velbert.de
SUMMARY:Mittwochscafé
DESCRIPTION:Unser Gesprächskreis trifft sich im 14-tägigen Rhythmus mittwochs von 15.00Uhr bis 16.30Uhr im Gemeindehaus Oststraße. \n\n„Döt on dat – Wir höaren Velberter Platt“ mit Gerhard Sandrock\n\n\nEs erwartet Sie ein Programm mit Kaffee und Kuchen\, Klönen\, Singen\, Spielen und spannenden Themen. Das Miteinander ist fröhlich und nett. Sie sind herzlich eingeladen\, auch ohne Anmeldung vorbei zu kommen.
URL:https://kirche-velbert.de/veranstaltung/mittwochscafe-15/
LOCATION:Gemeindehaus Oststraße\, Oststr. 59\, Velbert\, NRW\, 42551
CATEGORIES:Café,Gesprächskreis
ATTACH;FMTTYPE=image/jpeg:https://kirche-velbert.de/wp-content/uploads/Spielen_Senioren_calendar.jpeg
END:VEVENT
BEGIN:VEVENT
DTSTART;TZID=Europe/Berlin:20260520T150000
DTEND;TZID=Europe/Berlin:20260520T163000
DTSTAMP:20260422T043116
CREATED:20260210T190235Z
LAST-MODIFIED:20260210T190235Z
UID:9820-1779289200-1779294600@kirche-velbert.de
SUMMARY:Mittwochscafé
DESCRIPTION:Unser Gesprächskreis trifft sich im 14-tägigen Rhythmus mittwochs von 15.00Uhr bis 16.30Uhr im Gemeindehaus Oststraße. \n\nEin Nachmittag mit Martin Schmerkotte\n\n\nEs erwartet Sie ein Programm mit Kaffee und Kuchen\, Klönen\, Singen\, Spielen und spannenden Themen. Das Miteinander ist fröhlich und nett. Sie sind herzlich eingeladen\, auch ohne Anmeldung vorbei zu kommen.
URL:https://kirche-velbert.de/veranstaltung/mittwochscafe-16/
LOCATION:Gemeindehaus Oststraße\, Oststr. 59\, Velbert\, NRW\, 42551
CATEGORIES:Café,Gesprächskreis
ATTACH;FMTTYPE=image/jpeg:https://kirche-velbert.de/wp-content/uploads/Spielen_Senioren_calendar.jpeg
END:VEVENT
BEGIN:VEVENT
DTSTART;TZID=Europe/Berlin:20260527T150000
DTEND;TZID=Europe/Berlin:20260527T163000
DTSTAMP:20260422T043116
CREATED:20260210T190406Z
LAST-MODIFIED:20260210T190406Z
UID:9822-1779894000-1779899400@kirche-velbert.de
SUMMARY:Mittwochscafé
DESCRIPTION:Unser Gesprächskreis trifft sich im 14-tägigen Rhythmus mittwochs von 15.00Uhr bis 16.30Uhr im Gemeindehaus Oststraße. \n\nSeniorengeburtstagsfeier – bitte melden Sie sich bei den Küster*innen an\n\n\nEs erwartet Sie ein Programm mit Kaffee und Kuchen\, Klönen\, Singen\, Spielen und spannenden Themen. Das Miteinander ist fröhlich und nett. Sie sind herzlich eingeladen\, auch ohne Anmeldung vorbei zu kommen.
URL:https://kirche-velbert.de/veranstaltung/mittwochscafe-17/
LOCATION:Gemeindehaus Oststraße\, Oststr. 59\, Velbert\, NRW\, 42551
CATEGORIES:Café,Gesprächskreis
ATTACH;FMTTYPE=image/jpeg:https://kirche-velbert.de/wp-content/uploads/Spielen_Senioren_calendar.jpeg
END:VEVENT
END:VCALENDAR