BEGIN:VCALENDAR
VERSION:2.0
PRODID:-//Kirche-Velbert.de - ECPv6.15.20//NONSGML v1.0//EN
CALSCALE:GREGORIAN
METHOD:PUBLISH
X-WR-CALNAME:Kirche-Velbert.de
X-ORIGINAL-URL:https://kirche-velbert.de
X-WR-CALDESC:Veranstaltungen für Kirche-Velbert.de
REFRESH-INTERVAL;VALUE=DURATION:PT1H
X-Robots-Tag:noindex
X-PUBLISHED-TTL:PT1H
BEGIN:VTIMEZONE
TZID:Europe/Berlin
BEGIN:DAYLIGHT
TZOFFSETFROM:+0100
TZOFFSETTO:+0200
TZNAME:CEST
DTSTART:20240331T010000
END:DAYLIGHT
BEGIN:STANDARD
TZOFFSETFROM:+0200
TZOFFSETTO:+0100
TZNAME:CET
DTSTART:20241027T010000
END:STANDARD
BEGIN:DAYLIGHT
TZOFFSETFROM:+0100
TZOFFSETTO:+0200
TZNAME:CEST
DTSTART:20250330T010000
END:DAYLIGHT
BEGIN:STANDARD
TZOFFSETFROM:+0200
TZOFFSETTO:+0100
TZNAME:CET
DTSTART:20251026T010000
END:STANDARD
BEGIN:DAYLIGHT
TZOFFSETFROM:+0100
TZOFFSETTO:+0200
TZNAME:CEST
DTSTART:20260329T010000
END:DAYLIGHT
BEGIN:STANDARD
TZOFFSETFROM:+0200
TZOFFSETTO:+0100
TZNAME:CET
DTSTART:20261025T010000
END:STANDARD
END:VTIMEZONE
BEGIN:VEVENT
DTSTART;TZID=Europe/Berlin:20251024T150000
DTEND;TZID=Europe/Berlin:20251024T173000
DTSTAMP:20260422T234816
CREATED:20250802T155428Z
LAST-MODIFIED:20250802T155428Z
UID:7934-1761318000-1761327000@kirche-velbert.de
SUMMARY:Café Globus
DESCRIPTION:freitags lädt Café Globus zum fröhlichen Miteinander – Stadtlotsen\, Freundinnen von FairTrade-Kaffee\, gutem selbstgebackenem Kuchen – ein. \nGenauere Informationen finden Sie auf der Webseite unserer Café’s.
URL:https://kirche-velbert.de/veranstaltung/cafe-globus-55/
LOCATION:Gemeindehaus Oststraße\, Oststr. 59\, Velbert\, NRW\, 42551
CATEGORIES:Café
ATTACH;FMTTYPE=image/png:https://kirche-velbert.de/wp-content/uploads/Logo_Cafe_Globus_calendar.png
END:VEVENT
BEGIN:VEVENT
DTSTART;TZID=Europe/Berlin:20251031T150000
DTEND;TZID=Europe/Berlin:20251031T173000
DTSTAMP:20260422T234817
CREATED:20250802T155519Z
LAST-MODIFIED:20250802T155519Z
UID:7936-1761922800-1761931800@kirche-velbert.de
SUMMARY:Café Globus
DESCRIPTION:freitags lädt Café Globus zum fröhlichen Miteinander – Stadtlotsen\, Freundinnen von FairTrade-Kaffee\, gutem selbstgebackenem Kuchen – ein. \nGenauere Informationen finden Sie auf der Webseite unserer Café’s.
URL:https://kirche-velbert.de/veranstaltung/cafe-globus-56/
LOCATION:Gemeindehaus Oststraße\, Oststr. 59\, Velbert\, NRW\, 42551
CATEGORIES:Café
ATTACH;FMTTYPE=image/png:https://kirche-velbert.de/wp-content/uploads/Logo_Cafe_Globus_calendar.png
END:VEVENT
END:VCALENDAR