BEGIN:VCALENDAR
VERSION:2.0
PRODID:-//Kirche-Velbert.de - ECPv6.15.20//NONSGML v1.0//EN
CALSCALE:GREGORIAN
METHOD:PUBLISH
X-ORIGINAL-URL:https://kirche-velbert.de
X-WR-CALDESC:Veranstaltungen für Kirche-Velbert.de
REFRESH-INTERVAL;VALUE=DURATION:PT1H
X-Robots-Tag:noindex
X-PUBLISHED-TTL:PT1H
BEGIN:VTIMEZONE
TZID:Europe/Berlin
BEGIN:DAYLIGHT
TZOFFSETFROM:+0100
TZOFFSETTO:+0200
TZNAME:CEST
DTSTART:20240331T010000
END:DAYLIGHT
BEGIN:STANDARD
TZOFFSETFROM:+0200
TZOFFSETTO:+0100
TZNAME:CET
DTSTART:20241027T010000
END:STANDARD
BEGIN:DAYLIGHT
TZOFFSETFROM:+0100
TZOFFSETTO:+0200
TZNAME:CEST
DTSTART:20250330T010000
END:DAYLIGHT
BEGIN:STANDARD
TZOFFSETFROM:+0200
TZOFFSETTO:+0100
TZNAME:CET
DTSTART:20251026T010000
END:STANDARD
BEGIN:DAYLIGHT
TZOFFSETFROM:+0100
TZOFFSETTO:+0200
TZNAME:CEST
DTSTART:20260329T010000
END:DAYLIGHT
BEGIN:STANDARD
TZOFFSETFROM:+0200
TZOFFSETTO:+0100
TZNAME:CET
DTSTART:20261025T010000
END:STANDARD
END:VTIMEZONE
BEGIN:VEVENT
DTSTART;TZID=Europe/Berlin:20251101T100000
DTEND;TZID=Europe/Berlin:20251101T100000
DTSTAMP:20260422T141221
CREATED:20250825T185333Z
LAST-MODIFIED:20250825T185333Z
UID:8246-1761991200-1761991200@kirche-velbert.de
SUMMARY:Rudi's Kinderkirche
DESCRIPTION:Er ist wieder da! Der freche Rabe Rudi … heute um 10.00Uhr in der Markuskirche.\nIhr seid herzlich eingeladen\, ihm mal auf den Schnabel zu fühlen und zu hören\, was er so für einen Quatsch erzählt. \nInformationen findet ihr auf der Webseite von Rudi.
URL:https://kirche-velbert.de/veranstaltung/rudis-kinderkirche/
LOCATION:Markuskirche\, Losenburger Weg 40\, Velbert\, NRW\, 42549
CATEGORIES:Familie,Gottesdienst
ATTACH;FMTTYPE=image/jpeg:https://kirche-velbert.de/wp-content/uploads/Rudi_calendar.jpg
END:VEVENT
BEGIN:VEVENT
DTSTART;TZID=Europe/Berlin:20251101T150000
DTEND;TZID=Europe/Berlin:20251101T170000
DTSTAMP:20260422T141221
CREATED:20250727T130328Z
LAST-MODIFIED:20250727T130328Z
UID:7637-1762009200-1762016400@kirche-velbert.de
SUMMARY:Basteln für den Basar
DESCRIPTION:Der Basarkreis bastelt alle 14 Tage samstags von 15.00-17.00 Uhr im Gemeindehaus Oststr.\nGebastelt wird nur in der zweiten Jahreshälfte.\nWir würden uns sehr über neue\,  auch jüngere Mitglieder in dieser Gruppe freuen. Wer Lust hat an den Samstagen mit uns oder auch zu Hause für den Basar zu basteln ist herzlich willkommen!\nGebastelt werden weihnachtliche Dekoration\, kleine Geschenke und Mitbringsel. Es werden auch kleine Leckereien für die Weihnachtszeit gebacken und gekocht. Wer Interesse an Strickarbeiten (Socken) hat\, ist auch herzlich willkommen.
URL:https://kirche-velbert.de/veranstaltung/basteln-fuer-den-basar-8/
LOCATION:Gemeindehaus Oststraße\, Oststr. 59\, Velbert\, NRW\, 42551
ATTACH;FMTTYPE=image/jpeg:https://kirche-velbert.de/wp-content/uploads/FUNDUS_5915_Klama-26-KKL14102214411864783-scr-e1753620908236.jpg
END:VEVENT
BEGIN:VEVENT
DTSTART;TZID=Europe/Berlin:20251102T103000
DTEND;TZID=Europe/Berlin:20251102T103000
DTSTAMP:20260422T141221
CREATED:20250825T185958Z
LAST-MODIFIED:20250825T185958Z
UID:8248-1762079400-1762079400@kirche-velbert.de
SUMMARY:Gottesdienst mit anschl. Gemeindeversammlung
DESCRIPTION:Der Gottesdienst wird von Pfr. Schmidt geleitet. \nAnschließend findet die Gemeindeversammlung statt. \nDu bist Gemeinde!\nJa\, unsere Gemeinde besteht nicht nur aus einem Leitungsgremium\, sondern auch aus vielen anderen interessierten und engagierten Menschen. Deshalb laden wir ganz herzlich zur nächsten Gemeindeversammlung ein: \nEs wird viele Informationen geben\, aber auch Zeit zum Nachfragen und Diskutieren. Und nicht zuletzt freuen wir uns auch über neue Ideen und Anregungen! \nFolgende Tagesordnung ist vorgesehen: \n1. Bericht über die Fusion \n2. Finanzen \n3. Immobilien \n4. Friedhöfe \n5. Öffentlichkeitsarbeit \n5.1. Vorstellung des Gottesdienstkonzepts \n5.2. Weiterentwicklung des Gemeindebriefes und der Internetseite \n6. Verschiedenes \nUnd wer noch Zeit hat\, ist im Anschluss herzlich zu einem Mittagsimbiss eingeladen!
URL:https://kirche-velbert.de/veranstaltung/gottesdienst-mit-anschl-gemeindeversammlung/
LOCATION:Markuskirche\, Losenburger Weg 40\, Velbert\, NRW\, 42549
CATEGORIES:Gottesdienst
END:VEVENT
BEGIN:VEVENT
DTSTART;TZID=Europe/Berlin:20251104T180000
DTEND;TZID=Europe/Berlin:20251104T180000
DTSTAMP:20260422T141221
CREATED:20250708T140641Z
LAST-MODIFIED:20250708T153356Z
UID:7497-1762279200-1762279200@kirche-velbert.de
SUMMARY:"Loslassen" - ein ganz besonderer Gottesdienst
DESCRIPTION:Unter dem Motto „Loslassen – PartnerIn\, Job\, Traum. Segen für die Zeit danach“ steht ein ganz besonderer Gottesdienst\, der am Dienstag\, 4. November\, ab 18 Uhr in der Kirche auf Tönisheide stattfinden wird. Pfarrer Dr. Dieter Jeschke und das Team des Erprobungsraums „dasein“ laden alle ein\, die loslassen wollen oder müssen – sei es eine Partnerschaft\, ein ganz persönlicher Traum oder etwas ganz anderes. An mehreren Stationen gibt es die Möglichkeit\, sich zu trennen\, das Gute im Vergangenen zu sehen\, aufzuschreiben und aufzulösen\, was auf dem Herzen liegt – und dann vielleicht vorsichtig nach vorn zu blicken. \nIm Anschluss an den Gottesdienst gibt es Punsch\, Glühwein und Weckmänner. Um besser planen zu können\, freuen wir uns über eine Anmeldung an dasein@evangelisches-niederberg.de\, auch spontane Besucherinnen und Besucher  – selbstverständlich aus allen Gemeinden des Kirchenkreises – sind aber herzlich willkommen.
URL:https://kirche-velbert.de/veranstaltung/loslassen-ein-ganz-besonderer-gottesdienst/
LOCATION:Ev. Kirche Tönisheide\, Kuhlendahler Str. 35\, Velbert\, NRW\, 42553
CATEGORIES:Café,Gottesdienst
ATTACH;FMTTYPE=image/jpeg:https://kirche-velbert.de/wp-content/uploads/cal_Haende-e1751988619239.jpg
END:VEVENT
BEGIN:VEVENT
DTSTART;TZID=Europe/Berlin:20251105T103000
DTEND;TZID=Europe/Berlin:20251105T103000
DTSTAMP:20260422T141221
CREATED:20250728T154310Z
LAST-MODIFIED:20251014T154912Z
UID:7697-1762338600-1762338600@kirche-velbert.de
SUMMARY:Seniorenheim-Gottesdienst für die Bewohner Rheinischer Hof
DESCRIPTION:Pfr. i.R. Bendokat
URL:https://kirche-velbert.de/veranstaltung/seniorenheim-gottesdienst-rheinischer-hof-8/
LOCATION:Seniorenheim Residenz\, Rheinischer Hof\, Velbert\, Kolpingstraße 5-7\, Velbert\, 42551
CATEGORIES:Gottesdienst
ATTACH;FMTTYPE=image/jpeg:https://kirche-velbert.de/wp-content/uploads/Kirchenfenster_calendar.jpeg
END:VEVENT
BEGIN:VEVENT
DTSTART;TZID=Europe/Berlin:20251105T150000
DTEND;TZID=Europe/Berlin:20251105T163000
DTSTAMP:20260422T141221
CREATED:20250726T164426Z
LAST-MODIFIED:20250726T164426Z
UID:7616-1762354800-1762360200@kirche-velbert.de
SUMMARY:Mittwochscafé
DESCRIPTION:Unser Gesprächskreis trifft sich im 14-tägigen Rhythmus mittwochs von 15.00Uhr bis 16.30Uhr im Gemeindehaus Oststraße. \nEs erwartet Sie ein Programm mit Kaffee und Kuchen\, Klönen\, Singen\, Spielen und spannenden Themen. Das Miteinander ist fröhlich und nett. Sie sind herzlich eingeladen\, auch ohne Anmeldung vorbei zu kommen. \nmit Frau Wasner-Guth
URL:https://kirche-velbert.de/veranstaltung/mittwochscafe-4/
LOCATION:Gemeindehaus Oststraße\, Oststr. 59\, Velbert\, NRW\, 42551
ATTACH;FMTTYPE=image/jpeg:https://kirche-velbert.de/wp-content/uploads/Spielen_Senioren_calendar.jpeg
END:VEVENT
BEGIN:VEVENT
DTSTART;TZID=Europe/Berlin:20251105T150000
DTEND;TZID=Europe/Berlin:20251105T170000
DTSTAMP:20260422T141221
CREATED:20250626T095933Z
LAST-MODIFIED:20250626T100029Z
UID:7456-1762354800-1762362000@kirche-velbert.de
SUMMARY:Café Böhnchen
DESCRIPTION:für Frauen und Männer\, im Ev. Gemeindehaus\, mit Rosalie Zech und Pastor Dieter Jeschke. \nDas Cafè Böhnchen ist entstanden aus dem Frauentreff. Alle zwei Wochen machen wir uns einen gemütlichen Nachmittag von 15 bis 17 Uhr. An jedem ersten Mittwoch des Monats mit Programm\, an jedem 3. Mittwoch des Monats als gemütlicher Tötter-Treff. \nWir freuen uns über weitere Helferinnen und Helfer.
URL:https://kirche-velbert.de/veranstaltung/cafe-boehnchen-19/
LOCATION:Gemeindehaus Kuhlendahler Straße\, Kuhlendahler Str. 34\, Velbert\, 42553\, Deutschland
CATEGORIES:Café
ATTACH;FMTTYPE=image/jpeg:https://kirche-velbert.de/wp-content/uploads/Toetterkreis_calendar.jpeg
END:VEVENT
BEGIN:VEVENT
DTSTART;TZID=Europe/Berlin:20251105T190000
DTEND;TZID=Europe/Berlin:20251105T203000
DTSTAMP:20260422T141221
CREATED:20250726T161350Z
LAST-MODIFIED:20251027T185411Z
UID:7586-1762369200-1762374600@kirche-velbert.de
SUMMARY:Theologie für Nicht-Theologen
DESCRIPTION:„Widerstand und Ergebung“\nVor 80 Jahren wurde der ev. Pfarrer Dietrich Bonhoeffer durch das Nazi-Regime umgebracht.\nBonhoeffer war beteiligt am aktiven Widerstand gegen Hitler.\nIn der Zeit seiner Gestapo-Haft hat er zahlreiche Gedichte\, Texte und Lieder geschrieben.\nBis heute sind deren Gedanken Motivation und Hilfe zur aktiven Hoffnung. \nWir lesen gemeinsam einen Abschnitt aus seinem Hauptwerk „Widerstand und Ergebung“ und kommen darüber ins Gespräch.
URL:https://kirche-velbert.de/veranstaltung/theologie-fuer-nicht-theologen-4/
LOCATION:Gemeindehaus Kuhlendahler Straße\, Kuhlendahler Str. 34\, Velbert\, 42553\, Deutschland
ATTACH;FMTTYPE=image/jpeg:https://kirche-velbert.de/wp-content/uploads/Bibel_calendar.jpeg
END:VEVENT
BEGIN:VEVENT
DTSTART;TZID=Europe/Berlin:20251106T093000
DTEND;TZID=Europe/Berlin:20251106T113000
DTSTAMP:20260422T141221
CREATED:20251020T180317Z
LAST-MODIFIED:20251020T180317Z
UID:8708-1762421400-1762428600@kirche-velbert.de
SUMMARY:Krümelcafé
DESCRIPTION:Jeden 1. und 3. Donnerstag im Monat. \nDas Krümelcafé lädt herzlich zu einer Auszeit vom Alltag für Jedermann in die Kuhlendahler Str. 34 ein. Geöffnet von 9:30 bis 11:30 Uhr. \nEntspannen bei einer Tasse Kaffee/ Tee und Leckereien\, Austausch und Kontakte knüpfen\, während die Kleinen spielen. \nWeitere Informationen …
URL:https://kirche-velbert.de/veranstaltung/kruemelcafe/
LOCATION:Gemeindehaus Kuhlendahler Straße\, Kuhlendahler Str. 34\, Velbert\, 42553\, Deutschland
CATEGORIES:Café
ATTACH;FMTTYPE=image/jpeg:https://kirche-velbert.de/wp-content/uploads/Toetterkreis_calendar.jpeg
END:VEVENT
BEGIN:VEVENT
DTSTART;TZID=Europe/Berlin:20251106T101500
DTEND;TZID=Europe/Berlin:20251106T101500
DTSTAMP:20260422T141221
CREATED:20250728T153731Z
LAST-MODIFIED:20251014T155019Z
UID:7689-1762424100-1762424100@kirche-velbert.de
SUMMARY:Seniorenheim-Gottesdienst für die Bewohner Domizil
DESCRIPTION:Pfr. i.R. Bendokat
URL:https://kirche-velbert.de/veranstaltung/seniorenheim-gottesdienst-domizil-8/
LOCATION:Seniorenheim Domizil\, Velbert\, Friedrichstr. 191\, Velbert\, 42551
CATEGORIES:Gottesdienst
ATTACH;FMTTYPE=image/jpeg:https://kirche-velbert.de/wp-content/uploads/Kirchenfenster_calendar.jpeg
END:VEVENT
BEGIN:VEVENT
DTSTART;TZID=Europe/Berlin:20251106T190000
DTEND;TZID=Europe/Berlin:20251106T190000
DTSTAMP:20260422T141221
CREATED:20250814T180101Z
LAST-MODIFIED:20250814T180101Z
UID:8148-1762455600-1762455600@kirche-velbert.de
SUMMARY:Frauen-Kontaktkreis
DESCRIPTION:Herzliche Einladung zu unserem Gesprächskreis für Frauen!Alle 14 Tage – jeweils donnerstags in den ungeraden Wochen – treffen wir uns um 19 Uhr in der Markuskirche\, .Freuen Sie sich auf interessante Themen\, anregende Vorträge und Zeit für Austausch in angenehmer Runde.Wir freuen uns auf Ihr Kommen! \nKontakt: Christel Krey\, 02051 82119
URL:https://kirche-velbert.de/veranstaltung/frauen-kontaktkreis-6/
LOCATION:Markuskirche\, Losenburger Weg 40\, Velbert\, NRW\, 42549
CATEGORIES:Gesprächskreis
ATTACH;FMTTYPE=image/jpeg:https://kirche-velbert.de/wp-content/uploads/Toetterkreis_calendar.jpeg
END:VEVENT
BEGIN:VEVENT
DTSTART;TZID=Europe/Berlin:20251107T150000
DTEND;TZID=Europe/Berlin:20251107T173000
DTSTAMP:20260422T141221
CREATED:20250802T155543Z
LAST-MODIFIED:20250802T155543Z
UID:7938-1762527600-1762536600@kirche-velbert.de
SUMMARY:Café Globus
DESCRIPTION:freitags lädt Café Globus zum fröhlichen Miteinander – Stadtlotsen\, Freundinnen von FairTrade-Kaffee\, gutem selbstgebackenem Kuchen – ein. \nGenauere Informationen finden Sie auf der Webseite unserer Café’s.
URL:https://kirche-velbert.de/veranstaltung/cafe-globus-57/
LOCATION:Gemeindehaus Oststraße\, Oststr. 59\, Velbert\, NRW\, 42551
CATEGORIES:Café
ATTACH;FMTTYPE=image/png:https://kirche-velbert.de/wp-content/uploads/Logo_Cafe_Globus_calendar.png
END:VEVENT
BEGIN:VEVENT
DTSTART;TZID=Europe/Berlin:20251107T180000
DTEND;TZID=Europe/Berlin:20251107T180000
DTSTAMP:20260422T141221
CREATED:20250728T140820Z
LAST-MODIFIED:20250728T140820Z
UID:7683-1762538400-1762538400@kirche-velbert.de
SUMMARY:Gottesdienst im Helios-Klinikum
DESCRIPTION:Stracke \n\nim Andachtsraum des neuen Hauses\, 4. Etage\, Raum A 4172 \n\n 
URL:https://kirche-velbert.de/veranstaltung/gottesdienst-im-helios-klinikum-32/
LOCATION:Helios Klinikum Niederberg\, Robert-Koch-Straße 2\, Velbert\, 42549\, Germany
CATEGORIES:Gottesdienst
ATTACH;FMTTYPE=image/jpeg:https://kirche-velbert.de/wp-content/uploads/Mini_Altar_calendar.jpeg
END:VEVENT
BEGIN:VEVENT
DTSTART;TZID=Europe/Berlin:20251107T190000
DTEND;TZID=Europe/Berlin:20251107T190000
DTSTAMP:20260422T141221
CREATED:20250825T201320Z
LAST-MODIFIED:20250825T201320Z
UID:8314-1762542000-1762542000@kirche-velbert.de
SUMMARY:Ökumenisches Friedensgebet
DESCRIPTION:Jeden Freitag beten wir für Frieden in der Welt. Beginn ist jeweils um 19 Uhr in der Taufkapelle der Christuskirche. \nAlle\, die ein Zeichen für Frieden setzen und gemeinsam beten möchten\, sind herzlich eingeladen.
URL:https://kirche-velbert.de/veranstaltung/oekumenisches-friedensgebet-10/
LOCATION:Christuskirche\, Grünstr. 27\, Velbert\, NRW\, 42551
CATEGORIES:Ökumene
ATTACH;FMTTYPE=image/jpeg:https://kirche-velbert.de/wp-content/uploads/Friedenstaube_calendar.jpeg
END:VEVENT
BEGIN:VEVENT
DTSTART;TZID=Europe/Berlin:20251108T143000
DTEND;TZID=Europe/Berlin:20251108T173000
DTSTAMP:20260422T141221
CREATED:20250106T211158Z
LAST-MODIFIED:20250106T211158Z
UID:6322-1762612200-1762623000@kirche-velbert.de
SUMMARY:Kindertrödelmarkt
DESCRIPTION:Der CVJM Tönisheide veranstaltet wieder seinen beliebten Kindertrödelmarkt\, der an einem Wochenende (Samstag und Sonntag) stattfindet\, wobei an beiden Tagen unterschiedliche Trödelstände anzutreffen sind. Für Verpflegung wird ebenfalls gesorgt. \nWeitere Informationen\, auch zur Anmeldung\, sind hier zu finden: https://www.cvjm-toenisheide.de/veranstaltungen/kindertrödelmärkte/
URL:https://kirche-velbert.de/veranstaltung/kindertroedelmarkt-3/
LOCATION:CVJM Tönisheide\, Kuhlendahler Str. 34\, Velbert\, 42553\, Deutschland
CATEGORIES:Familie
ORGANIZER;CN="CVJM T%C3%B6nisheide":MAILTO:info@cvjm-toenisheide.de
END:VEVENT
BEGIN:VEVENT
DTSTART;TZID=Europe/Berlin:20251108T150000
DTEND;TZID=Europe/Berlin:20251108T170000
DTSTAMP:20260422T141221
CREATED:20250727T130353Z
LAST-MODIFIED:20250727T130353Z
UID:7639-1762614000-1762621200@kirche-velbert.de
SUMMARY:Basteln für den Basar
DESCRIPTION:Der Basarkreis bastelt alle 14 Tage samstags von 15.00-17.00 Uhr im Gemeindehaus Oststr.\nGebastelt wird nur in der zweiten Jahreshälfte.\nWir würden uns sehr über neue\,  auch jüngere Mitglieder in dieser Gruppe freuen. Wer Lust hat an den Samstagen mit uns oder auch zu Hause für den Basar zu basteln ist herzlich willkommen!\nGebastelt werden weihnachtliche Dekoration\, kleine Geschenke und Mitbringsel. Es werden auch kleine Leckereien für die Weihnachtszeit gebacken und gekocht. Wer Interesse an Strickarbeiten (Socken) hat\, ist auch herzlich willkommen.
URL:https://kirche-velbert.de/veranstaltung/basteln-fuer-den-basar-9/
LOCATION:Gemeindehaus Oststraße\, Oststr. 59\, Velbert\, NRW\, 42551
ATTACH;FMTTYPE=image/jpeg:https://kirche-velbert.de/wp-content/uploads/FUNDUS_5915_Klama-26-KKL14102214411864783-scr-e1753620908236.jpg
END:VEVENT
BEGIN:VEVENT
DTSTART;TZID=Europe/Berlin:20251109T100000
DTEND;TZID=Europe/Berlin:20251109T100000
DTSTAMP:20260422T141221
CREATED:20250825T190500Z
LAST-MODIFIED:20250825T190856Z
UID:8253-1762682400-1762682400@kirche-velbert.de
SUMMARY:Gottesdienst
DESCRIPTION:Pfrin. Schmerkotte
URL:https://kirche-velbert.de/veranstaltung/gottesdienst-13/
LOCATION:Ev. Kirche Tönisheide\, Kuhlendahler Str. 35\, Velbert\, NRW\, 42553
CATEGORIES:Gottesdienst
ATTACH;FMTTYPE=image/png:https://kirche-velbert.de/wp-content/uploads/Kirche-Toenisheide-001_2b_calendar.png
END:VEVENT
BEGIN:VEVENT
DTSTART;TZID=Europe/Berlin:20251109T110000
DTEND;TZID=Europe/Berlin:20251109T110000
DTSTAMP:20260422T141221
CREATED:20250825T190723Z
LAST-MODIFIED:20250825T190723Z
UID:8255-1762686000-1762686000@kirche-velbert.de
SUMMARY:Gottesdienst
DESCRIPTION:Pfr. Flaig
URL:https://kirche-velbert.de/veranstaltung/gottesdienst-21/
LOCATION:Gemeindehaus Oststraße\, Oststr. 59\, Velbert\, NRW\, 42551
CATEGORIES:Gottesdienst
ATTACH;FMTTYPE=image/png:https://kirche-velbert.de/wp-content/uploads/2023/12/Gemeindehaus_Kirche.png
END:VEVENT
BEGIN:VEVENT
DTSTART;TZID=Europe/Berlin:20251109T113000
DTEND;TZID=Europe/Berlin:20251109T150000
DTSTAMP:20260422T141221
CREATED:20250106T211214Z
LAST-MODIFIED:20250106T211214Z
UID:6323-1762687800-1762700400@kirche-velbert.de
SUMMARY:Kindertrödelmarkt
DESCRIPTION:Der CVJM Tönisheide veranstaltet wieder seinen beliebten Kindertrödelmarkt\, der an einem Wochenende (Samstag und Sonntag) stattfindet\, wobei an beiden Tagen unterschiedliche Trödelstände anzutreffen sind. Für Verpflegung wird ebenfalls gesorgt. \nWeitere Informationen\, auch zur Anmeldung\, sind hier zu finden: https://www.cvjm-toenisheide.de/veranstaltungen/kindertrödelmärkte/
URL:https://kirche-velbert.de/veranstaltung/kindertroedelmarkt-4/
LOCATION:CVJM Tönisheide\, Kuhlendahler Str. 34\, Velbert\, 42553\, Deutschland
CATEGORIES:Familie
ORGANIZER;CN="CVJM T%C3%B6nisheide":MAILTO:info@cvjm-toenisheide.de
END:VEVENT
BEGIN:VEVENT
DTSTART;TZID=Europe/Berlin:20251109T190000
DTEND;TZID=Europe/Berlin:20251109T190000
DTSTAMP:20260422T141221
CREATED:20250730T154730Z
LAST-MODIFIED:20250914T083520Z
UID:7769-1762714800-1762714800@kirche-velbert.de
SUMMARY:Kammerkonzert mit dem Attimo-Quartett
DESCRIPTION:Kammermusik und insbesondere das Streichquartett als Formation gelten in der musikalischen Praxis in gewisser Weise als die Königsdisziplin unter den Musikwerken. \nDas Essener „Attimo-Quartett“\, ein junges aufstrebendes Ensemble\, gegründet im Jahr 2021\, gastiert nun zum ersten Mal in Velbert. Es stellt sich dem Publikum mit einem klassisch-romantischen Musikprogramm vor. Es musizieren Gjergii Lalazi und Evelyn Kupper\, Violine; Alexander Saeger\, Viola und Katja Denzler Violoncello. \nNeben Dvoraks „Amerikanischem Quartett“ steht als Hauptwerk W. A. Mozarts Klavierquartett g-moll KV 478 im Vordergrund. Weiterhin sind Werke von Beethoven und Borodin zu hören. Als Gäste wirken an diesem Abend auch Birgitt Saeger\, Violoncello\, und Klaus Saeger\, Klavier mit. \n  \nDer Eintritt ist frei. Um eine Spende wird gebeten.
URL:https://kirche-velbert.de/veranstaltung/kammerkonzert-mit-dem-attimo-quartett/
LOCATION:Gemeindehaus Oststraße\, Oststr. 59\, Velbert\, NRW\, 42551
ATTACH;FMTTYPE=image/jpeg:https://kirche-velbert.de/wp-content/uploads/FUNDUS_4403_fundus_grafik_konzerte-scr-e1756150503175.jpg
END:VEVENT
BEGIN:VEVENT
DTSTART;VALUE=DATE:20251110
DTEND;VALUE=DATE:20251118
DTSTAMP:20260422T141221
CREATED:20251024T150000Z
LAST-MODIFIED:20250625T190030Z
UID:7398-1762732800-1763423999@kirche-velbert.de
SUMMARY:Weihnachten im Schuhkarton - Abgabewoche
DESCRIPTION:Jetzt ist es soweit. Die Abgabewoche für die Aktion Weihnachten im Schuhkarton hat begonnen. \nDie Abgabestellen können Sie hier einsehen.
URL:https://kirche-velbert.de/veranstaltung/weihnachten-im-schuhkarton-abgabewoche/
LOCATION:NRW
END:VEVENT
BEGIN:VEVENT
DTSTART;TZID=Europe/Berlin:20251113T180000
DTEND;TZID=Europe/Berlin:20251113T180000
DTSTAMP:20260422T141221
CREATED:20251102T133939Z
LAST-MODIFIED:20251105T100738Z
UID:8791-1763056800-1763056800@kirche-velbert.de
SUMMARY:Jährliche Mitgliederversammlung Förderverein Christuskirche
DESCRIPTION:Am Donnerstag\, dem 13.11.2025 um 18:00 Uhr laden wir zu unserer jährlichen Mitgliederversammlung in die Christuskirche ein. Dazu sind nicht nur Mitglieder herzlich willkommen\, auch Gäste können gerne teilnehmen! Im Jahresrückblick berichten wir über unsere Aktivitäten\, es finden Wahlen zum Vorstand und Beisitzern statt und wir informieren über geplante Vorhaben. \n  \nUnser Christuskirchen-Kalender 2026 hat bereits viel Interesse eingebracht\, sodass wir eine Nachbestellung getätigt haben. Interessenten können ihn für € 15\,00 erhalten; Mitglieder des Fördervereins Christuskirche – oder die\, die es werden – für € 10\,00. Erhältlich ist er im Gemeindehaus Oststraße\, nach den Gottesdiensten in der Alten Kirche\, in der Christuskirche und in der ev. Kirche Tönisheide. Auch liegt er in der Touristinformation im Foyer des Schloss- und Beschlägemuseums aus. Im November und Dezember wird er auch in vielen Veranstaltungen der Hoffnungsgemeinde Velbert angeboten – natürlich auch in der Adventskirche (Alte Kirche) während des Weihnachtsmarktes.
URL:https://kirche-velbert.de/veranstaltung/jaehrliche-mitgliederversammlung-foerderverein-christuskirche/
LOCATION:Christuskirche\, Grünstr. 27\, Velbert\, NRW\, 42551
CATEGORIES:Aktuelles
ATTACH;FMTTYPE=image/jpeg:https://kirche-velbert.de/wp-content/uploads/Kalender-Christuskirche-Deckblatt-e1762090964468.jpg
END:VEVENT
BEGIN:VEVENT
DTSTART;TZID=Europe/Berlin:20251113T193000
DTEND;TZID=Europe/Berlin:20251113T193000
DTSTAMP:20260422T141221
CREATED:20250726T162421Z
LAST-MODIFIED:20250726T162421Z
UID:7599-1763062200-1763062200@kirche-velbert.de
SUMMARY:Bibelgesprächskreis
DESCRIPTION:Zu unserem Bibelgesprächskreis laden wir herzlich ein. Lernen Sie die spirituelle Welt des Johannesevangeliums kennen. Bringen Sie nach Möglichkeit eine Bibel mit. \nDas Johannesevangelium übt eine Faszination aus\, denn in ihm macht Jesus prägnante Aussagen über sich selbst wie „Ich bin der Weg und die Wahrheit und das Leben“\, „Ich bin der Weinstock\, ihr seid die Reben“ und „Ich bin das Brot des Lebens; wer zu mir kommt\, wird nie mehr hungern“. \nNeben Selbstaussagen und Monologen Jesu finden sich auch berühmte Dialoge im vierten Evangelium\, etwa das Gespräch mit der samaritanischen Frau am Jakobsbrunnen\, mit Maria Magdalena im Garten nach der Auferstehung oder als er Petrus dreimal fragt\, ob dieser ihn liebe. Seien Sie herzlich eingeladen\, mit uns dieser besonderen Welt nachzuspüren. \nJesus wäscht den Jüngern die Füße (Joh 13\, 1-20) \nmit Pfarrer Dr. Dieter Jeschke
URL:https://kirche-velbert.de/veranstaltung/bibelgespraechskreis-16/
LOCATION:Gemeindehaus Oststraße\, Oststr. 59\, Velbert\, NRW\, 42551
ATTACH;FMTTYPE=image/jpeg:https://kirche-velbert.de/wp-content/uploads/Bibel_calendar.jpeg
END:VEVENT
BEGIN:VEVENT
DTSTART;TZID=Europe/Berlin:20251113T193000
DTEND;TZID=Europe/Berlin:20251113T210000
DTSTAMP:20260422T141221
CREATED:20250726T111811Z
LAST-MODIFIED:20250726T111811Z
UID:7574-1763062200-1763067600@kirche-velbert.de
SUMMARY:Frauenabendkreis
DESCRIPTION:Körnige Gedanken zum Sand \nAnsprechpartnerin Ulrike Wasner-Guth\, Tel.: 02051 62384.
URL:https://kirche-velbert.de/veranstaltung/frauenabendkreis-7/
LOCATION:Gemeindehaus Oststraße\, Oststr. 59\, Velbert\, NRW\, 42551
ATTACH;FMTTYPE=image/png:https://kirche-velbert.de/wp-content/uploads/Frauenabendkreis_calendar.png
END:VEVENT
BEGIN:VEVENT
DTSTART;TZID=Europe/Berlin:20251114T150000
DTEND;TZID=Europe/Berlin:20251114T173000
DTSTAMP:20260422T141221
CREATED:20250802T155638Z
LAST-MODIFIED:20250802T155638Z
UID:7940-1763132400-1763141400@kirche-velbert.de
SUMMARY:Café Globus
DESCRIPTION:freitags lädt Café Globus zum fröhlichen Miteinander – Stadtlotsen\, Freundinnen von FairTrade-Kaffee\, gutem selbstgebackenem Kuchen – ein. \nGenauere Informationen finden Sie auf der Webseite unserer Café’s.
URL:https://kirche-velbert.de/veranstaltung/cafe-globus-58/
LOCATION:Gemeindehaus Oststraße\, Oststr. 59\, Velbert\, NRW\, 42551
CATEGORIES:Café
ATTACH;FMTTYPE=image/png:https://kirche-velbert.de/wp-content/uploads/Logo_Cafe_Globus_calendar.png
END:VEVENT
BEGIN:VEVENT
DTSTART;TZID=Europe/Berlin:20251114T160000
DTEND;TZID=Europe/Berlin:20251114T160000
DTSTAMP:20260422T141221
CREATED:20250825T191143Z
LAST-MODIFIED:20250825T191143Z
UID:8257-1763136000-1763136000@kirche-velbert.de
SUMMARY:Picknickdecken-Gottesdienst
DESCRIPTION:Picknickdecken-Gottesdienst!\n\nEin fröhlicher Gottesdienst für Familien und Kinder.\n\nMit Liedern\, biblischen Geschichten\, die kindgerecht erzählt werden\, einem Impuls für Erwachsene und natürlich einem kleinen Picknick!\n\nDazu bringt jede Familie eine Picknickdecke mit!\n\nHerzliche Einladung!\n\nLeitung: Pfr’in Maret Schmerkotte
URL:https://kirche-velbert.de/veranstaltung/picknickdecken-gottesdienst-2/
LOCATION:Gemeindehaus Oststraße\, Oststr. 59\, Velbert\, NRW\, 42551
CATEGORIES:Familie
ATTACH;FMTTYPE=image/jpeg:https://kirche-velbert.de/wp-content/uploads/Familie_Picknickdecke_Kalender.jpeg
END:VEVENT
BEGIN:VEVENT
DTSTART;TZID=Europe/Berlin:20251114T180000
DTEND;TZID=Europe/Berlin:20251114T180000
DTSTAMP:20260422T141221
CREATED:20250728T140121Z
LAST-MODIFIED:20250728T140121Z
UID:7677-1763143200-1763143200@kirche-velbert.de
SUMMARY:Gottesdienst im Helios-Klinikum
DESCRIPTION:Jansen / Matzey-Striewski \n\nim Andachtsraum des neuen Hauses\, 4. Etage\, Raum A 4172 \n\nÖkumenischer Gottesdienst zum Gedächtnis der Verstorbenen im Helios Klinikum Niederberg \nAm Freitag\, den 14. November 2025 um 18.00 Uhr\, wird in einem ökumenischen Gottesdienst im Helios Klinikum Niederberg der im Haus Verstorbenen gedacht\, mit denen wir als Seelsorgende in Kontakt waren. Bitte melden Sie sich telefonisch bei Pfarrerin Dorothea Matzey-Striewski (0202 3099169)\, wenn Sie keine persönliche Einladung erhalten haben sollten und möchten\, dass der Name Ihres verstorbenen Angehörigen genannt wird.
URL:https://kirche-velbert.de/veranstaltung/gottesdienst-im-helios-klinikum-29/
LOCATION:Helios Klinikum Niederberg\, Robert-Koch-Straße 2\, Velbert\, 42549\, Germany
CATEGORIES:Gottesdienst
ATTACH;FMTTYPE=image/jpeg:https://kirche-velbert.de/wp-content/uploads/Mini_Altar_calendar.jpeg
END:VEVENT
BEGIN:VEVENT
DTSTART;TZID=Europe/Berlin:20251114T183000
DTEND;TZID=Europe/Berlin:20251114T183000
DTSTAMP:20260422T141221
CREATED:20250825T191424Z
LAST-MODIFIED:20250825T191424Z
UID:8259-1763145000-1763145000@kirche-velbert.de
SUMMARY:CVJM Jugend-Gottesdienst
DESCRIPTION:Team der CVJMs
URL:https://kirche-velbert.de/veranstaltung/cvjm-jugend-gottesdienst-2/
LOCATION:Apostelkirche\, Dalbecksbaum\, Wichernstr. 1\, Velbert\, NRW\, 42549\, Deutschland
CATEGORIES:Gottesdienst
ATTACH;FMTTYPE=image/jpeg:https://kirche-velbert.de/wp-content/uploads/Kirchenfenster_calendar.jpeg
END:VEVENT
BEGIN:VEVENT
DTSTART;TZID=Europe/Berlin:20251114T190000
DTEND;TZID=Europe/Berlin:20251114T190000
DTSTAMP:20260422T141221
CREATED:20250728T190304Z
LAST-MODIFIED:20250728T190304Z
UID:7714-1763146800-1763146800@kirche-velbert.de
SUMMARY:Workshop: Spiritualität für den Alltag
DESCRIPTION:Spiritualität für den Alltag \nWorkshop mit Pastor Dieter Jeschke am Freitag\, den 14.November\, 19 Uhr\, Markuskirche \nDie Evangelische Kirche kennt einen großen Schatz an Ideen\, wie wir in unserem „normalen Alltag“ unseren Glauben gestalten können. \nDa gibt es Segensgesten in der Familie. Ein kleiner fester Ort in der Wohnung kann besonders gestaltet sein\, z. B. mit einer Kerze oder einem Kreuz. Es kann guttun\, abends ein Nachtgebet zu sprechen oder mit einem Morgenlied den Tag zu beginnen. Wenn wir die Feste des Kirchenjahres bewusst erleben\, auch die kleineren wie Michaelis oder den Barbaratag oder Erntedank\, dann können wir spüren\, wie wohltuend die Unterbrechung unserer alltäglichen Geschäftigkeit sein kann. \nBegeben Sie sich mit Pastor Jeschke auf Entdeckungsreise! Sie werden gewiss einiges Neue kennenlernen oder Bekanntes und Bewährtes wiederentdecken. Manche Übungen werden wir ausprobieren\, um zu entdecken\, was jedem Einzelnen guttut.
URL:https://kirche-velbert.de/veranstaltung/workshop-spiritualitaet-fuer-den-alltag/
LOCATION:Markuskirche\, Losenburger Weg 40\, Velbert\, NRW\, 42549
ATTACH;FMTTYPE=image/jpeg:https://kirche-velbert.de/wp-content/uploads/Spiritualitaet-fuer-den-Alltag-scaled-e1753729346329.jpg
END:VEVENT
BEGIN:VEVENT
DTSTART;TZID=Europe/Berlin:20251114T190000
DTEND;TZID=Europe/Berlin:20251114T190000
DTSTAMP:20260422T141221
CREATED:20250825T201341Z
LAST-MODIFIED:20250825T201341Z
UID:8316-1763146800-1763146800@kirche-velbert.de
SUMMARY:Ökumenisches Friedensgebet
DESCRIPTION:Jeden Freitag beten wir für Frieden in der Welt. Beginn ist jeweils um 19 Uhr in der Taufkapelle der Christuskirche. \nAlle\, die ein Zeichen für Frieden setzen und gemeinsam beten möchten\, sind herzlich eingeladen.
URL:https://kirche-velbert.de/veranstaltung/oekumenisches-friedensgebet-11/
LOCATION:Christuskirche\, Grünstr. 27\, Velbert\, NRW\, 42551
CATEGORIES:Ökumene
ATTACH;FMTTYPE=image/jpeg:https://kirche-velbert.de/wp-content/uploads/Friedenstaube_calendar.jpeg
END:VEVENT
END:VCALENDAR