BEGIN:VCALENDAR
VERSION:2.0
PRODID:-//Kirche-Velbert.de - ECPv6.15.20//NONSGML v1.0//EN
CALSCALE:GREGORIAN
METHOD:PUBLISH
X-ORIGINAL-URL:https://kirche-velbert.de
X-WR-CALDESC:Veranstaltungen für Kirche-Velbert.de
REFRESH-INTERVAL;VALUE=DURATION:PT1H
X-Robots-Tag:noindex
X-PUBLISHED-TTL:PT1H
BEGIN:VTIMEZONE
TZID:Europe/Berlin
BEGIN:DAYLIGHT
TZOFFSETFROM:+0100
TZOFFSETTO:+0200
TZNAME:CEST
DTSTART:20240331T010000
END:DAYLIGHT
BEGIN:STANDARD
TZOFFSETFROM:+0200
TZOFFSETTO:+0100
TZNAME:CET
DTSTART:20241027T010000
END:STANDARD
BEGIN:DAYLIGHT
TZOFFSETFROM:+0100
TZOFFSETTO:+0200
TZNAME:CEST
DTSTART:20250330T010000
END:DAYLIGHT
BEGIN:STANDARD
TZOFFSETFROM:+0200
TZOFFSETTO:+0100
TZNAME:CET
DTSTART:20251026T010000
END:STANDARD
BEGIN:DAYLIGHT
TZOFFSETFROM:+0100
TZOFFSETTO:+0200
TZNAME:CEST
DTSTART:20260329T010000
END:DAYLIGHT
BEGIN:STANDARD
TZOFFSETFROM:+0200
TZOFFSETTO:+0100
TZNAME:CET
DTSTART:20261025T010000
END:STANDARD
END:VTIMEZONE
BEGIN:VEVENT
DTSTART;TZID=Europe/Berlin:20251105T150000
DTEND;TZID=Europe/Berlin:20251105T163000
DTSTAMP:20260422T161729
CREATED:20250726T164426Z
LAST-MODIFIED:20250726T164426Z
UID:7616-1762354800-1762360200@kirche-velbert.de
SUMMARY:Mittwochscafé
DESCRIPTION:Unser Gesprächskreis trifft sich im 14-tägigen Rhythmus mittwochs von 15.00Uhr bis 16.30Uhr im Gemeindehaus Oststraße. \nEs erwartet Sie ein Programm mit Kaffee und Kuchen\, Klönen\, Singen\, Spielen und spannenden Themen. Das Miteinander ist fröhlich und nett. Sie sind herzlich eingeladen\, auch ohne Anmeldung vorbei zu kommen. \nmit Frau Wasner-Guth
URL:https://kirche-velbert.de/veranstaltung/mittwochscafe-4/
LOCATION:Gemeindehaus Oststraße\, Oststr. 59\, Velbert\, NRW\, 42551
ATTACH;FMTTYPE=image/jpeg:https://kirche-velbert.de/wp-content/uploads/Spielen_Senioren_calendar.jpeg
END:VEVENT
BEGIN:VEVENT
DTSTART;TZID=Europe/Berlin:20251105T150000
DTEND;TZID=Europe/Berlin:20251105T170000
DTSTAMP:20260422T161729
CREATED:20250626T095933Z
LAST-MODIFIED:20250626T100029Z
UID:7456-1762354800-1762362000@kirche-velbert.de
SUMMARY:Café Böhnchen
DESCRIPTION:für Frauen und Männer\, im Ev. Gemeindehaus\, mit Rosalie Zech und Pastor Dieter Jeschke. \nDas Cafè Böhnchen ist entstanden aus dem Frauentreff. Alle zwei Wochen machen wir uns einen gemütlichen Nachmittag von 15 bis 17 Uhr. An jedem ersten Mittwoch des Monats mit Programm\, an jedem 3. Mittwoch des Monats als gemütlicher Tötter-Treff. \nWir freuen uns über weitere Helferinnen und Helfer.
URL:https://kirche-velbert.de/veranstaltung/cafe-boehnchen-19/
LOCATION:Gemeindehaus Kuhlendahler Straße\, Kuhlendahler Str. 34\, Velbert\, 42553\, Deutschland
CATEGORIES:Café
ATTACH;FMTTYPE=image/jpeg:https://kirche-velbert.de/wp-content/uploads/Toetterkreis_calendar.jpeg
END:VEVENT
BEGIN:VEVENT
DTSTART;TZID=Europe/Berlin:20251106T093000
DTEND;TZID=Europe/Berlin:20251106T113000
DTSTAMP:20260422T161729
CREATED:20251020T180317Z
LAST-MODIFIED:20251020T180317Z
UID:8708-1762421400-1762428600@kirche-velbert.de
SUMMARY:Krümelcafé
DESCRIPTION:Jeden 1. und 3. Donnerstag im Monat. \nDas Krümelcafé lädt herzlich zu einer Auszeit vom Alltag für Jedermann in die Kuhlendahler Str. 34 ein. Geöffnet von 9:30 bis 11:30 Uhr. \nEntspannen bei einer Tasse Kaffee/ Tee und Leckereien\, Austausch und Kontakte knüpfen\, während die Kleinen spielen. \nWeitere Informationen …
URL:https://kirche-velbert.de/veranstaltung/kruemelcafe/
LOCATION:Gemeindehaus Kuhlendahler Straße\, Kuhlendahler Str. 34\, Velbert\, 42553\, Deutschland
CATEGORIES:Café
ATTACH;FMTTYPE=image/jpeg:https://kirche-velbert.de/wp-content/uploads/Toetterkreis_calendar.jpeg
END:VEVENT
BEGIN:VEVENT
DTSTART;TZID=Europe/Berlin:20251107T150000
DTEND;TZID=Europe/Berlin:20251107T173000
DTSTAMP:20260422T161729
CREATED:20250802T155543Z
LAST-MODIFIED:20250802T155543Z
UID:7938-1762527600-1762536600@kirche-velbert.de
SUMMARY:Café Globus
DESCRIPTION:freitags lädt Café Globus zum fröhlichen Miteinander – Stadtlotsen\, Freundinnen von FairTrade-Kaffee\, gutem selbstgebackenem Kuchen – ein. \nGenauere Informationen finden Sie auf der Webseite unserer Café’s.
URL:https://kirche-velbert.de/veranstaltung/cafe-globus-57/
LOCATION:Gemeindehaus Oststraße\, Oststr. 59\, Velbert\, NRW\, 42551
CATEGORIES:Café
ATTACH;FMTTYPE=image/png:https://kirche-velbert.de/wp-content/uploads/Logo_Cafe_Globus_calendar.png
END:VEVENT
BEGIN:VEVENT
DTSTART;TZID=Europe/Berlin:20251114T150000
DTEND;TZID=Europe/Berlin:20251114T173000
DTSTAMP:20260422T161729
CREATED:20250802T155638Z
LAST-MODIFIED:20250802T155638Z
UID:7940-1763132400-1763141400@kirche-velbert.de
SUMMARY:Café Globus
DESCRIPTION:freitags lädt Café Globus zum fröhlichen Miteinander – Stadtlotsen\, Freundinnen von FairTrade-Kaffee\, gutem selbstgebackenem Kuchen – ein. \nGenauere Informationen finden Sie auf der Webseite unserer Café’s.
URL:https://kirche-velbert.de/veranstaltung/cafe-globus-58/
LOCATION:Gemeindehaus Oststraße\, Oststr. 59\, Velbert\, NRW\, 42551
CATEGORIES:Café
ATTACH;FMTTYPE=image/png:https://kirche-velbert.de/wp-content/uploads/Logo_Cafe_Globus_calendar.png
END:VEVENT
BEGIN:VEVENT
DTSTART;TZID=Europe/Berlin:20251119T150000
DTEND;TZID=Europe/Berlin:20251119T163000
DTSTAMP:20260422T161729
CREATED:20250726T164529Z
LAST-MODIFIED:20250726T164529Z
UID:7618-1763564400-1763569800@kirche-velbert.de
SUMMARY:Mittwochscafé
DESCRIPTION:Unser Gesprächskreis trifft sich im 14-tägigen Rhythmus mittwochs von 15.00Uhr bis 16.30Uhr im Gemeindehaus Oststraße. \nEs erwartet Sie ein Programm mit Kaffee und Kuchen\, Klönen\, Singen\, Spielen und spannenden Themen. Das Miteinander ist fröhlich und nett. Sie sind herzlich eingeladen\, auch ohne Anmeldung vorbei zu kommen. \nmit der KiTa Glückspilz
URL:https://kirche-velbert.de/veranstaltung/mittwochscafe-5/
LOCATION:Gemeindehaus Oststraße\, Oststr. 59\, Velbert\, NRW\, 42551
ATTACH;FMTTYPE=image/jpeg:https://kirche-velbert.de/wp-content/uploads/Spielen_Senioren_calendar.jpeg
END:VEVENT
BEGIN:VEVENT
DTSTART;TZID=Europe/Berlin:20251119T150000
DTEND;TZID=Europe/Berlin:20251119T170000
DTSTAMP:20260422T161729
CREATED:20250626T100403Z
LAST-MODIFIED:20250626T100403Z
UID:7460-1763564400-1763571600@kirche-velbert.de
SUMMARY:Café Böhnchen
DESCRIPTION:für Frauen und Männer\, im Ev. Gemeindehaus\, mit Rosalie Zech und Pastor Dieter Jeschke. \nDas Cafè Böhnchen ist entstanden aus dem Frauentreff. Alle zwei Wochen machen wir uns einen gemütlichen Nachmittag von 15 bis 17 Uhr. An jedem ersten Mittwoch des Monats mit Programm\, an jedem 3. Mittwoch des Monats als gemütlicher Tötter-Treff. \nWir freuen uns über weitere Helferinnen und Helfer.
URL:https://kirche-velbert.de/veranstaltung/cafe-boehnchen-21/
LOCATION:Gemeindehaus Kuhlendahler Straße\, Kuhlendahler Str. 34\, Velbert\, 42553\, Deutschland
CATEGORIES:Café
ATTACH;FMTTYPE=image/jpeg:https://kirche-velbert.de/wp-content/uploads/Toetterkreis_calendar.jpeg
END:VEVENT
BEGIN:VEVENT
DTSTART;TZID=Europe/Berlin:20251120T093000
DTEND;TZID=Europe/Berlin:20251120T113000
DTSTAMP:20260422T161729
CREATED:20251020T180353Z
LAST-MODIFIED:20251020T180353Z
UID:8710-1763631000-1763638200@kirche-velbert.de
SUMMARY:Krümelcafé
DESCRIPTION:Jeden 1. und 3. Donnerstag im Monat. \nDas Krümelcafé lädt herzlich zu einer Auszeit vom Alltag für Jedermann in die Kuhlendahler Str. 34 ein. Geöffnet von 9:30 bis 11:30 Uhr. \nEntspannen bei einer Tasse Kaffee/ Tee und Leckereien\, Austausch und Kontakte knüpfen\, während die Kleinen spielen. \nWeitere Informationen …
URL:https://kirche-velbert.de/veranstaltung/kruemelcafe-2/
LOCATION:Gemeindehaus Kuhlendahler Straße\, Kuhlendahler Str. 34\, Velbert\, 42553\, Deutschland
CATEGORIES:Café
ATTACH;FMTTYPE=image/jpeg:https://kirche-velbert.de/wp-content/uploads/Toetterkreis_calendar.jpeg
END:VEVENT
BEGIN:VEVENT
DTSTART;TZID=Europe/Berlin:20251121T150000
DTEND;TZID=Europe/Berlin:20251121T173000
DTSTAMP:20260422T161729
CREATED:20250802T155659Z
LAST-MODIFIED:20250802T155659Z
UID:7942-1763737200-1763746200@kirche-velbert.de
SUMMARY:Café Globus
DESCRIPTION:freitags lädt Café Globus zum fröhlichen Miteinander – Stadtlotsen\, Freundinnen von FairTrade-Kaffee\, gutem selbstgebackenem Kuchen – ein. \nGenauere Informationen finden Sie auf der Webseite unserer Café’s.
URL:https://kirche-velbert.de/veranstaltung/cafe-globus-59/
LOCATION:Gemeindehaus Oststraße\, Oststr. 59\, Velbert\, NRW\, 42551
CATEGORIES:Café
ATTACH;FMTTYPE=image/png:https://kirche-velbert.de/wp-content/uploads/Logo_Cafe_Globus_calendar.png
END:VEVENT
BEGIN:VEVENT
DTSTART;TZID=Europe/Berlin:20251122T140000
DTEND;TZID=Europe/Berlin:20251122T160000
DTSTAMP:20260422T161729
CREATED:20251025T105753Z
LAST-MODIFIED:20251025T110124Z
UID:8740-1763820000-1763827200@kirche-velbert.de
SUMMARY:Mediencafé
DESCRIPTION:
URL:https://kirche-velbert.de/veranstaltung/mediencafe/
LOCATION:Gemeindezentrum Bleibergquelle\, Bleibergstrasse 131\, Velbert\, 42551
CATEGORIES:Café
ATTACH;FMTTYPE=image/png:https://kirche-velbert.de/wp-content/uploads/bbq-logo_background-e1761390071788.png
END:VEVENT
BEGIN:VEVENT
DTSTART;TZID=Europe/Berlin:20251123T143000
DTEND;TZID=Europe/Berlin:20251123T163000
DTSTAMP:20260422T161729
CREATED:20250101T193321Z
LAST-MODIFIED:20250101T231428Z
UID:6017-1763908200-1763915400@kirche-velbert.de
SUMMARY:Café Make mit Adventsbasar
DESCRIPTION:Achtung: Terminverlegung wegen des Adventsbasars \nInformationen zur Veranstaltung …
URL:https://kirche-velbert.de/veranstaltung/cafe-make-mit-adventsbasar/
LOCATION:Markuskirche\, Losenburger Weg 40\, Velbert\, NRW\, 42549
CATEGORIES:Café
ATTACH;FMTTYPE=image/png:https://kirche-velbert.de/wp-content/uploads/CafeMake_Kuchen_calendar.png
END:VEVENT
BEGIN:VEVENT
DTSTART;TZID=Europe/Berlin:20251128T150000
DTEND;TZID=Europe/Berlin:20251128T173000
DTSTAMP:20260422T161729
CREATED:20250802T155727Z
LAST-MODIFIED:20250802T155727Z
UID:7944-1764342000-1764351000@kirche-velbert.de
SUMMARY:Café Globus
DESCRIPTION:freitags lädt Café Globus zum fröhlichen Miteinander – Stadtlotsen\, Freundinnen von FairTrade-Kaffee\, gutem selbstgebackenem Kuchen – ein. \nGenauere Informationen finden Sie auf der Webseite unserer Café’s.
URL:https://kirche-velbert.de/veranstaltung/cafe-globus-60/
LOCATION:Gemeindehaus Oststraße\, Oststr. 59\, Velbert\, NRW\, 42551
CATEGORIES:Café
ATTACH;FMTTYPE=image/png:https://kirche-velbert.de/wp-content/uploads/Logo_Cafe_Globus_calendar.png
END:VEVENT
END:VCALENDAR