BEGIN:VCALENDAR
VERSION:2.0
PRODID:-//Kirche-Velbert.de - ECPv6.15.20//NONSGML v1.0//EN
CALSCALE:GREGORIAN
METHOD:PUBLISH
X-WR-CALNAME:Kirche-Velbert.de
X-ORIGINAL-URL:https://kirche-velbert.de
X-WR-CALDESC:Veranstaltungen für Kirche-Velbert.de
REFRESH-INTERVAL;VALUE=DURATION:PT1H
X-Robots-Tag:noindex
X-PUBLISHED-TTL:PT1H
BEGIN:VTIMEZONE
TZID:Europe/Berlin
BEGIN:DAYLIGHT
TZOFFSETFROM:+0100
TZOFFSETTO:+0200
TZNAME:CEST
DTSTART:20240331T010000
END:DAYLIGHT
BEGIN:STANDARD
TZOFFSETFROM:+0200
TZOFFSETTO:+0100
TZNAME:CET
DTSTART:20241027T010000
END:STANDARD
BEGIN:DAYLIGHT
TZOFFSETFROM:+0100
TZOFFSETTO:+0200
TZNAME:CEST
DTSTART:20250330T010000
END:DAYLIGHT
BEGIN:STANDARD
TZOFFSETFROM:+0200
TZOFFSETTO:+0100
TZNAME:CET
DTSTART:20251026T010000
END:STANDARD
BEGIN:DAYLIGHT
TZOFFSETFROM:+0100
TZOFFSETTO:+0200
TZNAME:CEST
DTSTART:20260329T010000
END:DAYLIGHT
BEGIN:STANDARD
TZOFFSETFROM:+0200
TZOFFSETTO:+0100
TZNAME:CET
DTSTART:20261025T010000
END:STANDARD
END:VTIMEZONE
BEGIN:VEVENT
DTSTART;TZID=Europe/Berlin:20251203T103000
DTEND;TZID=Europe/Berlin:20251203T103000
DTSTAMP:20260422T121147
CREATED:20250728T154356Z
LAST-MODIFIED:20251014T155227Z
UID:7699-1764757800-1764757800@kirche-velbert.de
SUMMARY:Seniorenheim-Gottesdienst für die Bewohner Rheinischer Hof
DESCRIPTION:Pfr. i.R. Bendokat
URL:https://kirche-velbert.de/veranstaltung/seniorenheim-gottesdienst-rheinischer-hof-9/
LOCATION:Seniorenheim Residenz\, Rheinischer Hof\, Velbert\, Kolpingstraße 5-7\, Velbert\, 42551
CATEGORIES:Gottesdienst
ATTACH;FMTTYPE=image/jpeg:https://kirche-velbert.de/wp-content/uploads/Kirchenfenster_calendar.jpeg
END:VEVENT
BEGIN:VEVENT
DTSTART;TZID=Europe/Berlin:20251203T140000
DTEND;TZID=Europe/Berlin:20251203T163000
DTSTAMP:20260422T121147
CREATED:20250726T164726Z
LAST-MODIFIED:20250726T164726Z
UID:7620-1764770400-1764779400@kirche-velbert.de
SUMMARY:Mittwochscafé
DESCRIPTION:Unser Gesprächskreis trifft sich im 14-tägigen Rhythmus mittwochs von 15.00Uhr bis 16.30Uhr im Gemeindehaus Oststraße. \nEs erwartet Sie ein Programm mit Kaffee und Kuchen\, Klönen\, Singen\, Spielen und spannenden Themen. Das Miteinander ist fröhlich und nett. Sie sind herzlich eingeladen\, auch ohne Anmeldung vorbei zu kommen. \nab 14.00 Uhr Kaffeetrinken und ab 14.30 Uhr Adventliche Geschichten und Musik mit Ehepaar Clasen
URL:https://kirche-velbert.de/veranstaltung/mittwochscafe-6/
LOCATION:Gemeindehaus Oststraße\, Oststr. 59\, Velbert\, NRW\, 42551
ATTACH;FMTTYPE=image/jpeg:https://kirche-velbert.de/wp-content/uploads/Spielen_Senioren_calendar.jpeg
END:VEVENT
BEGIN:VEVENT
DTSTART;TZID=Europe/Berlin:20251203T150000
DTEND;TZID=Europe/Berlin:20251203T170000
DTSTAMP:20260422T121147
CREATED:20250626T100442Z
LAST-MODIFIED:20250626T100442Z
UID:7462-1764774000-1764781200@kirche-velbert.de
SUMMARY:Café Böhnchen
DESCRIPTION:für Frauen und Männer\, im Ev. Gemeindehaus\, mit Rosalie Zech und Pastor Dieter Jeschke. \nDas Cafè Böhnchen ist entstanden aus dem Frauentreff. Alle zwei Wochen machen wir uns einen gemütlichen Nachmittag von 15 bis 17 Uhr. An jedem ersten Mittwoch des Monats mit Programm\, an jedem 3. Mittwoch des Monats als gemütlicher Tötter-Treff. \nWir freuen uns über weitere Helferinnen und Helfer.
URL:https://kirche-velbert.de/veranstaltung/cafe-boehnchen-22/
LOCATION:Gemeindehaus Kuhlendahler Straße\, Kuhlendahler Str. 34\, Velbert\, 42553\, Deutschland
CATEGORIES:Café
ATTACH;FMTTYPE=image/jpeg:https://kirche-velbert.de/wp-content/uploads/Toetterkreis_calendar.jpeg
END:VEVENT
BEGIN:VEVENT
DTSTART;TZID=Europe/Berlin:20251204T093000
DTEND;TZID=Europe/Berlin:20251204T113000
DTSTAMP:20260422T121147
CREATED:20251020T180423Z
LAST-MODIFIED:20251020T180423Z
UID:8712-1764840600-1764847800@kirche-velbert.de
SUMMARY:Krümelcafé
DESCRIPTION:Jeden 1. und 3. Donnerstag im Monat. \nDas Krümelcafé lädt herzlich zu einer Auszeit vom Alltag für Jedermann in die Kuhlendahler Str. 34 ein. Geöffnet von 9:30 bis 11:30 Uhr. \nEntspannen bei einer Tasse Kaffee/ Tee und Leckereien\, Austausch und Kontakte knüpfen\, während die Kleinen spielen. \nWeitere Informationen …
URL:https://kirche-velbert.de/veranstaltung/kruemelcafe-3/
LOCATION:Gemeindehaus Kuhlendahler Straße\, Kuhlendahler Str. 34\, Velbert\, 42553\, Deutschland
CATEGORIES:Café
ATTACH;FMTTYPE=image/jpeg:https://kirche-velbert.de/wp-content/uploads/Toetterkreis_calendar.jpeg
END:VEVENT
BEGIN:VEVENT
DTSTART;TZID=Europe/Berlin:20251204T101500
DTEND;TZID=Europe/Berlin:20251204T101500
DTSTAMP:20260422T121147
CREATED:20250728T153812Z
LAST-MODIFIED:20251014T155311Z
UID:7691-1764843300-1764843300@kirche-velbert.de
SUMMARY:Seniorenheim-Gottesdienst für die Bewohner Domizil
DESCRIPTION:Pfr. i.R. Bendokat
URL:https://kirche-velbert.de/veranstaltung/seniorenheim-gottesdienst-domizil-9/
LOCATION:Seniorenheim Domizil\, Velbert\, Friedrichstr. 191\, Velbert\, 42551
CATEGORIES:Gottesdienst
ATTACH;FMTTYPE=image/jpeg:https://kirche-velbert.de/wp-content/uploads/Kirchenfenster_calendar.jpeg
END:VEVENT
BEGIN:VEVENT
DTSTART;TZID=Europe/Berlin:20251204T190000
DTEND;TZID=Europe/Berlin:20251204T190000
DTSTAMP:20260422T121147
CREATED:20250814T180204Z
LAST-MODIFIED:20251125T133019Z
UID:8152-1764874800-1764874800@kirche-velbert.de
SUMMARY:Frauen-Kontaktkreis
DESCRIPTION:Herzliche Einladung zu unserem Gesprächskreis für Frauen!Alle 14 Tage – jeweils donnerstags in den ungeraden Wochen – treffen wir uns um 19 Uhr in der Markuskirche.Freuen Sie sich auf interessante Themen\, anregende Vorträge und Zeit für Austausch in angenehmer Runde.Wir freuen uns auf Ihr Kommen! \nKontakt: Christel Krey\, 02051 82119
URL:https://kirche-velbert.de/veranstaltung/frauen-kontaktkreis-8/
LOCATION:Markuskirche\, Losenburger Weg 40\, Velbert\, NRW\, 42549
CATEGORIES:Gesprächskreis
ATTACH;FMTTYPE=image/jpeg:https://kirche-velbert.de/wp-content/uploads/Toetterkreis_calendar.jpeg
END:VEVENT
BEGIN:VEVENT
DTSTART;TZID=Europe/Berlin:20251205T150000
DTEND;TZID=Europe/Berlin:20251205T173000
DTSTAMP:20260422T121147
CREATED:20251125T123918Z
LAST-MODIFIED:20251125T123918Z
UID:8965-1764946800-1764955800@kirche-velbert.de
SUMMARY:Café Globus
DESCRIPTION:freitags lädt Café Globus zum fröhlichen Miteinander – Stadtlotsen\, Freundinnen von FairTrade-Kaffee\, gutem selbstgebackenem Kuchen – ein. \nGenauere Informationen finden Sie auf der Webseite unserer Café’s.
URL:https://kirche-velbert.de/veranstaltung/cafe-globus-42/
LOCATION:Gemeindehaus Oststraße\, Oststr. 59\, Velbert\, NRW\, 42551
CATEGORIES:Café
ATTACH;FMTTYPE=image/png:https://kirche-velbert.de/wp-content/uploads/Logo_Cafe_Globus_calendar.png
END:VEVENT
BEGIN:VEVENT
DTSTART;TZID=Europe/Berlin:20251205T150000
DTEND;TZID=Europe/Berlin:20251205T193000
DTSTAMP:20260422T121147
CREATED:20251116T124504Z
LAST-MODIFIED:20251116T124504Z
UID:8878-1764946800-1764963000@kirche-velbert.de
SUMMARY:Adventskirche - Offene Kirche
DESCRIPTION:Parallel zum Velberter Weihnachtsmarkt am 2. und 3. Adventswochenende ist auch unsere „Alte Kirche“ geöffnet! Das Motto lautet „Zuhören.“ Uns so lädt die adventlich gestaltete Kirche zum Innehalten\, Hören\, Ausprobieren und Entdecken ein. Und zu einem interessanten Programm! Kommen Sie gerne vorbei! \n\n16.00 Gitarrenschülerinnen (Musik- & Kunstschule)\n17.00 Blockflötenensemble (Musik- & Kunstschule)\n18.00 Dieter Jeschke: „Die Heiligen der Weihnachtszeit“\n19.00 Geistlicher Impuls: Pastor Frank Uphoff und Team
URL:https://kirche-velbert.de/veranstaltung/adventskirche-offene-kirche/
LOCATION:Alte Kirche\, Friedrichstr. 158\, Velbert\, NRW\, 42551
CATEGORIES:Familie
ATTACH;FMTTYPE=image/jpeg:https://kirche-velbert.de/wp-content/uploads/Weihnachtsmarkt-Offers_calendar.jpg
END:VEVENT
BEGIN:VEVENT
DTSTART;TZID=Europe/Berlin:20251205T180000
DTEND;TZID=Europe/Berlin:20251205T180000
DTSTAMP:20260422T121147
CREATED:20251125T143814Z
LAST-MODIFIED:20251125T143814Z
UID:9084-1764957600-1764957600@kirche-velbert.de
SUMMARY:Gottesdienst im Helios-Klinikum
DESCRIPTION:Meditative Reihe (2) „beflügelt“ mit Pfrin. Matzey-Striewski \nmit Abendmahl \n\nim Andachtsraum des neuen Hauses\, 4. Etage\, Raum A 4172 \n\n 
URL:https://kirche-velbert.de/veranstaltung/gottesdienst-im-helios-klinikum-10/
LOCATION:Helios Klinikum Niederberg\, Robert-Koch-Straße 2\, Velbert\, 42549\, Germany
CATEGORIES:Gottesdienst
ATTACH;FMTTYPE=image/jpeg:https://kirche-velbert.de/wp-content/uploads/Mini_Altar_calendar.jpeg
END:VEVENT
BEGIN:VEVENT
DTSTART;TZID=Europe/Berlin:20251206T120000
DTEND;TZID=Europe/Berlin:20251206T193000
DTSTAMP:20260422T121147
CREATED:20251116T125353Z
LAST-MODIFIED:20251116T125353Z
UID:8880-1765022400-1765049400@kirche-velbert.de
SUMMARY:Adventskirche - Offene Kirche
DESCRIPTION:Parallel zum Velberter Weihnachtsmarkt am 2. und 3. Adventswochenende ist auch unsere „Alte Kirche“ geöffnet! Das Motto lautet „Zuhören.“ Uns so lädt die adventlich gestaltete Kirche zum Innehalten\, Hören\, Ausprobieren und Entdecken ein. Und zu einem interessanten Programm! Kommen Sie gerne vorbei! \n\n16.00 Kirsten und Lennart Langer: Tasten- & Wortspielereien\n17.00 Chor der Neuapostolischen Kirche\n18.00 Akkordemiker\n19.00 Geistlicher Impuls: Pastor H.-B.Meurer & Theaterteam
URL:https://kirche-velbert.de/veranstaltung/adventskirche-offene-kirche-2/
LOCATION:Alte Kirche\, Friedrichstr. 158\, Velbert\, NRW\, 42551
CATEGORIES:Familie
ATTACH;FMTTYPE=image/jpeg:https://kirche-velbert.de/wp-content/uploads/Weihnachtsmarkt-Offers_calendar.jpg
END:VEVENT
BEGIN:VEVENT
DTSTART;TZID=Europe/Berlin:20251206T150000
DTEND;TZID=Europe/Berlin:20251206T170000
DTSTAMP:20260422T121147
CREATED:20250826T182951Z
LAST-MODIFIED:20250826T182951Z
UID:8350-1765033200-1765040400@kirche-velbert.de
SUMMARY:Adventsfeier für Seniorinnen und Senioren
DESCRIPTION:Adventsfeiern für Seniorinnen und Senioren! \nWir laden herzlich zu den Adventsfeiern in unserer Kirchengemeinde ein. Melden Sie sich bitte bei den Küster*innen an. \nSie dürfen sich auf ein buntes adventliches Programm\, besinnliche Gedanken zum Advent\, gemeinsames Singen\, Musik und Gäste\, die diese Nachmittage mitgestalten werden\, freuen. Und natürlich sollen auch das gemeinsame Kaffeetrinken\, das Gespräch miteinander und die Gemütlichkeit nicht zu kurz kommen. \nMitgestaltet vom belarussischen Balalaikaspieler Sergej Nossow
URL:https://kirche-velbert.de/veranstaltung/adventsfeier-fuer-seniorinnen-und-senioren/
LOCATION:Markuskirche\, Losenburger Weg 40\, Velbert\, NRW\, 42549
ATTACH;FMTTYPE=image/jpeg:https://kirche-velbert.de/wp-content/uploads/FUNDUS_940__scr-e1756232830704.jpg
END:VEVENT
BEGIN:VEVENT
DTSTART;TZID=Europe/Berlin:20251206T150000
DTEND;TZID=Europe/Berlin:20251206T170000
DTSTAMP:20260422T121147
CREATED:20250826T183144Z
LAST-MODIFIED:20250826T183144Z
UID:8354-1765033200-1765040400@kirche-velbert.de
SUMMARY:Adventsfeier für Seniorinnen und Senioren
DESCRIPTION:Adventsfeiern für Seniorinnen und Senioren! \nWir laden herzlich zu den Adventsfeiern in unserer Kirchengemeinde ein. Melden Sie sich bitte bei den Küster*innen an. \nSie dürfen sich auf ein buntes adventliches Programm\, besinnliche Gedanken zum Advent\, gemeinsames Singen\, Musik und Gäste\, die diese Nachmittage mitgestalten werden\, freuen. Und natürlich sollen auch das gemeinsame Kaffeetrinken\, das Gespräch miteinander und die Gemütlichkeit nicht zu kurz kommen. \nMitgestaltet von Kindern der Kindertagesstätte „Unterm Regenbogen“ und dem Posaunenchor des CVJM Tönisheide
URL:https://kirche-velbert.de/veranstaltung/adventsfeier-fuer-seniorinnen-und-senioren-2/
LOCATION:Gemeindehaus Kuhlendahler Straße\, Kuhlendahler Str. 34\, Velbert\, 42553\, Deutschland
ATTACH;FMTTYPE=image/jpeg:https://kirche-velbert.de/wp-content/uploads/FUNDUS_940__scr-e1756232830704.jpg
END:VEVENT
BEGIN:VEVENT
DTSTART;TZID=Europe/Berlin:20251207T103000
DTEND;TZID=Europe/Berlin:20251207T103000
DTSTAMP:20260422T121147
CREATED:20250825T200212Z
LAST-MODIFIED:20250825T200212Z
UID:8290-1765103400-1765103400@kirche-velbert.de
SUMMARY:Gottesdienst mit Chor zum 2. Advent
DESCRIPTION:Pfr. Dr. Hasselhoff
URL:https://kirche-velbert.de/veranstaltung/gottesdienst-mit-chor-zum-2-advent/
LOCATION:Markuskirche\, Losenburger Weg 40\, Velbert\, NRW\, 42549
CATEGORIES:Gottesdienst
ATTACH;FMTTYPE=image/png:https://kirche-velbert.de/wp-content/uploads/Markuskirche_calendar.png
END:VEVENT
BEGIN:VEVENT
DTSTART;TZID=Europe/Berlin:20251207T110000
DTEND;TZID=Europe/Berlin:20251207T110000
DTSTAMP:20260422T121147
CREATED:20251125T180724Z
LAST-MODIFIED:20251126T212838Z
UID:9103-1765105200-1765105200@kirche-velbert.de
SUMMARY:Musikgottesdienst mit Kantorei
DESCRIPTION:Kantorei Velbert + Maryna Semko (Klavier / Orgel) \n© Claus Hens\nWerke von G.F. Händel\, John Rutter\, H. Kaminski u.a. \nPfrin. Schmerkotte
URL:https://kirche-velbert.de/veranstaltung/musikgottesdienst-mit-kantorei/
LOCATION:Alte Kirche\, Friedrichstr. 158\, Velbert\, NRW\, 42551
CATEGORIES:Gottesdienst
ATTACH;FMTTYPE=image/png:https://kirche-velbert.de/wp-content/uploads/Alte-Kirche-005b_calendar.png
END:VEVENT
BEGIN:VEVENT
DTSTART;TZID=Europe/Berlin:20251207T110000
DTEND;TZID=Europe/Berlin:20251207T183000
DTSTAMP:20260422T121147
CREATED:20251116T125442Z
LAST-MODIFIED:20251116T125442Z
UID:8882-1765105200-1765132200@kirche-velbert.de
SUMMARY:Adventskirche - Offene Kirche
DESCRIPTION:Parallel zum Velberter Weihnachtsmarkt am 2. und 3. Adventswochenende ist auch unsere „Alte Kirche“ geöffnet! Das Motto lautet „Zuhören.“ Uns so lädt die adventlich gestaltete Kirche zum Innehalten\, Hören\, Ausprobieren und Entdecken ein. Und zu einem interessanten Programm! Kommen Sie gerne vorbei! \n\n11.00 Musikgottesdienst\n15.00 Orgelmusik mit Frank Schreiber\n16.00 Weihnachtslieder zum Zuhören und Mitsingen (Familie Goschau)\n17.00 Hauschor Johanniterheim\n18.00 Geistlicher Impuls: Pfarrerin Maret Schmerkotte und Gerd Haehnel
URL:https://kirche-velbert.de/veranstaltung/adventskirche-offene-kirche-3/
LOCATION:Alte Kirche\, Friedrichstr. 158\, Velbert\, NRW\, 42551
CATEGORIES:Familie
ATTACH;FMTTYPE=image/jpeg:https://kirche-velbert.de/wp-content/uploads/Weihnachtsmarkt-Offers_calendar.jpg
END:VEVENT
BEGIN:VEVENT
DTSTART;TZID=Europe/Berlin:20251210T150000
DTEND;TZID=Europe/Berlin:20251210T170000
DTSTAMP:20260422T121147
CREATED:20250826T183317Z
LAST-MODIFIED:20250826T183317Z
UID:8356-1765378800-1765386000@kirche-velbert.de
SUMMARY:Adventsfeier für Seniorinnen und Senioren
DESCRIPTION:Adventsfeiern für Seniorinnen und Senioren! \nWir laden herzlich zu den Adventsfeiern in unserer Kirchengemeinde ein. Melden Sie sich bitte bei den Küster*innen an. \nSie dürfen sich auf ein buntes adventliches Programm\, besinnliche Gedanken zum Advent\, gemeinsames Singen\, Musik und Gäste\, die diese Nachmittage mitgestalten werden\, freuen. Und natürlich sollen auch das gemeinsame Kaffeetrinken\, das Gespräch miteinander und die Gemütlichkeit nicht zu kurz kommen.
URL:https://kirche-velbert.de/veranstaltung/adventsfeier-fuer-seniorinnen-und-senioren-3/
LOCATION:Gemeindehaus Oststraße\, Oststr. 59\, Velbert\, NRW\, 42551
ATTACH;FMTTYPE=image/jpeg:https://kirche-velbert.de/wp-content/uploads/FUNDUS_940__scr-e1756232830704.jpg
END:VEVENT
BEGIN:VEVENT
DTSTART;TZID=Europe/Berlin:20251211T170000
DTEND;TZID=Europe/Berlin:20251211T193000
DTSTAMP:20260422T121147
CREATED:20251116T125529Z
LAST-MODIFIED:20251116T125529Z
UID:8884-1765472400-1765481400@kirche-velbert.de
SUMMARY:Adventskirche - Offene Kirche
DESCRIPTION:Parallel zum Velberter Weihnachtsmarkt am 2. und 3. Adventswochenende ist auch unsere „Alte Kirche“ geöffnet! Das Motto lautet „Zuhören.“ Uns so lädt die adventlich gestaltete Kirche zum Innehalten\, Hören\, Ausprobieren und Entdecken ein. Und zu einem interessanten Programm! Kommen Sie gerne vorbei! \n\n17.00 Akkordeonensemble (Musik&Kunstschule)\n18.00 Lutz Strenger\n19.00 Geistlicher Impuls: Pfarrer Peter Schmidt
URL:https://kirche-velbert.de/veranstaltung/adventskirche-offene-kirche-4/
LOCATION:Alte Kirche\, Friedrichstr. 158\, Velbert\, NRW\, 42551
CATEGORIES:Familie
ATTACH;FMTTYPE=image/jpeg:https://kirche-velbert.de/wp-content/uploads/Weihnachtsmarkt-Offers_calendar.jpg
END:VEVENT
BEGIN:VEVENT
DTSTART;TZID=Europe/Berlin:20251211T190000
DTEND;TZID=Europe/Berlin:20251211T190000
DTSTAMP:20260422T121147
CREATED:20251120T201824Z
LAST-MODIFIED:20251120T201939Z
UID:8906-1765479600-1765479600@kirche-velbert.de
SUMMARY:Hirtenfeuer auf Tönisheide
DESCRIPTION:Hirtenfeuer auf Tönisheide\nWie war das damals in der heiligen Nacht\, als die Hirten zusammensaßen? Wehte ein kalter Wind\, so dass die Hirten näher zusammenrückten? Sie zündeten ein Feuer an\, um wilde Tiere fernzuhalten. Und sie erzählten sich Geschichten\, um sich gegenseitig Mut zu machen. Dies möchten wir in unserer Hoffnungsgemeinde auch machen! \nAm Donnerstag\, den 11.Dezember\, ab 19 Uhr\, auf Tönisheide\nWir beginnen mit einer adventlichen Einstimmung in der Kirche. Danach zünden wir vor der Kirche ein Feuer an. Es wärmt uns. Und wir stärken uns mit warmen Getränken und Leckereien vom Grill. Und genau dabei dürfen wir uns Geschichten erzählen\, um uns gegenseitig zu stärken! \nUnser Begegnungsabend wird abgeschlossen durch ein gemeinsames Singen von Adventsliedern in der Kirche. Zu diesem Hirtenfeuer sind alle Gemeindeglieder herzlich eingeladen\, besonders auch unsere Mitarbeiterinnen und Mitarbeiter\, denen wir danken wollen für all ihren Einsatz in unserer Kirchengemeinde. \nBei sehr schlechten Witterungsverhältnissen werden wir flexibel sein für ein alternatives Feier-Programm in der Kirche.
URL:https://kirche-velbert.de/veranstaltung/hirtenfeuer-auf-toenisheide/
LOCATION:Ev. Kirche Tönisheide\, Kuhlendahler Str. 35\, Velbert\, NRW\, 42553
ATTACH;FMTTYPE=image/jpeg:https://kirche-velbert.de/wp-content/uploads/Hirtenfeuer-scaled-e1763669967209.jpeg
END:VEVENT
BEGIN:VEVENT
DTSTART;TZID=Europe/Berlin:20251211T193000
DTEND;TZID=Europe/Berlin:20251211T193000
DTSTAMP:20260422T121147
CREATED:20250726T162729Z
LAST-MODIFIED:20251125T131443Z
UID:7603-1765481400-1765481400@kirche-velbert.de
SUMMARY:Bibelgesprächskreis
DESCRIPTION:Der Bibelgesprächskreis lädt alle\, die die biblischen Texte intensiver kennenlernen und darüber sprechen wollen\,  ganz herzlich zu unseren Abenden ein. Wir treffen uns meistens zweimal im Monat donnerstags von 19:30 Uhr bis 21:00 Uhr im Gemeindehaus Oststraße. \nEin Anmeldung ist nicht nötig. Bitte bringen Sie eine Bibel mit. \nLeitung: Margret Stolz und Gerhard Sandrock. \nAdventliches Beisammensein
URL:https://kirche-velbert.de/veranstaltung/bibelgespraechskreis-18/
LOCATION:Gemeindehaus Oststraße\, Oststr. 59\, Velbert\, NRW\, 42551
CATEGORIES:Gesprächskreis
ATTACH;FMTTYPE=image/jpeg:https://kirche-velbert.de/wp-content/uploads/Bibel_calendar.jpeg
END:VEVENT
BEGIN:VEVENT
DTSTART;TZID=Europe/Berlin:20251211T193000
DTEND;TZID=Europe/Berlin:20251211T210000
DTSTAMP:20260422T121147
CREATED:20250726T111926Z
LAST-MODIFIED:20251125T122146Z
UID:7578-1765481400-1765486800@kirche-velbert.de
SUMMARY:Frauenabendkreis
DESCRIPTION:Adventlicher Jahresausklang \nAnsprechpartnerin Ulrike Wasner-Guth\, Tel.: 02051 62384.
URL:https://kirche-velbert.de/veranstaltung/frauenabendkreis-9/
LOCATION:Gemeindehaus Oststraße\, Oststr. 59\, Velbert\, NRW\, 42551
CATEGORIES:Gesprächskreis
ATTACH;FMTTYPE=image/png:https://kirche-velbert.de/wp-content/uploads/Frauenabendkreis_calendar.png
END:VEVENT
BEGIN:VEVENT
DTSTART;TZID=Europe/Berlin:20251212T100000
DTEND;TZID=Europe/Berlin:20251212T100000
DTSTAMP:20260422T121147
CREATED:20251125T143121Z
LAST-MODIFIED:20251125T143121Z
UID:9070-1765533600-1765533600@kirche-velbert.de
SUMMARY:Seniorenheim-Gottesdienst Johanniterheim
DESCRIPTION:Der Gottesdienst findet um 10 Uhr im Johannessaal statt. \nGäste sind willkommen!
URL:https://kirche-velbert.de/veranstaltung/seniorenheim-gottesdienst-johanniterheim-2/
LOCATION:Johanniterheim\, Velbert
CATEGORIES:Gottesdienst
ATTACH;FMTTYPE=image/jpeg:https://kirche-velbert.de/wp-content/uploads/Kirchenfenster_calendar.jpeg
END:VEVENT
BEGIN:VEVENT
DTSTART;TZID=Europe/Berlin:20251212T150000
DTEND;TZID=Europe/Berlin:20251212T173000
DTSTAMP:20260422T121147
CREATED:20251125T124015Z
LAST-MODIFIED:20251125T124015Z
UID:8967-1765551600-1765560600@kirche-velbert.de
SUMMARY:Café Globus
DESCRIPTION:freitags lädt Café Globus zum fröhlichen Miteinander – Stadtlotsen\, Freundinnen von FairTrade-Kaffee\, gutem selbstgebackenem Kuchen – ein. \nGenauere Informationen finden Sie auf der Webseite unserer Café’s.
URL:https://kirche-velbert.de/veranstaltung/cafe-globus-43/
LOCATION:Gemeindehaus Oststraße\, Oststr. 59\, Velbert\, NRW\, 42551
CATEGORIES:Café
ATTACH;FMTTYPE=image/png:https://kirche-velbert.de/wp-content/uploads/Logo_Cafe_Globus_calendar.png
END:VEVENT
BEGIN:VEVENT
DTSTART;TZID=Europe/Berlin:20251212T150000
DTEND;TZID=Europe/Berlin:20251212T193000
DTSTAMP:20260422T121147
CREATED:20251116T125615Z
LAST-MODIFIED:20251116T125615Z
UID:8886-1765551600-1765567800@kirche-velbert.de
SUMMARY:Adventskirche - Offene Kirche
DESCRIPTION:Parallel zum Velberter Weihnachtsmarkt am 2. und 3. Adventswochenende ist auch unsere „Alte Kirche“ geöffnet! Das Motto lautet „Zuhören.“ Uns so lädt die adventlich gestaltete Kirche zum Innehalten\, Hören\, Ausprobieren und Entdecken ein. Und zu einem interessanten Programm! Kommen Sie gerne vorbei! \n\n16.00 Uwe und Brigitte Flaig\n17.00 Chor der GGS Nordstadt\n18.00 Gospelchor „Colours of Joy“\n19.00 Geistlicher Impuls: Pastor Michael Oberländer
URL:https://kirche-velbert.de/veranstaltung/adventskirche-offene-kirche-5/
LOCATION:Alte Kirche\, Friedrichstr. 158\, Velbert\, NRW\, 42551
CATEGORIES:Familie
ATTACH;FMTTYPE=image/jpeg:https://kirche-velbert.de/wp-content/uploads/Weihnachtsmarkt-Offers_calendar.jpg
END:VEVENT
BEGIN:VEVENT
DTSTART;TZID=Europe/Berlin:20251212T180000
DTEND;TZID=Europe/Berlin:20251212T180000
DTSTAMP:20260422T121147
CREATED:20251125T143852Z
LAST-MODIFIED:20251125T143852Z
UID:9086-1765562400-1765562400@kirche-velbert.de
SUMMARY:Gottesdienst im Helios-Klinikum
DESCRIPTION:Meditative Reihe (3) „begeistert“ mit Pfrin. Anhuef-Natrop \n\nim Andachtsraum des neuen Hauses\, 4. Etage\, Raum A 4172 \n\n 
URL:https://kirche-velbert.de/veranstaltung/gottesdienst-im-helios-klinikum-11/
LOCATION:Helios Klinikum Niederberg\, Robert-Koch-Straße 2\, Velbert\, 42549\, Germany
CATEGORIES:Gottesdienst
ATTACH;FMTTYPE=image/jpeg:https://kirche-velbert.de/wp-content/uploads/Mini_Altar_calendar.jpeg
END:VEVENT
BEGIN:VEVENT
DTSTART;TZID=Europe/Berlin:20251212T193000
DTEND;TZID=Europe/Berlin:20251212T193000
DTSTAMP:20260422T121147
CREATED:20251125T134429Z
LAST-MODIFIED:20251125T134429Z
UID:9040-1765567800-1765567800@kirche-velbert.de
SUMMARY:Gott und die Welt
DESCRIPTION:„Gott und die Welt“ ist ein offener Gesprächskreis für alle\, die sich gerne über theologische und andere aktuelle Themen unterhalten. \nKommen Sie gerne dazu\, Sie müssen kein Vorwissen mitbringen. \nAnsprechpartnerin: Pfarrerin Maret Schmerkotte\,\nTel.: 02051-607036\, maret.schmerkotte@kirche-velbert.de
URL:https://kirche-velbert.de/veranstaltung/gott-und-die-welt-5/
LOCATION:Gemeindehaus Oststraße\, Oststr. 59\, Velbert\, NRW\, 42551
CATEGORIES:Gesprächskreis
ATTACH;FMTTYPE=image/jpeg:https://kirche-velbert.de/wp-content/uploads/Toetterkreis_calendar.jpeg
END:VEVENT
BEGIN:VEVENT
DTSTART;TZID=Europe/Berlin:20251213T120000
DTEND;TZID=Europe/Berlin:20251213T193000
DTSTAMP:20260422T121147
CREATED:20251116T125712Z
LAST-MODIFIED:20251116T125712Z
UID:8888-1765627200-1765654200@kirche-velbert.de
SUMMARY:Adventskirche - Offene Kirche
DESCRIPTION:Parallel zum Velberter Weihnachtsmarkt am 2. und 3. Adventswochenende ist auch unsere „Alte Kirche“ geöffnet! Das Motto lautet „Zuhören.“ Uns so lädt die adventlich gestaltete Kirche zum Innehalten\, Hören\, Ausprobieren und Entdecken ein. Und zu einem interessanten Programm! Kommen Sie gerne vorbei! \n\n16.00 Veeh-Harfenorchester (Hospiz Velbert)\n17.00 CVJM Velbert\n18.00 Gitarrenlieder mit Meryem (Clavis e.V.)\n19.00 Geistlicher Impuls: Pfarrer Martin Schmerkotte
URL:https://kirche-velbert.de/veranstaltung/adventskirche-offene-kirche-6/
LOCATION:Alte Kirche\, Friedrichstr. 158\, Velbert\, NRW\, 42551
CATEGORIES:Familie
ATTACH;FMTTYPE=image/jpeg:https://kirche-velbert.de/wp-content/uploads/Weihnachtsmarkt-Offers_calendar.jpg
END:VEVENT
BEGIN:VEVENT
DTSTART;TZID=Europe/Berlin:20251214T100000
DTEND;TZID=Europe/Berlin:20251214T100000
DTSTAMP:20260422T121147
CREATED:20251125T181216Z
LAST-MODIFIED:20251125T181216Z
UID:9105-1765706400-1765706400@kirche-velbert.de
SUMMARY:Gottesdienst mit Vocalensemble
DESCRIPTION:Pfr. Flaig
URL:https://kirche-velbert.de/veranstaltung/gottesdienst-mit-vocalensemble/
LOCATION:Ev. Kirche Tönisheide\, Kuhlendahler Str. 35\, Velbert\, NRW\, 42553
CATEGORIES:Gottesdienst
ATTACH;FMTTYPE=image/png:https://kirche-velbert.de/wp-content/uploads/Kirche-Toenisheide-001_2b_calendar.png
END:VEVENT
BEGIN:VEVENT
DTSTART;TZID=Europe/Berlin:20251214T110000
DTEND;TZID=Europe/Berlin:20251214T110000
DTSTAMP:20260422T121147
CREATED:20251125T181501Z
LAST-MODIFIED:20251125T181501Z
UID:9107-1765710000-1765710000@kirche-velbert.de
SUMMARY:Familiengottesdienst mit KiTas
DESCRIPTION:Pfr. Schmerkotte
URL:https://kirche-velbert.de/veranstaltung/familiengottesdienst-mit-kitas/
LOCATION:Christuskirche\, Grünstr. 27\, Velbert\, NRW\, 42551
CATEGORIES:Gottesdienst
ATTACH;FMTTYPE=image/png:https://kirche-velbert.de/wp-content/uploads/Christuskirche-001_calendar.png
END:VEVENT
BEGIN:VEVENT
DTSTART;TZID=Europe/Berlin:20251214T120000
DTEND;TZID=Europe/Berlin:20251214T183000
DTSTAMP:20260422T121147
CREATED:20251116T125750Z
LAST-MODIFIED:20251116T125750Z
UID:8890-1765713600-1765737000@kirche-velbert.de
SUMMARY:Adventskirche - Offene Kirche
DESCRIPTION:Parallel zum Velberter Weihnachtsmarkt am 2. und 3. Adventswochenende ist auch unsere „Alte Kirche“ geöffnet! Das Motto lautet „Zuhören.“ Uns so lädt die adventlich gestaltete Kirche zum Innehalten\, Hören\, Ausprobieren und Entdecken ein. Und zu einem interessanten Programm! Kommen Sie gerne vorbei! \n\n15.00 Chor der Markuskirche\n16.00 Circus Stellatus\n17.00 Chor Perspektive Velbert\n18.00 Geistlicher Impuls: Pfarrer Uwe Flaig
URL:https://kirche-velbert.de/veranstaltung/adventskirche-offene-kirche-7/
LOCATION:Alte Kirche\, Friedrichstr. 158\, Velbert\, NRW\, 42551
CATEGORIES:Familie
ATTACH;FMTTYPE=image/jpeg:https://kirche-velbert.de/wp-content/uploads/Weihnachtsmarkt-Offers_calendar.jpg
END:VEVENT
BEGIN:VEVENT
DTSTART;TZID=Europe/Berlin:20251217T143000
DTEND;TZID=Europe/Berlin:20251217T160000
DTSTAMP:20260422T121147
CREATED:20251105T203120Z
LAST-MODIFIED:20251125T130259Z
UID:8814-1765981800-1765987200@kirche-velbert.de
SUMMARY:Mittwochscafé
DESCRIPTION:Es erwartet Sie ein Programm mit Kaffee und Kuchen\, Klönen\, Singen\, Spielen und spannenden Themen. Das Miteinander ist fröhlich und nett. Sie sind herzlich eingeladen\, auch ohne Anmeldung vorbei zu kommen.
URL:https://kirche-velbert.de/veranstaltung/mittwochscafe-7/
LOCATION:Gemeindehaus Oststraße\, Oststr. 59\, Velbert\, NRW\, 42551
ATTACH;FMTTYPE=image/jpeg:https://kirche-velbert.de/wp-content/uploads/Spielen_Senioren_calendar.jpeg
END:VEVENT
END:VCALENDAR