BEGIN:VCALENDAR
VERSION:2.0
PRODID:-//Kirche-Velbert.de - ECPv6.15.20//NONSGML v1.0//EN
CALSCALE:GREGORIAN
METHOD:PUBLISH
X-WR-CALNAME:Kirche-Velbert.de
X-ORIGINAL-URL:https://kirche-velbert.de
X-WR-CALDESC:Veranstaltungen für Kirche-Velbert.de
REFRESH-INTERVAL;VALUE=DURATION:PT1H
X-Robots-Tag:noindex
X-PUBLISHED-TTL:PT1H
BEGIN:VTIMEZONE
TZID:Europe/Berlin
BEGIN:DAYLIGHT
TZOFFSETFROM:+0100
TZOFFSETTO:+0200
TZNAME:CEST
DTSTART:20250330T010000
END:DAYLIGHT
BEGIN:STANDARD
TZOFFSETFROM:+0200
TZOFFSETTO:+0100
TZNAME:CET
DTSTART:20251026T010000
END:STANDARD
BEGIN:DAYLIGHT
TZOFFSETFROM:+0100
TZOFFSETTO:+0200
TZNAME:CEST
DTSTART:20260329T010000
END:DAYLIGHT
BEGIN:STANDARD
TZOFFSETFROM:+0200
TZOFFSETTO:+0100
TZNAME:CET
DTSTART:20261025T010000
END:STANDARD
BEGIN:DAYLIGHT
TZOFFSETFROM:+0100
TZOFFSETTO:+0200
TZNAME:CEST
DTSTART:20270328T010000
END:DAYLIGHT
BEGIN:STANDARD
TZOFFSETFROM:+0200
TZOFFSETTO:+0100
TZNAME:CET
DTSTART:20271031T010000
END:STANDARD
END:VTIMEZONE
BEGIN:VEVENT
DTSTART;TZID=Europe/Berlin:20260101T150000
DTEND;TZID=Europe/Berlin:20260101T150000
DTSTAMP:20260422T100836
CREATED:20251126T192609Z
LAST-MODIFIED:20251126T192609Z
UID:9149-1767279600-1767279600@kirche-velbert.de
SUMMARY:Gottesdienst
DESCRIPTION:Pfrin. und Pfr. Schmerkotte
URL:https://kirche-velbert.de/veranstaltung/gottesdienst-22/
LOCATION:Gemeindehaus Oststraße\, Oststr. 59\, Velbert\, NRW\, 42551
CATEGORIES:Gottesdienst
ATTACH;FMTTYPE=image/png:https://kirche-velbert.de/wp-content/uploads/Gemeindehaus_Oststrr-Kirche-e1764097590331.png
END:VEVENT
BEGIN:VEVENT
DTSTART;TZID=Europe/Berlin:20260104T100000
DTEND;TZID=Europe/Berlin:20260104T100000
DTSTAMP:20260422T100836
CREATED:20251126T193127Z
LAST-MODIFIED:20251126T193127Z
UID:9151-1767520800-1767520800@kirche-velbert.de
SUMMARY:Gottesdienst mit Abendmahl
DESCRIPTION:Pfr. Dr. Jeschke
URL:https://kirche-velbert.de/veranstaltung/gottesdienst-mit-abendmahl-4/
LOCATION:Ev. Kirche Tönisheide\, Kuhlendahler Str. 35\, Velbert\, NRW\, 42553
CATEGORIES:Gottesdienst
ATTACH;FMTTYPE=image/png:https://kirche-velbert.de/wp-content/uploads/Kirche-Toenisheide-001_2b_calendar.png
END:VEVENT
BEGIN:VEVENT
DTSTART;TZID=Europe/Berlin:20260107T150000
DTEND;TZID=Europe/Berlin:20260107T170000
DTSTAMP:20260422T100836
CREATED:20251125T123425Z
LAST-MODIFIED:20251125T123425Z
UID:8953-1767798000-1767805200@kirche-velbert.de
SUMMARY:Café Böhnchen
DESCRIPTION:für Frauen und Männer\, im Ev. Gemeindehaus\, mit Rosalie Zech und Pastor Dieter Jeschke. \nDas Cafè Böhnchen ist entstanden aus dem Frauentreff. Alle zwei Wochen machen wir uns einen gemütlichen Nachmittag von 15 bis 17 Uhr. An jedem ersten Mittwoch des Monats mit Programm\, an jedem 3. Mittwoch des Monats als gemütlicher Tötter-Treff. \nWir freuen uns über weitere Helferinnen und Helfer.
URL:https://kirche-velbert.de/veranstaltung/cafe-boehnchen/
LOCATION:Gemeindehaus Kuhlendahler Straße\, Kuhlendahler Str. 34\, Velbert\, 42553\, Deutschland
CATEGORIES:Café
ATTACH;FMTTYPE=image/jpeg:https://kirche-velbert.de/wp-content/uploads/Toetterkreis_calendar.jpeg
END:VEVENT
BEGIN:VEVENT
DTSTART;TZID=Europe/Berlin:20260107T190000
DTEND;TZID=Europe/Berlin:20260107T203000
DTSTAMP:20260422T100836
CREATED:20251126T215415Z
LAST-MODIFIED:20251126T215415Z
UID:9209-1767812400-1767817800@kirche-velbert.de
SUMMARY:Theologie für Nicht-Theologen
DESCRIPTION:Gott spricht: „Siehe ich mache alles neu!“\nJahreslosung: Acrylmalerei von Doris Hopf © Gemeindebriefdruckerei.de\nDieser Satz aus der Offenbarung des Johannes ist die Jahreslosung 2026. Es ist eine Botschaft der Hoffnung aus einer Zeit\, die von Verfolgung und Zerstörung geprägt war. Es ist Gottes Zusage\, das Leben zu erneuern. \nWir werden dieses Hoffnungswort in seinem Zusammenhang lesen und besprechen. \nmit Pfr. D. Jeschke
URL:https://kirche-velbert.de/veranstaltung/theologie-fuer-nicht-theologen/
LOCATION:Gemeindehaus Kuhlendahler Straße\, Kuhlendahler Str. 34\, Velbert\, 42553\, Deutschland
CATEGORIES:Gesprächskreis
ATTACH;FMTTYPE=image/jpeg:https://kirche-velbert.de/wp-content/uploads/Bibel_calendar.jpeg
END:VEVENT
BEGIN:VEVENT
DTSTART;TZID=Europe/Berlin:20260109T100000
DTEND;TZID=Europe/Berlin:20260109T100000
DTSTAMP:20260422T100836
CREATED:20251125T143347Z
LAST-MODIFIED:20251125T143347Z
UID:9076-1767952800-1767952800@kirche-velbert.de
SUMMARY:Seniorenheim-Gottesdienst Johanniterheim
DESCRIPTION:Der Gottesdienst findet um 10 Uhr im Johannessaal statt. \nGäste sind willkommen!
URL:https://kirche-velbert.de/veranstaltung/seniorenheim-gottesdienst-johanniterheim-5/
LOCATION:Johanniterheim\, Velbert
CATEGORIES:Gottesdienst
ATTACH;FMTTYPE=image/jpeg:https://kirche-velbert.de/wp-content/uploads/Kirchenfenster_calendar.jpeg
END:VEVENT
BEGIN:VEVENT
DTSTART;TZID=Europe/Berlin:20260109T150000
DTEND;TZID=Europe/Berlin:20260109T173000
DTSTAMP:20260422T100836
CREATED:20251125T124143Z
LAST-MODIFIED:20251125T124143Z
UID:8971-1767970800-1767979800@kirche-velbert.de
SUMMARY:Café Globus
DESCRIPTION:freitags lädt Café Globus zum fröhlichen Miteinander – Stadtlotsen\, Freundinnen von FairTrade-Kaffee\, gutem selbstgebackenem Kuchen – ein. \nGenauere Informationen finden Sie auf der Webseite unserer Café’s.
URL:https://kirche-velbert.de/veranstaltung/cafe-globus-45/
LOCATION:Gemeindehaus Oststraße\, Oststr. 59\, Velbert\, NRW\, 42551
CATEGORIES:Café
ATTACH;FMTTYPE=image/png:https://kirche-velbert.de/wp-content/uploads/Logo_Cafe_Globus_calendar.png
END:VEVENT
BEGIN:VEVENT
DTSTART;TZID=Europe/Berlin:20260109T180000
DTEND;TZID=Europe/Berlin:20260109T180000
DTSTAMP:20260422T100836
CREATED:20251125T144207Z
LAST-MODIFIED:20251125T144207Z
UID:9092-1767981600-1767981600@kirche-velbert.de
SUMMARY:Gottesdienst im Helios-Klinikum
DESCRIPTION:mit Pfrin. Anhuef-Natrop \nmit Abendmahl \n\nim Andachtsraum des neuen Hauses\, 4. Etage\, Raum A 4172 \n\n 
URL:https://kirche-velbert.de/veranstaltung/gottesdienst-im-helios-klinikum-35/
LOCATION:Helios Klinikum Niederberg\, Robert-Koch-Straße 2\, Velbert\, 42549\, Germany
CATEGORIES:Gottesdienst
ATTACH;FMTTYPE=image/jpeg:https://kirche-velbert.de/wp-content/uploads/Mini_Altar_calendar.jpeg
END:VEVENT
BEGIN:VEVENT
DTSTART;TZID=Europe/Berlin:20260109T193000
DTEND;TZID=Europe/Berlin:20260109T193000
DTSTAMP:20260422T100836
CREATED:20251125T134516Z
LAST-MODIFIED:20251125T134516Z
UID:9042-1767987000-1767987000@kirche-velbert.de
SUMMARY:Gott und die Welt
DESCRIPTION:„Gott und die Welt“ ist ein offener Gesprächskreis für alle\, die sich gerne über theologische und andere aktuelle Themen unterhalten. \nKommen Sie gerne dazu\, Sie müssen kein Vorwissen mitbringen. \nAnsprechpartnerin: Pfarrerin Maret Schmerkotte\,\nTel.: 02051-607036\, maret.schmerkotte@kirche-velbert.de
URL:https://kirche-velbert.de/veranstaltung/gott-und-die-welt-6/
LOCATION:Gemeindehaus Oststraße\, Oststr. 59\, Velbert\, NRW\, 42551
CATEGORIES:Gesprächskreis
ATTACH;FMTTYPE=image/jpeg:https://kirche-velbert.de/wp-content/uploads/Toetterkreis_calendar.jpeg
END:VEVENT
BEGIN:VEVENT
DTSTART;TZID=Europe/Berlin:20260111T103000
DTEND;TZID=Europe/Berlin:20260111T103000
DTSTAMP:20260422T100836
CREATED:20251126T193503Z
LAST-MODIFIED:20251126T193503Z
UID:9153-1768127400-1768127400@kirche-velbert.de
SUMMARY:Gottesdienst
DESCRIPTION:Pfr. Flaig
URL:https://kirche-velbert.de/veranstaltung/gottesdienst-23/
LOCATION:Markuskirche\, Losenburger Weg 40\, Velbert\, NRW\, 42549
CATEGORIES:Gottesdienst
ATTACH;FMTTYPE=image/png:https://kirche-velbert.de/wp-content/uploads/Markuskirche_calendar.png
END:VEVENT
BEGIN:VEVENT
DTSTART;TZID=Europe/Berlin:20260111T110000
DTEND;TZID=Europe/Berlin:20260111T110000
DTSTAMP:20260422T100836
CREATED:20251126T193935Z
LAST-MODIFIED:20251126T204230Z
UID:9155-1768129200-1768129200@kirche-velbert.de
SUMMARY:Musikgottesdienst
DESCRIPTION:Wolfgang Klose (Tenor) + Frank Schreiber (Klavier) \nWolfgang Klose ©Anne von Sarosdy\nWerke von Barock bis Romantik \nmit Pfr. Schmidt
URL:https://kirche-velbert.de/veranstaltung/musikgottesdienst-2/
LOCATION:Gemeindehaus Oststraße\, Oststr. 59\, Velbert\, NRW\, 42551
CATEGORIES:Gottesdienst
ATTACH;FMTTYPE=image/png:https://kirche-velbert.de/wp-content/uploads/Gemeindehaus_Oststrr-Kirche-e1764097590331.png
END:VEVENT
BEGIN:VEVENT
DTSTART;TZID=Europe/Berlin:20260113T193000
DTEND;TZID=Europe/Berlin:20260113T193000
DTSTAMP:20260422T100836
CREATED:20251120T203510Z
LAST-MODIFIED:20251120T203510Z
UID:8909-1768332600-1768332600@kirche-velbert.de
SUMMARY:Allianzgebetswoche
DESCRIPTION:Allianzgebetswoche\nDie Evangelische Allianz\, ein Netzwerk von Christusgläubigen aus verschiedenen christlichen Kirchen\, Gemeinden und Gruppen\, lädt zur „Allianzgebetswoche 2026“ unter dem Thema Gott ist treu (Psalm 78) ein: \nDienstag\, 13. 01.26 um 19.30 Uhr in der FEG von Behring Str.66\, \nSprecher: Dr. Dieter Jeschke
URL:https://kirche-velbert.de/veranstaltung/allianzgebetswoche/
LOCATION:Freie evangelische Gemeinde Velbert\, Von-Behring-Str. 66\, Velbert\, 42549
CATEGORIES:Gottesdienst,Ökumene
ATTACH;FMTTYPE=image/jpeg:https://kirche-velbert.de/wp-content/uploads/AGW_26_1920_1080-e1763670843390.jpg
END:VEVENT
BEGIN:VEVENT
DTSTART;TZID=Europe/Berlin:20260114T103000
DTEND;TZID=Europe/Berlin:20260114T103000
DTSTAMP:20260422T100836
CREATED:20251125T134944Z
LAST-MODIFIED:20251125T134944Z
UID:9050-1768386600-1768386600@kirche-velbert.de
SUMMARY:Seniorenheim-Gottesdienst für die Bewohner Rheinischer Hof
DESCRIPTION:Pfr. i.R. Bendokat
URL:https://kirche-velbert.de/veranstaltung/seniorenheim-gottesdienst-fuer-die-bewohner-rheinischer-hof-2/
LOCATION:Seniorenheim Residenz\, Rheinischer Hof\, Velbert\, Kolpingstraße 5-7\, Velbert\, 42551
CATEGORIES:Gottesdienst
ATTACH;FMTTYPE=image/jpeg:https://kirche-velbert.de/wp-content/uploads/Kirchenfenster_calendar.jpeg
END:VEVENT
BEGIN:VEVENT
DTSTART;TZID=Europe/Berlin:20260114T143000
DTEND;TZID=Europe/Berlin:20260114T160000
DTSTAMP:20260422T100836
CREATED:20251105T203323Z
LAST-MODIFIED:20251125T132206Z
UID:8816-1768401000-1768406400@kirche-velbert.de
SUMMARY:Mittwochscafé
DESCRIPTION:Es erwartet Sie ein Programm mit Kaffee und Kuchen\, Klönen\, Singen\, Spielen und spannenden Themen. Das Miteinander ist fröhlich und nett. Sie sind herzlich eingeladen\, auch ohne Anmeldung vorbei zu kommen. \n\nGedanken zur Jahreslosung mit Maret Schmerkotte
URL:https://kirche-velbert.de/veranstaltung/mittwochscafe-8/
LOCATION:Gemeindehaus Oststraße\, Oststr. 59\, Velbert\, NRW\, 42551
ATTACH;FMTTYPE=image/jpeg:https://kirche-velbert.de/wp-content/uploads/Spielen_Senioren_calendar.jpeg
END:VEVENT
BEGIN:VEVENT
DTSTART;TZID=Europe/Berlin:20260115T093000
DTEND;TZID=Europe/Berlin:20260115T113000
DTSTAMP:20260422T100836
CREATED:20251125T124805Z
LAST-MODIFIED:20251125T124805Z
UID:8991-1768469400-1768476600@kirche-velbert.de
SUMMARY:Krümelcafé
DESCRIPTION:Jeden 1. und 3. Donnerstag im Monat. \nDas Krümelcafé lädt herzlich zu einer Auszeit vom Alltag für Jedermann in die Kuhlendahler Str. 34 ein. Geöffnet von 9:30 bis 11:30 Uhr. \nEntspannen bei einer Tasse Kaffee/ Tee und Leckereien\, Austausch und Kontakte knüpfen\, während die Kleinen spielen. \nWeitere Informationen …
URL:https://kirche-velbert.de/veranstaltung/kruemelcafe-5/
LOCATION:Gemeindehaus Kuhlendahler Straße\, Kuhlendahler Str. 34\, Velbert\, 42553\, Deutschland
CATEGORIES:Café
ATTACH;FMTTYPE=image/jpeg:https://kirche-velbert.de/wp-content/uploads/Toetterkreis_calendar.jpeg
END:VEVENT
BEGIN:VEVENT
DTSTART;TZID=Europe/Berlin:20260115T101500
DTEND;TZID=Europe/Berlin:20260115T101500
DTSTAMP:20260422T100836
CREATED:20251125T142455Z
LAST-MODIFIED:20251125T142455Z
UID:9060-1768472100-1768472100@kirche-velbert.de
SUMMARY:Seniorenheim-Gottesdienst für die Bewohner Domizil
DESCRIPTION:Pfr. i.R. Bendokat
URL:https://kirche-velbert.de/veranstaltung/seniorenheim-gottesdienst-fuer-die-bewohner-domizil-2/
LOCATION:Seniorenheim Domizil\, Velbert\, Friedrichstr. 191\, Velbert\, 42551
CATEGORIES:Gottesdienst
ATTACH;FMTTYPE=image/jpeg:https://kirche-velbert.de/wp-content/uploads/Kirchenfenster_calendar.jpeg
END:VEVENT
BEGIN:VEVENT
DTSTART;TZID=Europe/Berlin:20260115T190000
DTEND;TZID=Europe/Berlin:20260115T190000
DTSTAMP:20260422T100836
CREATED:20251125T133244Z
LAST-MODIFIED:20251125T133244Z
UID:9028-1768503600-1768503600@kirche-velbert.de
SUMMARY:Frauen-Kontaktkreis
DESCRIPTION:Herzliche Einladung zu unserem Gesprächskreis für Frauen!Alle 14 Tage – jeweils donnerstags in den ungeraden Wochen – treffen wir uns um 19 Uhr in der Markuskirche.Freuen Sie sich auf interessante Themen\, anregende Vorträge und Zeit für Austausch in angenehmer Runde.Wir freuen uns auf Ihr Kommen! \nKontakt: Christel Krey\, 02051 82119
URL:https://kirche-velbert.de/veranstaltung/frauen-kontaktkreis-10/
LOCATION:Markuskirche\, Losenburger Weg 40\, Velbert\, NRW\, 42549
CATEGORIES:Gesprächskreis
ATTACH;FMTTYPE=image/jpeg:https://kirche-velbert.de/wp-content/uploads/Toetterkreis_calendar.jpeg
END:VEVENT
BEGIN:VEVENT
DTSTART;TZID=Europe/Berlin:20260116T150000
DTEND;TZID=Europe/Berlin:20260116T173000
DTSTAMP:20260422T100836
CREATED:20251125T124221Z
LAST-MODIFIED:20251125T124221Z
UID:8973-1768575600-1768584600@kirche-velbert.de
SUMMARY:Café Globus
DESCRIPTION:freitags lädt Café Globus zum fröhlichen Miteinander – Stadtlotsen\, Freundinnen von FairTrade-Kaffee\, gutem selbstgebackenem Kuchen – ein. \nGenauere Informationen finden Sie auf der Webseite unserer Café’s.
URL:https://kirche-velbert.de/veranstaltung/cafe-globus-46/
LOCATION:Gemeindehaus Oststraße\, Oststr. 59\, Velbert\, NRW\, 42551
CATEGORIES:Café
ATTACH;FMTTYPE=image/png:https://kirche-velbert.de/wp-content/uploads/Logo_Cafe_Globus_calendar.png
END:VEVENT
BEGIN:VEVENT
DTSTART;TZID=Europe/Berlin:20260116T190000
DTEND;TZID=Europe/Berlin:20260116T190000
DTSTAMP:20260422T100836
CREATED:20251120T203644Z
LAST-MODIFIED:20251125T081517Z
UID:8918-1768590000-1768590000@kirche-velbert.de
SUMMARY:Allianzgebetswoche - Friedensgebet
DESCRIPTION:Allianzgebetswoche\nDie Evangelische Allianz\, ein Netzwerk von Christusgläubigen aus verschiedenen christlichen Kirchen\, Gemeinden und Gruppen\, lädt zur „Allianzgebetswoche 2026“ unter dem Thema Gott ist treu (Psalm 78) ein: \nFreitag\, 16.01.26 um 19.00 Uhr Friedensgebet in der Christuskirche \nSprecher: H.B. Meurer
URL:https://kirche-velbert.de/veranstaltung/allianzgebetswoche-2/
LOCATION:Christuskirche\, Grünstr. 27\, Velbert\, NRW\, 42551
CATEGORIES:Gottesdienst,Ökumene
ATTACH;FMTTYPE=image/jpeg:https://kirche-velbert.de/wp-content/uploads/AGW_26_1920_1080-e1763670843390.jpg
END:VEVENT
BEGIN:VEVENT
DTSTART;TZID=Europe/Berlin:20260116T190000
DTEND;TZID=Europe/Berlin:20260116T190000
DTSTAMP:20260422T100836
CREATED:20251120T203802Z
LAST-MODIFIED:20251125T081420Z
UID:8920-1768590000-1768590000@kirche-velbert.de
SUMMARY:Allianzgebetswoche - Jugendgebetsabend
DESCRIPTION:Allianzgebetswoche\nDie Evangelische Allianz\, ein Netzwerk von Christusgläubigen aus verschiedenen christlichen Kirchen\, Gemeinden und Gruppen\, lädt zur „Allianzgebetswoche 2026“ unter dem Thema Gott ist treu (Psalm 78) ein: \nFreitag\, 16.01.26 um 19.00 Uhr Jugendgebetsabend im Gemeindehaus Oststr. 59
URL:https://kirche-velbert.de/veranstaltung/allianzgebetswoche-3/
LOCATION:Gemeindehaus Oststraße\, Oststr. 59\, Velbert\, NRW\, 42551
CATEGORIES:Gottesdienst,Ökumene
ATTACH;FMTTYPE=image/jpeg:https://kirche-velbert.de/wp-content/uploads/AGW_26_1920_1080-e1763670843390.jpg
END:VEVENT
BEGIN:VEVENT
DTSTART;TZID=Europe/Berlin:20260118T100000
DTEND;TZID=Europe/Berlin:20260118T100000
DTSTAMP:20260422T100836
CREATED:20251126T194426Z
LAST-MODIFIED:20251126T194426Z
UID:9157-1768730400-1768730400@kirche-velbert.de
SUMMARY:Gottesdienst
DESCRIPTION:Pfrin. Schmerkotte
URL:https://kirche-velbert.de/veranstaltung/gottesdienst-24/
LOCATION:Ev. Kirche Tönisheide\, Kuhlendahler Str. 35\, Velbert\, NRW\, 42553
CATEGORIES:Gottesdienst
ATTACH;FMTTYPE=image/png:https://kirche-velbert.de/wp-content/uploads/Kirche-Toenisheide-001_2b_calendar.png
END:VEVENT
BEGIN:VEVENT
DTSTART;TZID=Europe/Berlin:20260118T110000
DTEND;TZID=Europe/Berlin:20260118T110000
DTSTAMP:20260422T100836
CREATED:20251126T194617Z
LAST-MODIFIED:20251126T194617Z
UID:9159-1768734000-1768734000@kirche-velbert.de
SUMMARY:Gottesdienst
DESCRIPTION:Pfr. Dr. Hasselhoff
URL:https://kirche-velbert.de/veranstaltung/gottesdienst-25/
LOCATION:Gemeindehaus Oststraße\, Oststr. 59\, Velbert\, NRW\, 42551
CATEGORIES:Gottesdienst
ATTACH;FMTTYPE=image/png:https://kirche-velbert.de/wp-content/uploads/Gemeindehaus_Oststrr-Kirche-e1764097590331.png
END:VEVENT
BEGIN:VEVENT
DTSTART;TZID=Europe/Berlin:20260118T143000
DTEND;TZID=Europe/Berlin:20260118T163000
DTSTAMP:20260422T100836
CREATED:20251125T125659Z
LAST-MODIFIED:20251125T125659Z
UID:9004-1768746600-1768753800@kirche-velbert.de
SUMMARY:Café Make
DESCRIPTION:Informationen zur Veranstaltung …
URL:https://kirche-velbert.de/veranstaltung/cafe-make/
LOCATION:Markuskirche\, Losenburger Weg 40\, Velbert\, NRW\, 42549
CATEGORIES:Café
ATTACH;FMTTYPE=image/png:https://kirche-velbert.de/wp-content/uploads/CafeMake_Kuchen_calendar.png
END:VEVENT
BEGIN:VEVENT
DTSTART;TZID=Europe/Berlin:20260121T150000
DTEND;TZID=Europe/Berlin:20260121T170000
DTSTAMP:20260422T100836
CREATED:20251125T123531Z
LAST-MODIFIED:20251125T123531Z
UID:8955-1769007600-1769014800@kirche-velbert.de
SUMMARY:Café Böhnchen
DESCRIPTION:für Frauen und Männer\, im Ev. Gemeindehaus\, mit Rosalie Zech und Pastor Dieter Jeschke. \nDas Cafè Böhnchen ist entstanden aus dem Frauentreff. Alle zwei Wochen machen wir uns einen gemütlichen Nachmittag von 15 bis 17 Uhr. An jedem ersten Mittwoch des Monats mit Programm\, an jedem 3. Mittwoch des Monats als gemütlicher Tötter-Treff. \nWir freuen uns über weitere Helferinnen und Helfer.
URL:https://kirche-velbert.de/veranstaltung/cafe-boehnchen-4/
LOCATION:Gemeindehaus Kuhlendahler Straße\, Kuhlendahler Str. 34\, Velbert\, 42553\, Deutschland
CATEGORIES:Café
ATTACH;FMTTYPE=image/jpeg:https://kirche-velbert.de/wp-content/uploads/Toetterkreis_calendar.jpeg
END:VEVENT
BEGIN:VEVENT
DTSTART;TZID=Europe/Berlin:20260122T193000
DTEND;TZID=Europe/Berlin:20260122T210000
DTSTAMP:20260422T100836
CREATED:20251125T122244Z
LAST-MODIFIED:20251125T122244Z
UID:8943-1769110200-1769115600@kirche-velbert.de
SUMMARY:Frauenabendkreis
DESCRIPTION:Mit dem Psalm 23 gehen wir getrost ins Jahr 2026 \nAnsprechpartnerin Ulrike Wasner-Guth\, Tel.: 02051 62384.
URL:https://kirche-velbert.de/veranstaltung/frauenabendkreis-5/
LOCATION:Gemeindehaus Oststraße\, Oststr. 59\, Velbert\, NRW\, 42551
CATEGORIES:Gesprächskreis
ATTACH;FMTTYPE=image/png:https://kirche-velbert.de/wp-content/uploads/Frauenabendkreis_calendar.png
END:VEVENT
BEGIN:VEVENT
DTSTART;TZID=Europe/Berlin:20260122T193000
DTEND;TZID=Europe/Berlin:20260122T210000
DTSTAMP:20260422T100836
CREATED:20251125T131702Z
LAST-MODIFIED:20260121T202928Z
UID:9013-1769110200-1769115600@kirche-velbert.de
SUMMARY:Bibelgesprächskreis - fällt heute leider aus
DESCRIPTION:Wir erleben weiterhin die besondere spirituelle Welt des Johannesevangeliums. Seid alle herzlich willkommen in unserer Runde. \nEin Anmeldung ist nicht nötig. Bitte bringen Sie eine Bibel mit. \nLeitung: Margret Stolz und Gerhard Sandrock.
URL:https://kirche-velbert.de/veranstaltung/bibelgespraechskreis-2/
LOCATION:Gemeindehaus Oststraße\, Oststr. 59\, Velbert\, NRW\, 42551
CATEGORIES:Gesprächskreis
ATTACH;FMTTYPE=image/jpeg:https://kirche-velbert.de/wp-content/uploads/Bibel_calendar.jpeg
END:VEVENT
BEGIN:VEVENT
DTSTART;TZID=Europe/Berlin:20260123T100000
DTEND;TZID=Europe/Berlin:20260123T100000
DTSTAMP:20260422T100836
CREATED:20251125T143313Z
LAST-MODIFIED:20251125T143313Z
UID:9074-1769162400-1769162400@kirche-velbert.de
SUMMARY:Seniorenheim-Gottesdienst Johanniterheim
DESCRIPTION:Der Gottesdienst mit Abendmahl findet um 10 Uhr im Johannessaal statt. \nGäste sind willkommen!
URL:https://kirche-velbert.de/veranstaltung/seniorenheim-gottesdienst-johanniterheim-4/
LOCATION:Johanniterheim\, Velbert
CATEGORIES:Gottesdienst
ATTACH;FMTTYPE=image/jpeg:https://kirche-velbert.de/wp-content/uploads/Kirchenfenster_calendar.jpeg
END:VEVENT
BEGIN:VEVENT
DTSTART;TZID=Europe/Berlin:20260123T150000
DTEND;TZID=Europe/Berlin:20260123T173000
DTSTAMP:20260422T100836
CREATED:20251125T124304Z
LAST-MODIFIED:20251125T124304Z
UID:8975-1769180400-1769189400@kirche-velbert.de
SUMMARY:Café Globus
DESCRIPTION:freitags lädt Café Globus zum fröhlichen Miteinander – Stadtlotsen\, Freundinnen von FairTrade-Kaffee\, gutem selbstgebackenem Kuchen – ein. \nGenauere Informationen finden Sie auf der Webseite unserer Café’s.
URL:https://kirche-velbert.de/veranstaltung/cafe-globus-47/
LOCATION:Gemeindehaus Oststraße\, Oststr. 59\, Velbert\, NRW\, 42551
CATEGORIES:Café
ATTACH;FMTTYPE=image/png:https://kirche-velbert.de/wp-content/uploads/Logo_Cafe_Globus_calendar.png
END:VEVENT
BEGIN:VEVENT
DTSTART;TZID=Europe/Berlin:20260123T180000
DTEND;TZID=Europe/Berlin:20260123T180000
DTSTAMP:20260422T100836
CREATED:20251125T144251Z
LAST-MODIFIED:20251125T144251Z
UID:9094-1769191200-1769191200@kirche-velbert.de
SUMMARY:Gottesdienst im Helios-Klinikum
DESCRIPTION:mit Pfrin. Anhuef-Natrop \n\nim Andachtsraum des neuen Hauses\, 4. Etage\, Raum A 4172 \n\n 
URL:https://kirche-velbert.de/veranstaltung/gottesdienst-im-helios-klinikum-36/
LOCATION:Helios Klinikum Niederberg\, Robert-Koch-Straße 2\, Velbert\, 42549\, Germany
CATEGORIES:Gottesdienst
ATTACH;FMTTYPE=image/jpeg:https://kirche-velbert.de/wp-content/uploads/Mini_Altar_calendar.jpeg
END:VEVENT
BEGIN:VEVENT
DTSTART;TZID=Europe/Berlin:20260123T190000
DTEND;TZID=Europe/Berlin:20260123T190000
DTSTAMP:20260422T100836
CREATED:20251127T193206Z
LAST-MODIFIED:20251127T193206Z
UID:9215-1769194800-1769194800@kirche-velbert.de
SUMMARY:Stammtisch 2026
DESCRIPTION:Stammtisch 2026 – Es geht weiter!\nNach den legendären Quiz-Schlachten im Frühjahr und Herbst 2025\, bei denen selbst die klügsten Köpfe ins Schwitzen kamen\, geht unser Stammtisch in die nächste Runde! \nIm Januar treffen wir uns am 23.1.26 wie gewohnt um 19 Uhr im Gemeindehaus Oststraße. Im Februar sind wir dann am 20.2.26 in den Räumen der Markuskirche zu Gast. Ob Quiz\, Spiel oder Überraschung – das Programm bleibt spannend. \nFreu dich auf nette Leute\, gute Gespräche\, leckere Snacks und beste Laune. \nKomm und sei dabei!
URL:https://kirche-velbert.de/veranstaltung/stammtisch-2026/
LOCATION:Gemeindehaus Oststraße\, Oststr. 59\, Velbert\, NRW\, 42551
ATTACH;FMTTYPE=image/png:https://kirche-velbert.de/wp-content/uploads/Stammtisch-e1764271881323.png
END:VEVENT
BEGIN:VEVENT
DTSTART;TZID=Europe/Berlin:20260125T100000
DTEND;TZID=Europe/Berlin:20260125T100000
DTSTAMP:20260422T100836
CREATED:20251126T195017Z
LAST-MODIFIED:20251126T195017Z
UID:9161-1769335200-1769335200@kirche-velbert.de
SUMMARY:Gottesdienst
DESCRIPTION:Pfr. Schmerkotte
URL:https://kirche-velbert.de/veranstaltung/gottesdienst-26/
LOCATION:Ev. Kirche Tönisheide\, Kuhlendahler Str. 35\, Velbert\, NRW\, 42553
CATEGORIES:Gottesdienst
ATTACH;FMTTYPE=image/png:https://kirche-velbert.de/wp-content/uploads/Kirche-Toenisheide-001_2b_calendar.png
END:VEVENT
END:VCALENDAR