BEGIN:VCALENDAR
VERSION:2.0
PRODID:-//Kirche-Velbert.de - ECPv6.15.20//NONSGML v1.0//EN
CALSCALE:GREGORIAN
METHOD:PUBLISH
X-WR-CALNAME:Kirche-Velbert.de
X-ORIGINAL-URL:https://kirche-velbert.de
X-WR-CALDESC:Veranstaltungen für Kirche-Velbert.de
REFRESH-INTERVAL;VALUE=DURATION:PT1H
X-Robots-Tag:noindex
X-PUBLISHED-TTL:PT1H
BEGIN:VTIMEZONE
TZID:Europe/Berlin
BEGIN:DAYLIGHT
TZOFFSETFROM:+0100
TZOFFSETTO:+0200
TZNAME:CEST
DTSTART:20250330T010000
END:DAYLIGHT
BEGIN:STANDARD
TZOFFSETFROM:+0200
TZOFFSETTO:+0100
TZNAME:CET
DTSTART:20251026T010000
END:STANDARD
BEGIN:DAYLIGHT
TZOFFSETFROM:+0100
TZOFFSETTO:+0200
TZNAME:CEST
DTSTART:20260329T010000
END:DAYLIGHT
BEGIN:STANDARD
TZOFFSETFROM:+0200
TZOFFSETTO:+0100
TZNAME:CET
DTSTART:20261025T010000
END:STANDARD
BEGIN:DAYLIGHT
TZOFFSETFROM:+0100
TZOFFSETTO:+0200
TZNAME:CEST
DTSTART:20270328T010000
END:DAYLIGHT
BEGIN:STANDARD
TZOFFSETFROM:+0200
TZOFFSETTO:+0100
TZNAME:CET
DTSTART:20271031T010000
END:STANDARD
END:VTIMEZONE
BEGIN:VEVENT
DTSTART;TZID=Europe/Berlin:20260201T110000
DTEND;TZID=Europe/Berlin:20260201T110000
DTSTAMP:20260422T081629
CREATED:20251126T195947Z
LAST-MODIFIED:20251126T195947Z
UID:9168-1769943600-1769943600@kirche-velbert.de
SUMMARY:Gottesdienst
DESCRIPTION:Pfr. Dr. Jeschke
URL:https://kirche-velbert.de/veranstaltung/gottesdienst-27/
LOCATION:Gemeindehaus Oststraße\, Oststr. 59\, Velbert\, NRW\, 42551
CATEGORIES:Gottesdienst
ATTACH;FMTTYPE=image/png:https://kirche-velbert.de/wp-content/uploads/Gemeindehaus_Oststrr-Kirche-e1764097590331.png
END:VEVENT
BEGIN:VEVENT
DTSTART;TZID=Europe/Berlin:20260204T103000
DTEND;TZID=Europe/Berlin:20260204T103000
DTSTAMP:20260422T081629
CREATED:20251125T135012Z
LAST-MODIFIED:20251125T135012Z
UID:9052-1770201000-1770201000@kirche-velbert.de
SUMMARY:Seniorenheim-Gottesdienst für die Bewohner Rheinischer Hof
DESCRIPTION:Pfr. i.R. Bendokat
URL:https://kirche-velbert.de/veranstaltung/seniorenheim-gottesdienst-fuer-die-bewohner-rheinischer-hof-3/
LOCATION:Seniorenheim Residenz\, Rheinischer Hof\, Velbert\, Kolpingstraße 5-7\, Velbert\, 42551
CATEGORIES:Gottesdienst
ATTACH;FMTTYPE=image/jpeg:https://kirche-velbert.de/wp-content/uploads/Kirchenfenster_calendar.jpeg
END:VEVENT
BEGIN:VEVENT
DTSTART;TZID=Europe/Berlin:20260204T150000
DTEND;TZID=Europe/Berlin:20260204T170000
DTSTAMP:20260422T081629
CREATED:20251125T123624Z
LAST-MODIFIED:20251125T123624Z
UID:8957-1770217200-1770224400@kirche-velbert.de
SUMMARY:Café Böhnchen
DESCRIPTION:für Frauen und Männer\, im Ev. Gemeindehaus\, mit Rosalie Zech und Pastor Dieter Jeschke. \nDas Cafè Böhnchen ist entstanden aus dem Frauentreff. Alle zwei Wochen machen wir uns einen gemütlichen Nachmittag von 15 bis 17 Uhr. An jedem ersten Mittwoch des Monats mit Programm\, an jedem 3. Mittwoch des Monats als gemütlicher Tötter-Treff. \nWir freuen uns über weitere Helferinnen und Helfer.
URL:https://kirche-velbert.de/veranstaltung/cafe-boehnchen-5/
LOCATION:Gemeindehaus Kuhlendahler Straße\, Kuhlendahler Str. 34\, Velbert\, 42553\, Deutschland
CATEGORIES:Café
ATTACH;FMTTYPE=image/jpeg:https://kirche-velbert.de/wp-content/uploads/Toetterkreis_calendar.jpeg
END:VEVENT
BEGIN:VEVENT
DTSTART;TZID=Europe/Berlin:20260205T093000
DTEND;TZID=Europe/Berlin:20260205T113000
DTSTAMP:20260422T081629
CREATED:20251125T124842Z
LAST-MODIFIED:20251125T124842Z
UID:8993-1770283800-1770291000@kirche-velbert.de
SUMMARY:Krümelcafé
DESCRIPTION:Jeden 1. und 3. Donnerstag im Monat. \nDas Krümelcafé lädt herzlich zu einer Auszeit vom Alltag für Jedermann in die Kuhlendahler Str. 34 ein. Geöffnet von 9:30 bis 11:30 Uhr. \nEntspannen bei einer Tasse Kaffee/ Tee und Leckereien\, Austausch und Kontakte knüpfen\, während die Kleinen spielen. \nWeitere Informationen …
URL:https://kirche-velbert.de/veranstaltung/kruemelcafe-8/
LOCATION:Gemeindehaus Kuhlendahler Straße\, Kuhlendahler Str. 34\, Velbert\, 42553\, Deutschland
CATEGORIES:Café
ATTACH;FMTTYPE=image/jpeg:https://kirche-velbert.de/wp-content/uploads/Toetterkreis_calendar.jpeg
END:VEVENT
BEGIN:VEVENT
DTSTART;TZID=Europe/Berlin:20260205T101500
DTEND;TZID=Europe/Berlin:20260205T101500
DTSTAMP:20260422T081629
CREATED:20251125T142520Z
LAST-MODIFIED:20251125T142520Z
UID:9062-1770286500-1770286500@kirche-velbert.de
SUMMARY:Seniorenheim-Gottesdienst für die Bewohner Domizil
DESCRIPTION:Pfr. i.R. Bendokat
URL:https://kirche-velbert.de/veranstaltung/seniorenheim-gottesdienst-fuer-die-bewohner-domizil-3/
LOCATION:Seniorenheim Domizil\, Velbert\, Friedrichstr. 191\, Velbert\, 42551
CATEGORIES:Gottesdienst
ATTACH;FMTTYPE=image/jpeg:https://kirche-velbert.de/wp-content/uploads/Kirchenfenster_calendar.jpeg
END:VEVENT
BEGIN:VEVENT
DTSTART;TZID=Europe/Berlin:20260205T190000
DTEND;TZID=Europe/Berlin:20260205T190000
DTSTAMP:20260422T081629
CREATED:20251127T194636Z
LAST-MODIFIED:20251127T194636Z
UID:9220-1770318000-1770318000@kirche-velbert.de
SUMMARY:Theatergruppe
DESCRIPTION:Lust auf Theater? Dann mach mit!\nDie Idee entstand bei den kleinen Anspiel- Szenen der Picknickdecken-Gottesdienste: Wenn kleines „Theate schon so viel Spaß macht – um wie viel mehr dann „großes“?! \nIch habe noch keinen Plan\, in welche Richtung es gehen soll. Kirchen-Cabaret? Genug Themen gibt es da … Sketch-Theater? So ähnlich wie früher im Fernsehen „Sketch History“ – kam gut an. Oder größeres Theater mit Stücken\, die etwas aufwändiger einstudiert werden? Projekt-Theater? \nDas alles hängt von euch ab\, die ihr Lust habt auf Theater! \nErstes Treffen: Donnerstag\, 5. Februar 2026\, 19 Uhr\, Gemeindehaus Tönisheide. \nDas wird unser Brainstorming-Treffen. Rückmeldungen? Ideen? Kreatives jetzt bereits? Anmeldungen? \nFür alles meldet euch bei mir: \nDieter Jeschke \n02053 839818 oder 0151 70107003
URL:https://kirche-velbert.de/veranstaltung/theatergruppe/
LOCATION:Gemeindehaus Kuhlendahler Straße\, Kuhlendahler Str. 34\, Velbert\, 42553\, Deutschland
CATEGORIES:Aktuelles,Workshop
ATTACH;FMTTYPE=image/jpeg:https://kirche-velbert.de/wp-content/uploads/Theaterrvorhang-e1764272777802.jpg
END:VEVENT
BEGIN:VEVENT
DTSTART;TZID=Europe/Berlin:20260205T193000
DTEND;TZID=Europe/Berlin:20260205T210000
DTSTAMP:20260422T081629
CREATED:20251125T131744Z
LAST-MODIFIED:20251125T131744Z
UID:9016-1770319800-1770325200@kirche-velbert.de
SUMMARY:Bibelgesprächskreis
DESCRIPTION:Wir erleben weiterhin die besondere spirituelle Welt des Johannesevangeliums. Seid alle herzlich willkommen in unserer Runde. \nEin Anmeldung ist nicht nötig. Bitte bringen Sie eine Bibel mit. \nLeitung: Margret Stolz und Gerhard Sandrock.
URL:https://kirche-velbert.de/veranstaltung/bibelgespraechskreis-3/
LOCATION:Gemeindehaus Oststraße\, Oststr. 59\, Velbert\, NRW\, 42551
CATEGORIES:Gesprächskreis
ATTACH;FMTTYPE=image/jpeg:https://kirche-velbert.de/wp-content/uploads/Bibel_calendar.jpeg
END:VEVENT
BEGIN:VEVENT
DTSTART;TZID=Europe/Berlin:20260206T150000
DTEND;TZID=Europe/Berlin:20260206T173000
DTSTAMP:20260422T081629
CREATED:20251125T124418Z
LAST-MODIFIED:20251125T124418Z
UID:8979-1770390000-1770399000@kirche-velbert.de
SUMMARY:Café Globus
DESCRIPTION:freitags lädt Café Globus zum fröhlichen Miteinander – Stadtlotsen\, Freundinnen von FairTrade-Kaffee\, gutem selbstgebackenem Kuchen – ein. \nGenauere Informationen finden Sie auf der Webseite unserer Café’s.
URL:https://kirche-velbert.de/veranstaltung/cafe-globus-61/
LOCATION:Gemeindehaus Oststraße\, Oststr. 59\, Velbert\, NRW\, 42551
CATEGORIES:Café
ATTACH;FMTTYPE=image/png:https://kirche-velbert.de/wp-content/uploads/Logo_Cafe_Globus_calendar.png
END:VEVENT
BEGIN:VEVENT
DTSTART;TZID=Europe/Berlin:20260206T180000
DTEND;TZID=Europe/Berlin:20260206T180000
DTSTAMP:20260422T081629
CREATED:20251125T144342Z
LAST-MODIFIED:20251125T144342Z
UID:9096-1770400800-1770400800@kirche-velbert.de
SUMMARY:Gottesdienst im Helios-Klinikum
DESCRIPTION:mit Pfrin. Matzey-Striewski \nmit Abendmahl \n\nim Andachtsraum des neuen Hauses\, 4. Etage\, Raum A 4172 \n\n 
URL:https://kirche-velbert.de/veranstaltung/gottesdienst-im-helios-klinikum-37/
LOCATION:Helios Klinikum Niederberg\, Robert-Koch-Straße 2\, Velbert\, 42549\, Germany
CATEGORIES:Gottesdienst
ATTACH;FMTTYPE=image/jpeg:https://kirche-velbert.de/wp-content/uploads/Mini_Altar_calendar.jpeg
END:VEVENT
BEGIN:VEVENT
DTSTART;TZID=Europe/Berlin:20260206T183000
DTEND;TZID=Europe/Berlin:20260206T183000
DTSTAMP:20260422T081629
CREATED:20251126T202033Z
LAST-MODIFIED:20251126T202033Z
UID:9170-1770402600-1770402600@kirche-velbert.de
SUMMARY:Jugendgottesdienst der CVJMs
DESCRIPTION:Team
URL:https://kirche-velbert.de/veranstaltung/jugendgottesdienst-der-cvjms/
LOCATION:Apostelkirche\, Dalbecksbaum\, Wichernstr. 1\, Velbert\, NRW\, 42549\, Deutschland
CATEGORIES:Gottesdienst
ATTACH;FMTTYPE=image/jpeg:https://kirche-velbert.de/wp-content/uploads/JuGo-CVJMs-e1764188400112.jpg
END:VEVENT
BEGIN:VEVENT
DTSTART;TZID=Europe/Berlin:20260206T190000
DTEND;TZID=Europe/Berlin:20260206T190000
DTSTAMP:20260422T081629
CREATED:20251126T202906Z
LAST-MODIFIED:20260203T160500Z
UID:9173-1770404400-1770404400@kirche-velbert.de
SUMMARY:Gottesdienst "Das Gebet - Atem der Freiheit" - Lobpreisabend
DESCRIPTION:„Das Gebet-Atem der Freiheit“\nEine lebendige Beziehung zu Gott ist das wertvollste Geschenk für einen Menschen. Das Gebet ist die Rede unseres Herzens mit Gott. \nDas Gebet tut gut – es ist der Atem der Freiheit. Gebete gibt es in vorformulierten Worten oder in freier Rede. Wir können sie sprechen\, singen oder auch still im Herzen unsere Gefühle und Gedanken vor Gott bringen. \nUnser Frühjahrs-Projekt lädt zu vier ganz verschiedenen Formen des Betens ein. \nLobpreis-Abend \nmit Uwe Flaig und Dieter Jeschke
URL:https://kirche-velbert.de/veranstaltung/das-gebet-atem-der-freiheit-lobpreisabend/
LOCATION:Markuskirche\, Losenburger Weg 40\, Velbert\, NRW\, 42549
CATEGORIES:Gottesdienst
ATTACH;FMTTYPE=image/jpeg:https://kirche-velbert.de/wp-content/uploads/betende-Haende-e1764188905154.jpeg
END:VEVENT
BEGIN:VEVENT
DTSTART;TZID=Europe/Berlin:20260206T193000
DTEND;TZID=Europe/Berlin:20260206T193000
DTSTAMP:20260422T081629
CREATED:20251125T134554Z
LAST-MODIFIED:20251125T134554Z
UID:9044-1770406200-1770406200@kirche-velbert.de
SUMMARY:Gott und die Welt
DESCRIPTION:„Gott und die Welt“ ist ein offener Gesprächskreis für alle\, die sich gerne über theologische und andere aktuelle Themen unterhalten. \nKommen Sie gerne dazu\, Sie müssen kein Vorwissen mitbringen. \nAnsprechpartnerin: Pfarrerin Maret Schmerkotte\,\nTel.: 02051-607036\, maret.schmerkotte@kirche-velbert.de
URL:https://kirche-velbert.de/veranstaltung/gott-und-die-welt-7/
LOCATION:Gemeindehaus Oststraße\, Oststr. 59\, Velbert\, NRW\, 42551
CATEGORIES:Gesprächskreis
ATTACH;FMTTYPE=image/jpeg:https://kirche-velbert.de/wp-content/uploads/Toetterkreis_calendar.jpeg
END:VEVENT
BEGIN:VEVENT
DTSTART;TZID=Europe/Berlin:20260208T100000
DTEND;TZID=Europe/Berlin:20260208T100000
DTSTAMP:20260422T081629
CREATED:20251126T203219Z
LAST-MODIFIED:20251126T203219Z
UID:9175-1770544800-1770544800@kirche-velbert.de
SUMMARY:Gottesdienst
DESCRIPTION:Pfr. Schmidt
URL:https://kirche-velbert.de/veranstaltung/gottesdienst-28/
LOCATION:Ev. Kirche Tönisheide\, Kuhlendahler Str. 35\, Velbert\, NRW\, 42553
CATEGORIES:Gottesdienst
ATTACH;FMTTYPE=image/png:https://kirche-velbert.de/wp-content/uploads/Kirche-Toenisheide-001_2b_calendar.png
END:VEVENT
BEGIN:VEVENT
DTSTART;TZID=Europe/Berlin:20260208T110000
DTEND;TZID=Europe/Berlin:20260208T110000
DTSTAMP:20260422T081629
CREATED:20251126T204423Z
LAST-MODIFIED:20251126T204423Z
UID:9177-1770548400-1770548400@kirche-velbert.de
SUMMARY:Musikgottesdienst
DESCRIPTION:Katrin Spodzieja (Violine) + Frank Schreiber (Klavier) \nKatrin Spodzieja © Sascha Kreklau\nWerke aus Klassik und Romantik \nmit Pfr. Schmerkotte
URL:https://kirche-velbert.de/veranstaltung/musikgottesdienst-3/
LOCATION:Gemeindehaus Oststraße\, Oststr. 59\, Velbert\, NRW\, 42551
CATEGORIES:Gottesdienst
ATTACH;FMTTYPE=image/png:https://kirche-velbert.de/wp-content/uploads/Gemeindehaus_Oststrr-Kirche-e1764097590331.png
END:VEVENT
BEGIN:VEVENT
DTSTART;TZID=Europe/Berlin:20260211T150000
DTEND;TZID=Europe/Berlin:20260211T163000
DTSTAMP:20260422T081629
CREATED:20251105T203524Z
LAST-MODIFIED:20251105T203524Z
UID:8818-1770822000-1770827400@kirche-velbert.de
SUMMARY:Mittwochscafé
DESCRIPTION:Unser Gesprächskreis trifft sich im 14-tägigen Rhythmus mittwochs von 15.00Uhr bis 16.30Uhr im Gemeindehaus Oststraße. \nEs erwartet Sie ein Programm mit Kaffee und Kuchen\, Klönen\, Singen\, Spielen und spannenden Themen. Das Miteinander ist fröhlich und nett. Sie sind herzlich eingeladen\, auch ohne Anmeldung vorbei zu kommen.
URL:https://kirche-velbert.de/veranstaltung/mittwochscafe-9/
LOCATION:Gemeindehaus Oststraße\, Oststr. 59\, Velbert\, NRW\, 42551
ATTACH;FMTTYPE=image/jpeg:https://kirche-velbert.de/wp-content/uploads/Spielen_Senioren_calendar.jpeg
END:VEVENT
BEGIN:VEVENT
DTSTART;TZID=Europe/Berlin:20260212T193000
DTEND;TZID=Europe/Berlin:20260212T210000
DTSTAMP:20260422T081629
CREATED:20251125T122635Z
LAST-MODIFIED:20251125T122635Z
UID:8949-1770924600-1770930000@kirche-velbert.de
SUMMARY:Frauenabendkreis
DESCRIPTION:Wir befassen uns mit dem surrealistischen Maler René Magritte: „Alles\, was wir sehen\, verbirgt etwas anderes.“ \nAnsprechpartnerin Ulrike Wasner-Guth\, Tel.: 02051 62384.
URL:https://kirche-velbert.de/veranstaltung/frauenabendkreis-10/
LOCATION:Gemeindehaus Oststraße\, Oststr. 59\, Velbert\, NRW\, 42551
CATEGORIES:Gesprächskreis
ATTACH;FMTTYPE=image/png:https://kirche-velbert.de/wp-content/uploads/Frauenabendkreis_calendar.png
END:VEVENT
BEGIN:VEVENT
DTSTART;TZID=Europe/Berlin:20260213T100000
DTEND;TZID=Europe/Berlin:20260213T100000
DTSTAMP:20260422T081629
CREATED:20251125T143414Z
LAST-MODIFIED:20251125T143414Z
UID:9078-1770976800-1770976800@kirche-velbert.de
SUMMARY:Seniorenheim-Gottesdienst Johanniterheim
DESCRIPTION:Der Gottesdienst findet um 10 Uhr im Johannessaal statt. \nGäste sind willkommen!
URL:https://kirche-velbert.de/veranstaltung/seniorenheim-gottesdienst-johanniterheim-6/
LOCATION:Johanniterheim\, Velbert
CATEGORIES:Gottesdienst
ATTACH;FMTTYPE=image/jpeg:https://kirche-velbert.de/wp-content/uploads/Kirchenfenster_calendar.jpeg
END:VEVENT
BEGIN:VEVENT
DTSTART;TZID=Europe/Berlin:20260213T150000
DTEND;TZID=Europe/Berlin:20260213T173000
DTSTAMP:20260422T081629
CREATED:20251125T124440Z
LAST-MODIFIED:20251125T124440Z
UID:8981-1770994800-1771003800@kirche-velbert.de
SUMMARY:Café Globus
DESCRIPTION:freitags lädt Café Globus zum fröhlichen Miteinander – Stadtlotsen\, Freundinnen von FairTrade-Kaffee\, gutem selbstgebackenem Kuchen – ein. \nGenauere Informationen finden Sie auf der Webseite unserer Café’s.
URL:https://kirche-velbert.de/veranstaltung/cafe-globus-62/
LOCATION:Gemeindehaus Oststraße\, Oststr. 59\, Velbert\, NRW\, 42551
CATEGORIES:Café
ATTACH;FMTTYPE=image/png:https://kirche-velbert.de/wp-content/uploads/Logo_Cafe_Globus_calendar.png
END:VEVENT
BEGIN:VEVENT
DTSTART;TZID=Europe/Berlin:20260215T100000
DTEND;TZID=Europe/Berlin:20260215T100000
DTSTAMP:20260422T081629
CREATED:20251126T205903Z
LAST-MODIFIED:20251126T205903Z
UID:9183-1771149600-1771149600@kirche-velbert.de
SUMMARY:Gottesdienst
DESCRIPTION:Pfr. Schmerkotte
URL:https://kirche-velbert.de/veranstaltung/gottesdienst-29/
LOCATION:Ev. Kirche Tönisheide\, Kuhlendahler Str. 35\, Velbert\, NRW\, 42553
CATEGORIES:Gottesdienst
ATTACH;FMTTYPE=image/png:https://kirche-velbert.de/wp-content/uploads/Kirche-Toenisheide-001_2b_calendar.png
END:VEVENT
BEGIN:VEVENT
DTSTART;TZID=Europe/Berlin:20260215T103000
DTEND;TZID=Europe/Berlin:20260215T103000
DTSTAMP:20260422T081629
CREATED:20251126T210046Z
LAST-MODIFIED:20251126T210046Z
UID:9185-1771151400-1771151400@kirche-velbert.de
SUMMARY:Oase-Gottesdienst mit Abendmahl
DESCRIPTION:Der besondere Sonntagsgottesdienst gestaltet vom Oase-Team mit Abendmahl. \nPfr. Flaig und Team
URL:https://kirche-velbert.de/veranstaltung/oase-gottesdienst-mit-abendmahl-2/
LOCATION:Markuskirche\, Losenburger Weg 40\, Velbert\, NRW\, 42549
CATEGORIES:Gottesdienst
ATTACH;FMTTYPE=image/jpeg:https://kirche-velbert.de/wp-content/uploads/Oase_calendar.jpeg
END:VEVENT
BEGIN:VEVENT
DTSTART;TZID=Europe/Berlin:20260215T143000
DTEND;TZID=Europe/Berlin:20260215T163000
DTSTAMP:20260422T081629
CREATED:20251125T125751Z
LAST-MODIFIED:20251125T125751Z
UID:9006-1771165800-1771173000@kirche-velbert.de
SUMMARY:Café Make
DESCRIPTION:Informationen zur Veranstaltung …
URL:https://kirche-velbert.de/veranstaltung/cafe-make-2/
LOCATION:Markuskirche\, Losenburger Weg 40\, Velbert\, NRW\, 42549
CATEGORIES:Café
ATTACH;FMTTYPE=image/png:https://kirche-velbert.de/wp-content/uploads/CafeMake_Kuchen_calendar.png
END:VEVENT
BEGIN:VEVENT
DTSTART;TZID=Europe/Berlin:20260218T150000
DTEND;TZID=Europe/Berlin:20260218T170000
DTSTAMP:20260422T081629
CREATED:20251125T123656Z
LAST-MODIFIED:20251125T123656Z
UID:8959-1771426800-1771434000@kirche-velbert.de
SUMMARY:Café Böhnchen
DESCRIPTION:für Frauen und Männer\, im Ev. Gemeindehaus\, mit Rosalie Zech und Pastor Dieter Jeschke. \nDas Cafè Böhnchen ist entstanden aus dem Frauentreff. Alle zwei Wochen machen wir uns einen gemütlichen Nachmittag von 15 bis 17 Uhr. An jedem ersten Mittwoch des Monats mit Programm\, an jedem 3. Mittwoch des Monats als gemütlicher Tötter-Treff. \nWir freuen uns über weitere Helferinnen und Helfer.
URL:https://kirche-velbert.de/veranstaltung/cafe-boehnchen-6/
LOCATION:Gemeindehaus Kuhlendahler Straße\, Kuhlendahler Str. 34\, Velbert\, 42553\, Deutschland
CATEGORIES:Café
ATTACH;FMTTYPE=image/jpeg:https://kirche-velbert.de/wp-content/uploads/Toetterkreis_calendar.jpeg
END:VEVENT
BEGIN:VEVENT
DTSTART;TZID=Europe/Berlin:20260218T190000
DTEND;TZID=Europe/Berlin:20260218T190000
DTSTAMP:20260422T081629
CREATED:20260210T201247Z
LAST-MODIFIED:20260210T202731Z
UID:9869-1771441200-1771441200@kirche-velbert.de
SUMMARY:7 Wochen Ohne - Sehnsucht
DESCRIPTION:Sieben Wochen ohne… \n\n\nHärte ist allgegenwärtig. Sie zeigt sich in Unbarmherzigkeit\, Friedlosigkeit und Gewalt. Auch wir selbst legen manchmal harte Panzer an\, um uns zu schützen. Gott aber tritt unserer Welt ganz anders gegenüber: ungeschützt und mitfühlend. \n\n\nDie Fastenaktion der Evangelischen Kirche steht in diesem Jahr unter dem Motto: \n\n\n„Mit Gefühl! Sieben Wochen ohne Härte.“ \n\n\n Mit Gefühl wollen wir deshalb durch die Passionszeit gehen\, auf Ostern zu. Wir laden Sie zu sieben Andachten ein\, die uns sensibler machen für den Blick Gottes auf unsere Welt\, und die uns helfen\, einen mitfühlenden Umgang miteinander einzuüben. \n\n\n„Lassen Sie uns fühlen\, wie lebendig das Leben sein kann\, wenn es jenseits aller Härte neu wird!“ \n\n\n(Ralf Meister\, Landesbischof in Hannover und Botschafter der Aktion „7 Wochen Ohne“)  \n\n\nDie Andachten finden jeweils mittwochs 19:00 Uhr statt: \n\n„Sehnsucht“ – 18.2.\, Markuskirche: mit Görge Hasselhoff
URL:https://kirche-velbert.de/veranstaltung/7-wochen-ohne-sehnsucht/
LOCATION:Markuskirche\, Losenburger Weg 40\, Velbert\, NRW\, 42549
CATEGORIES:Gottesdienst
ATTACH;FMTTYPE=image/jpeg:https://kirche-velbert.de/wp-content/uploads/7-Wochen-ohne-e1770755241302.jpg
END:VEVENT
BEGIN:VEVENT
DTSTART;TZID=Europe/Berlin:20260219T093000
DTEND;TZID=Europe/Berlin:20260219T113000
DTSTAMP:20260422T081629
CREATED:20251125T124915Z
LAST-MODIFIED:20251125T124915Z
UID:8995-1771493400-1771500600@kirche-velbert.de
SUMMARY:Krümelcafé
DESCRIPTION:Jeden 1. und 3. Donnerstag im Monat. \nDas Krümelcafé lädt herzlich zu einer Auszeit vom Alltag für Jedermann in die Kuhlendahler Str. 34 ein. Geöffnet von 9:30 bis 11:30 Uhr. \nEntspannen bei einer Tasse Kaffee/ Tee und Leckereien\, Austausch und Kontakte knüpfen\, während die Kleinen spielen. \nWeitere Informationen …
URL:https://kirche-velbert.de/veranstaltung/kruemelcafe-9/
LOCATION:Gemeindehaus Kuhlendahler Straße\, Kuhlendahler Str. 34\, Velbert\, 42553\, Deutschland
CATEGORIES:Café
ATTACH;FMTTYPE=image/jpeg:https://kirche-velbert.de/wp-content/uploads/Toetterkreis_calendar.jpeg
END:VEVENT
BEGIN:VEVENT
DTSTART;TZID=Europe/Berlin:20260219T183000
DTEND;TZID=Europe/Berlin:20260219T210000
DTSTAMP:20260422T081629
CREATED:20251127T195156Z
LAST-MODIFIED:20251127T195156Z
UID:9223-1771525800-1771534800@kirche-velbert.de
SUMMARY:Kinoabend in der Markuskirche
DESCRIPTION:Um 18:30 Uhr lädt das Filmteam der Markuskirche wieder in den Losenburger Weg ein. Wie immer beginnt der Abend mit einem umfangreichen Themenbüffet. Gegen 19:15 Uhr beginnt der Film. \nDie Teilnahme am Büffet und der Film sind kostenlos\, um eine Spende wird jedoch gebeten.
URL:https://kirche-velbert.de/veranstaltung/kinoabend-in-der-markuskirche/
LOCATION:Markuskirche\, Losenburger Weg 40\, Velbert\, NRW\, 42549
ATTACH;FMTTYPE=image/jpeg:https://kirche-velbert.de/wp-content/uploads/Kino_Calendar.jpeg
END:VEVENT
BEGIN:VEVENT
DTSTART;TZID=Europe/Berlin:20260219T190000
DTEND;TZID=Europe/Berlin:20260219T190000
DTSTAMP:20260422T081629
CREATED:20251125T133343Z
LAST-MODIFIED:20260210T181058Z
UID:9032-1771527600-1771527600@kirche-velbert.de
SUMMARY:Frauen-Kontaktkreis
DESCRIPTION:Herzliche Einladung zu unserem Gesprächskreis für Frauen!Alle 14 Tage – jeweils donnerstags in den ungeraden Wochen – treffen wir uns um 19 Uhr in der Markuskirche.Freuen Sie sich auf interessante Themen\, anregende Vorträge und Zeit für Austausch in angenehmer Runde.Wir freuen uns auf Ihr Kommen! \nKontakt: Christel Krey\, 02051 82119
URL:https://kirche-velbert.de/veranstaltung/frauen-kontaktkreis-12/
LOCATION:Markuskirche\, Losenburger Weg 40\, Velbert\, NRW\, 42549
CATEGORIES:Gesprächskreis
ATTACH;FMTTYPE=image/jpeg:https://kirche-velbert.de/wp-content/uploads/Toetterkreis_calendar.jpeg
END:VEVENT
BEGIN:VEVENT
DTSTART;TZID=Europe/Berlin:20260219T193000
DTEND;TZID=Europe/Berlin:20260219T210000
DTSTAMP:20260422T081629
CREATED:20251125T131810Z
LAST-MODIFIED:20251125T131810Z
UID:9018-1771529400-1771534800@kirche-velbert.de
SUMMARY:Bibelgesprächskreis
DESCRIPTION:Wir erleben weiterhin die besondere spirituelle Welt des Johannesevangeliums. Seid alle herzlich willkommen in unserer Runde. \nEin Anmeldung ist nicht nötig. Bitte bringen Sie eine Bibel mit. \nLeitung: Margret Stolz und Gerhard Sandrock.
URL:https://kirche-velbert.de/veranstaltung/bibelgespraechskreis-4/
LOCATION:Gemeindehaus Oststraße\, Oststr. 59\, Velbert\, NRW\, 42551
CATEGORIES:Gesprächskreis
ATTACH;FMTTYPE=image/jpeg:https://kirche-velbert.de/wp-content/uploads/Bibel_calendar.jpeg
END:VEVENT
BEGIN:VEVENT
DTSTART;TZID=Europe/Berlin:20260220T150000
DTEND;TZID=Europe/Berlin:20260220T173000
DTSTAMP:20260422T081629
CREATED:20251125T124507Z
LAST-MODIFIED:20251125T124507Z
UID:8983-1771599600-1771608600@kirche-velbert.de
SUMMARY:Café Globus
DESCRIPTION:freitags lädt Café Globus zum fröhlichen Miteinander – Stadtlotsen\, Freundinnen von FairTrade-Kaffee\, gutem selbstgebackenem Kuchen – ein. \nGenauere Informationen finden Sie auf der Webseite unserer Café’s.
URL:https://kirche-velbert.de/veranstaltung/cafe-globus-63/
LOCATION:Gemeindehaus Oststraße\, Oststr. 59\, Velbert\, NRW\, 42551
CATEGORIES:Café
ATTACH;FMTTYPE=image/png:https://kirche-velbert.de/wp-content/uploads/Logo_Cafe_Globus_calendar.png
END:VEVENT
BEGIN:VEVENT
DTSTART;TZID=Europe/Berlin:20260220T180000
DTEND;TZID=Europe/Berlin:20260220T180000
DTSTAMP:20260422T081629
CREATED:20251125T144412Z
LAST-MODIFIED:20251125T144412Z
UID:9098-1771610400-1771610400@kirche-velbert.de
SUMMARY:Gottesdienst im Helios-Klinikum
DESCRIPTION:mit Pfrin. Matzey-Striewski \n\nim Andachtsraum des neuen Hauses\, 4. Etage\, Raum A 4172 \n\n 
URL:https://kirche-velbert.de/veranstaltung/gottesdienst-im-helios-klinikum-38/
LOCATION:Helios Klinikum Niederberg\, Robert-Koch-Straße 2\, Velbert\, 42549\, Germany
CATEGORIES:Gottesdienst
ATTACH;FMTTYPE=image/jpeg:https://kirche-velbert.de/wp-content/uploads/Mini_Altar_calendar.jpeg
END:VEVENT
BEGIN:VEVENT
DTSTART;TZID=Europe/Berlin:20260220T190000
DTEND;TZID=Europe/Berlin:20260220T190000
DTSTAMP:20260422T081629
CREATED:20251127T193346Z
LAST-MODIFIED:20251127T193346Z
UID:9218-1771614000-1771614000@kirche-velbert.de
SUMMARY:Stammtisch 2026
DESCRIPTION:Stammtisch 2026 – Es geht weiter!\nNach den legendären Quiz-Schlachten im Frühjahr und Herbst 2025\, bei denen selbst die klügsten Köpfe ins Schwitzen kamen\, geht unser Stammtisch in die nächste Runde! \nIm Februar sind wir am 20.2.26 in den Räumen der Markuskirche zu Gast. Ob Quiz\, Spiel oder Überraschung – das Programm bleibt spannend. \nFreu dich auf nette Leute\, gute Gespräche\, leckere Snacks und beste Laune. \nKomm und sei dabei!
URL:https://kirche-velbert.de/veranstaltung/stammtisch-2026-2/
LOCATION:Markuskirche\, Losenburger Weg 40\, Velbert\, NRW\, 42549
ATTACH;FMTTYPE=image/png:https://kirche-velbert.de/wp-content/uploads/Stammtisch-e1764271881323.png
END:VEVENT
END:VCALENDAR