BEGIN:VCALENDAR
VERSION:2.0
PRODID:-//Kirche-Velbert.de - ECPv6.15.20//NONSGML v1.0//EN
CALSCALE:GREGORIAN
METHOD:PUBLISH
X-WR-CALNAME:Kirche-Velbert.de
X-ORIGINAL-URL:https://kirche-velbert.de
X-WR-CALDESC:Veranstaltungen für Kirche-Velbert.de
REFRESH-INTERVAL;VALUE=DURATION:PT1H
X-Robots-Tag:noindex
X-PUBLISHED-TTL:PT1H
BEGIN:VTIMEZONE
TZID:Europe/Berlin
BEGIN:DAYLIGHT
TZOFFSETFROM:+0100
TZOFFSETTO:+0200
TZNAME:CEST
DTSTART:20250330T010000
END:DAYLIGHT
BEGIN:STANDARD
TZOFFSETFROM:+0200
TZOFFSETTO:+0100
TZNAME:CET
DTSTART:20251026T010000
END:STANDARD
BEGIN:DAYLIGHT
TZOFFSETFROM:+0100
TZOFFSETTO:+0200
TZNAME:CEST
DTSTART:20260329T010000
END:DAYLIGHT
BEGIN:STANDARD
TZOFFSETFROM:+0200
TZOFFSETTO:+0100
TZNAME:CET
DTSTART:20261025T010000
END:STANDARD
BEGIN:DAYLIGHT
TZOFFSETFROM:+0100
TZOFFSETTO:+0200
TZNAME:CEST
DTSTART:20270328T010000
END:DAYLIGHT
BEGIN:STANDARD
TZOFFSETFROM:+0200
TZOFFSETTO:+0100
TZNAME:CET
DTSTART:20271031T010000
END:STANDARD
END:VTIMEZONE
BEGIN:VEVENT
DTSTART;TZID=Europe/Berlin:20260211T150000
DTEND;TZID=Europe/Berlin:20260211T163000
DTSTAMP:20260422T103939
CREATED:20251105T203524Z
LAST-MODIFIED:20251105T203524Z
UID:8818-1770822000-1770827400@kirche-velbert.de
SUMMARY:Mittwochscafé
DESCRIPTION:Unser Gesprächskreis trifft sich im 14-tägigen Rhythmus mittwochs von 15.00Uhr bis 16.30Uhr im Gemeindehaus Oststraße. \nEs erwartet Sie ein Programm mit Kaffee und Kuchen\, Klönen\, Singen\, Spielen und spannenden Themen. Das Miteinander ist fröhlich und nett. Sie sind herzlich eingeladen\, auch ohne Anmeldung vorbei zu kommen.
URL:https://kirche-velbert.de/veranstaltung/mittwochscafe-9/
LOCATION:Gemeindehaus Oststraße\, Oststr. 59\, Velbert\, NRW\, 42551
ATTACH;FMTTYPE=image/jpeg:https://kirche-velbert.de/wp-content/uploads/Spielen_Senioren_calendar.jpeg
END:VEVENT
BEGIN:VEVENT
DTSTART;TZID=Europe/Berlin:20260225T150000
DTEND;TZID=Europe/Berlin:20260225T163000
DTSTAMP:20260422T103939
CREATED:20251125T130809Z
LAST-MODIFIED:20251125T132724Z
UID:9009-1772031600-1772037000@kirche-velbert.de
SUMMARY:Mittwochscafé
DESCRIPTION: Landinformation Nigeria (Vorbereitung auf den Weltgebetstag am 06. März) mit Maret Schmerkotte\n\n\nEs erwartet Sie ein Programm mit Kaffee und Kuchen\, Klönen\, Singen\, Spielen und spannenden Themen. Das Miteinander ist fröhlich und nett. Sie sind herzlich eingeladen\, auch ohne Anmeldung vorbei zu kommen.
URL:https://kirche-velbert.de/veranstaltung/mittwochscafe-10/
LOCATION:Gemeindehaus Oststraße\, Oststr. 59\, Velbert\, NRW\, 42551
ATTACH;FMTTYPE=image/jpeg:https://kirche-velbert.de/wp-content/uploads/Spielen_Senioren_calendar.jpeg
END:VEVENT
END:VCALENDAR