BEGIN:VCALENDAR
VERSION:2.0
PRODID:-//Kirche-Velbert.de - ECPv6.15.20//NONSGML v1.0//EN
CALSCALE:GREGORIAN
METHOD:PUBLISH
X-WR-CALNAME:Kirche-Velbert.de
X-ORIGINAL-URL:https://kirche-velbert.de
X-WR-CALDESC:Veranstaltungen für Kirche-Velbert.de
REFRESH-INTERVAL;VALUE=DURATION:PT1H
X-Robots-Tag:noindex
X-PUBLISHED-TTL:PT1H
BEGIN:VTIMEZONE
TZID:Europe/Berlin
BEGIN:DAYLIGHT
TZOFFSETFROM:+0100
TZOFFSETTO:+0200
TZNAME:CEST
DTSTART:20250330T010000
END:DAYLIGHT
BEGIN:STANDARD
TZOFFSETFROM:+0200
TZOFFSETTO:+0100
TZNAME:CET
DTSTART:20251026T010000
END:STANDARD
BEGIN:DAYLIGHT
TZOFFSETFROM:+0100
TZOFFSETTO:+0200
TZNAME:CEST
DTSTART:20260329T010000
END:DAYLIGHT
BEGIN:STANDARD
TZOFFSETFROM:+0200
TZOFFSETTO:+0100
TZNAME:CET
DTSTART:20261025T010000
END:STANDARD
BEGIN:DAYLIGHT
TZOFFSETFROM:+0100
TZOFFSETTO:+0200
TZNAME:CEST
DTSTART:20270328T010000
END:DAYLIGHT
BEGIN:STANDARD
TZOFFSETFROM:+0200
TZOFFSETTO:+0100
TZNAME:CET
DTSTART:20271031T010000
END:STANDARD
END:VTIMEZONE
BEGIN:VEVENT
DTSTART;TZID=Europe/Berlin:20260306T150000
DTEND;TZID=Europe/Berlin:20260306T173000
DTSTAMP:20260424T111752
CREATED:20251125T124601Z
LAST-MODIFIED:20251125T124601Z
UID:8987-1772809200-1772818200@kirche-velbert.de
SUMMARY:Café Globus
DESCRIPTION:freitags lädt Café Globus zum fröhlichen Miteinander – Stadtlotsen\, Freundinnen von FairTrade-Kaffee\, gutem selbstgebackenem Kuchen – ein. \nGenauere Informationen finden Sie auf der Webseite unserer Café’s.
URL:https://kirche-velbert.de/veranstaltung/cafe-globus-65/
LOCATION:Gemeindehaus Oststraße\, Oststr. 59\, Velbert\, NRW\, 42551
CATEGORIES:Café
ATTACH;FMTTYPE=image/png:https://kirche-velbert.de/wp-content/uploads/Logo_Cafe_Globus_calendar.png
END:VEVENT
BEGIN:VEVENT
DTSTART;TZID=Europe/Berlin:20260313T150000
DTEND;TZID=Europe/Berlin:20260313T173000
DTSTAMP:20260424T111752
CREATED:20251125T124636Z
LAST-MODIFIED:20251125T124636Z
UID:8989-1773414000-1773423000@kirche-velbert.de
SUMMARY:Café Globus
DESCRIPTION:freitags lädt Café Globus zum fröhlichen Miteinander – Stadtlotsen\, Freundinnen von FairTrade-Kaffee\, gutem selbstgebackenem Kuchen – ein. \nGenauere Informationen finden Sie auf der Webseite unserer Café’s.
URL:https://kirche-velbert.de/veranstaltung/cafe-globus-66/
LOCATION:Gemeindehaus Oststraße\, Oststr. 59\, Velbert\, NRW\, 42551
CATEGORIES:Café
ATTACH;FMTTYPE=image/png:https://kirche-velbert.de/wp-content/uploads/Logo_Cafe_Globus_calendar.png
END:VEVENT
BEGIN:VEVENT
DTSTART;TZID=Europe/Berlin:20260320T150000
DTEND;TZID=Europe/Berlin:20260320T173000
DTSTAMP:20260424T111752
CREATED:20260210T182552Z
LAST-MODIFIED:20260210T182552Z
UID:9771-1774018800-1774027800@kirche-velbert.de
SUMMARY:Café Globus
DESCRIPTION:freitags lädt Café Globus zum fröhlichen Miteinander – Stadtlotsen\, Freundinnen von FairTrade-Kaffee\, gutem selbstgebackenem Kuchen – ein. \nGenauere Informationen finden Sie auf der Webseite unserer Café’s.
URL:https://kirche-velbert.de/veranstaltung/cafe-globus-36/
LOCATION:Gemeindehaus Oststraße\, Oststr. 59\, Velbert\, NRW\, 42551
CATEGORIES:Café
ATTACH;FMTTYPE=image/png:https://kirche-velbert.de/wp-content/uploads/Logo_Cafe_Globus_calendar.png
END:VEVENT
BEGIN:VEVENT
DTSTART;TZID=Europe/Berlin:20260327T150000
DTEND;TZID=Europe/Berlin:20260327T173000
DTSTAMP:20260424T111752
CREATED:20260210T182612Z
LAST-MODIFIED:20260210T182612Z
UID:9773-1774623600-1774632600@kirche-velbert.de
SUMMARY:Café Globus
DESCRIPTION:freitags lädt Café Globus zum fröhlichen Miteinander – Stadtlotsen\, Freundinnen von FairTrade-Kaffee\, gutem selbstgebackenem Kuchen – ein. \nGenauere Informationen finden Sie auf der Webseite unserer Café’s.
URL:https://kirche-velbert.de/veranstaltung/cafe-globus-49/
LOCATION:Gemeindehaus Oststraße\, Oststr. 59\, Velbert\, NRW\, 42551
CATEGORIES:Café
ATTACH;FMTTYPE=image/png:https://kirche-velbert.de/wp-content/uploads/Logo_Cafe_Globus_calendar.png
END:VEVENT
END:VCALENDAR