BEGIN:VCALENDAR
VERSION:2.0
PRODID:-//Kirche-Velbert.de - ECPv6.15.20//NONSGML v1.0//EN
CALSCALE:GREGORIAN
METHOD:PUBLISH
X-WR-CALNAME:Kirche-Velbert.de
X-ORIGINAL-URL:https://kirche-velbert.de
X-WR-CALDESC:Veranstaltungen für Kirche-Velbert.de
REFRESH-INTERVAL;VALUE=DURATION:PT1H
X-Robots-Tag:noindex
X-PUBLISHED-TTL:PT1H
BEGIN:VTIMEZONE
TZID:Europe/Berlin
BEGIN:DAYLIGHT
TZOFFSETFROM:+0100
TZOFFSETTO:+0200
TZNAME:CEST
DTSTART:20240331T010000
END:DAYLIGHT
BEGIN:STANDARD
TZOFFSETFROM:+0200
TZOFFSETTO:+0100
TZNAME:CET
DTSTART:20241027T010000
END:STANDARD
BEGIN:DAYLIGHT
TZOFFSETFROM:+0100
TZOFFSETTO:+0200
TZNAME:CEST
DTSTART:20250330T010000
END:DAYLIGHT
BEGIN:STANDARD
TZOFFSETFROM:+0200
TZOFFSETTO:+0100
TZNAME:CET
DTSTART:20251026T010000
END:STANDARD
BEGIN:DAYLIGHT
TZOFFSETFROM:+0100
TZOFFSETTO:+0200
TZNAME:CEST
DTSTART:20260329T010000
END:DAYLIGHT
BEGIN:STANDARD
TZOFFSETFROM:+0200
TZOFFSETTO:+0100
TZNAME:CET
DTSTART:20261025T010000
END:STANDARD
END:VTIMEZONE
BEGIN:VEVENT
DTSTART;TZID=Europe/Berlin:20251101T150000
DTEND;TZID=Europe/Berlin:20251101T170000
DTSTAMP:20260420T220622
CREATED:20250727T130328Z
LAST-MODIFIED:20250727T130328Z
UID:7637-1762009200-1762016400@kirche-velbert.de
SUMMARY:Basteln für den Basar
DESCRIPTION:Der Basarkreis bastelt alle 14 Tage samstags von 15.00-17.00 Uhr im Gemeindehaus Oststr.\nGebastelt wird nur in der zweiten Jahreshälfte.\nWir würden uns sehr über neue\,  auch jüngere Mitglieder in dieser Gruppe freuen. Wer Lust hat an den Samstagen mit uns oder auch zu Hause für den Basar zu basteln ist herzlich willkommen!\nGebastelt werden weihnachtliche Dekoration\, kleine Geschenke und Mitbringsel. Es werden auch kleine Leckereien für die Weihnachtszeit gebacken und gekocht. Wer Interesse an Strickarbeiten (Socken) hat\, ist auch herzlich willkommen.
URL:https://kirche-velbert.de/veranstaltung/basteln-fuer-den-basar-8/
LOCATION:Gemeindehaus Oststraße\, Oststr. 59\, Velbert\, NRW\, 42551
ATTACH;FMTTYPE=image/jpeg:https://kirche-velbert.de/wp-content/uploads/FUNDUS_5915_Klama-26-KKL14102214411864783-scr-e1753620908236.jpg
END:VEVENT
BEGIN:VEVENT
DTSTART;TZID=Europe/Berlin:20251108T150000
DTEND;TZID=Europe/Berlin:20251108T170000
DTSTAMP:20260420T220622
CREATED:20250727T130353Z
LAST-MODIFIED:20250727T130353Z
UID:7639-1762614000-1762621200@kirche-velbert.de
SUMMARY:Basteln für den Basar
DESCRIPTION:Der Basarkreis bastelt alle 14 Tage samstags von 15.00-17.00 Uhr im Gemeindehaus Oststr.\nGebastelt wird nur in der zweiten Jahreshälfte.\nWir würden uns sehr über neue\,  auch jüngere Mitglieder in dieser Gruppe freuen. Wer Lust hat an den Samstagen mit uns oder auch zu Hause für den Basar zu basteln ist herzlich willkommen!\nGebastelt werden weihnachtliche Dekoration\, kleine Geschenke und Mitbringsel. Es werden auch kleine Leckereien für die Weihnachtszeit gebacken und gekocht. Wer Interesse an Strickarbeiten (Socken) hat\, ist auch herzlich willkommen.
URL:https://kirche-velbert.de/veranstaltung/basteln-fuer-den-basar-9/
LOCATION:Gemeindehaus Oststraße\, Oststr. 59\, Velbert\, NRW\, 42551
ATTACH;FMTTYPE=image/jpeg:https://kirche-velbert.de/wp-content/uploads/FUNDUS_5915_Klama-26-KKL14102214411864783-scr-e1753620908236.jpg
END:VEVENT
BEGIN:VEVENT
DTSTART;TZID=Europe/Berlin:20251116T120000
DTEND;TZID=Europe/Berlin:20251116T170000
DTSTAMP:20260420T220622
CREATED:20250801T131038Z
LAST-MODIFIED:20251116T114623Z
UID:7841-1763294400-1763312400@kirche-velbert.de
SUMMARY:Adventsbasar
DESCRIPTION:Einladung zum 21. Adventsbasar im Gemeindehaus OststraßeSonntag\, 16. November 2025 – im Anschluss an den Gottesdienst \nDer Basar-Kreativkreis der Gemeinde lädt herzlich zum 21. Adventsbasar ein! Direkt nach dem Gottesdienst um 11:00 Uhr in der Christuskirche öffnet das Gemeindehaus Oststraße seine Türen für alle\, die Lust auf vorweihnachtliche Stimmung\, Handgemachtes und Begegnung haben. \n\nMit viel Liebe und Engagement wurde in den vergangenen Monaten gebastelt\, gewerkelt\, gestrickt und gebacken – das Ergebnis kann sich sehen lassen: eine vielfältige Auswahl an Dekorationen\, Geschenkideen\, Handarbeiten und kulinarischen Kleinigkeiten wartet auf interessierte Besucher. Ob kleine Mitbringsel oder liebevolle Geschenke – hier findet sich für jeden Geschmack etwas. \nAuch für das leibliche Wohl ist wie immer bestens gesorgt. Es gibt ein warmes Mittagessen sowie Kaffee und eine große Auswahl an selbst gebackenen Kuchen – ideal für eine gemütliche Pause in geselliger Runde. \nDer Erlös des Basars kommt wie jedes Jahr einem guten Zweck zugute. \nWir freuen uns auf viele neugierige Gäste\, nette Gespräche und einen schönen gemeinsamen Start in die Adventszeit! \nWir freuen uns auf Sie!\nIhr Basar-und Kreativkreis\nder ehemaligen Friedenskirche
URL:https://kirche-velbert.de/veranstaltung/adventsbasar/
LOCATION:Gemeindehaus Oststraße\, Oststr. 59\, Velbert\, NRW\, 42551
ATTACH;FMTTYPE=image/png:https://kirche-velbert.de/wp-content/uploads/2023/12/Gemeindehaus_Kirche.png
END:VEVENT
BEGIN:VEVENT
DTSTART;TZID=Europe/Berlin:20251123T103000
DTEND;TZID=Europe/Berlin:20251123T103000
DTSTAMP:20260420T220622
CREATED:20250825T193202Z
LAST-MODIFIED:20250825T193202Z
UID:8270-1763893800-1763893800@kirche-velbert.de
SUMMARY:Oase-Gottesdienst mit Abendmahl und anschl. Adventsbasar
DESCRIPTION:Der besondere Sonntagsgottesdienst gestaltet vom Oase-Team mit Abendmahl. \nPfr. Flaig und Team \nanschl. Adventsbasar
URL:https://kirche-velbert.de/veranstaltung/oase-gottesdienst-mit-abendmahl-und-anschl-adventsbasar/
LOCATION:Markuskirche\, Losenburger Weg 40\, Velbert\, NRW\, 42549
CATEGORIES:Gottesdienst
ATTACH;FMTTYPE=image/jpeg:https://kirche-velbert.de/wp-content/uploads/Oase_calendar.jpeg
END:VEVENT
END:VCALENDAR