BEGIN:VCALENDAR
VERSION:2.0
PRODID:-//Kirche-Velbert.de - ECPv6.15.20//NONSGML v1.0//EN
CALSCALE:GREGORIAN
METHOD:PUBLISH
X-WR-CALNAME:Kirche-Velbert.de
X-ORIGINAL-URL:https://kirche-velbert.de
X-WR-CALDESC:Veranstaltungen für Kirche-Velbert.de
REFRESH-INTERVAL;VALUE=DURATION:PT1H
X-Robots-Tag:noindex
X-PUBLISHED-TTL:PT1H
BEGIN:VTIMEZONE
TZID:Europe/Berlin
BEGIN:DAYLIGHT
TZOFFSETFROM:+0100
TZOFFSETTO:+0200
TZNAME:CEST
DTSTART:20240331T010000
END:DAYLIGHT
BEGIN:STANDARD
TZOFFSETFROM:+0200
TZOFFSETTO:+0100
TZNAME:CET
DTSTART:20241027T010000
END:STANDARD
BEGIN:DAYLIGHT
TZOFFSETFROM:+0100
TZOFFSETTO:+0200
TZNAME:CEST
DTSTART:20250330T010000
END:DAYLIGHT
BEGIN:STANDARD
TZOFFSETFROM:+0200
TZOFFSETTO:+0100
TZNAME:CET
DTSTART:20251026T010000
END:STANDARD
BEGIN:DAYLIGHT
TZOFFSETFROM:+0100
TZOFFSETTO:+0200
TZNAME:CEST
DTSTART:20260329T010000
END:DAYLIGHT
BEGIN:STANDARD
TZOFFSETFROM:+0200
TZOFFSETTO:+0100
TZNAME:CET
DTSTART:20261025T010000
END:STANDARD
END:VTIMEZONE
BEGIN:VEVENT
DTSTART;TZID=Europe/Berlin:20251214T110000
DTEND;TZID=Europe/Berlin:20251214T110000
DTSTAMP:20260419T202133
CREATED:20251125T181501Z
LAST-MODIFIED:20251125T181501Z
UID:9107-1765710000-1765710000@kirche-velbert.de
SUMMARY:Familiengottesdienst mit KiTas
DESCRIPTION:Pfr. Schmerkotte
URL:https://kirche-velbert.de/veranstaltung/familiengottesdienst-mit-kitas/
LOCATION:Christuskirche\, Grünstr. 27\, Velbert\, NRW\, 42551
CATEGORIES:Gottesdienst
ATTACH;FMTTYPE=image/png:https://kirche-velbert.de/wp-content/uploads/Christuskirche-001_calendar.png
END:VEVENT
BEGIN:VEVENT
DTSTART;TZID=Europe/Berlin:20251224T153000
DTEND;TZID=Europe/Berlin:20251224T153000
DTSTAMP:20260419T202133
CREATED:20251125T194819Z
LAST-MODIFIED:20251125T194819Z
UID:9124-1766590200-1766590200@kirche-velbert.de
SUMMARY:Gottesdienst mit Weihnachtsmusical
DESCRIPTION:Pfrin. Schmerkotte
URL:https://kirche-velbert.de/veranstaltung/gottesdienst-mit-weihnachtsmusical/
LOCATION:Christuskirche\, Grünstr. 27\, Velbert\, NRW\, 42551
CATEGORIES:Gottesdienst
ATTACH;FMTTYPE=image/png:https://kirche-velbert.de/wp-content/uploads/Christuskirche-001_calendar.png
END:VEVENT
BEGIN:VEVENT
DTSTART;TZID=Europe/Berlin:20251224T173000
DTEND;TZID=Europe/Berlin:20251224T173000
DTSTAMP:20260419T202133
CREATED:20251125T200047Z
LAST-MODIFIED:20251125T200047Z
UID:9131-1766597400-1766597400@kirche-velbert.de
SUMMARY:Gottesdienst mit der Kantorei
DESCRIPTION:Pfr. Schmerkotte
URL:https://kirche-velbert.de/veranstaltung/gottesdienst-mit-der-kantorei/
LOCATION:Christuskirche\, Grünstr. 27\, Velbert\, NRW\, 42551
CATEGORIES:Gottesdienst
ATTACH;FMTTYPE=image/png:https://kirche-velbert.de/wp-content/uploads/Christuskirche-001_calendar.png
END:VEVENT
END:VCALENDAR