BEGIN:VCALENDAR
VERSION:2.0
PRODID:-//Kirche-Velbert.de - ECPv6.15.20//NONSGML v1.0//EN
CALSCALE:GREGORIAN
METHOD:PUBLISH
X-WR-CALNAME:Kirche-Velbert.de
X-ORIGINAL-URL:https://kirche-velbert.de
X-WR-CALDESC:Veranstaltungen für Kirche-Velbert.de
REFRESH-INTERVAL;VALUE=DURATION:PT1H
X-Robots-Tag:noindex
X-PUBLISHED-TTL:PT1H
BEGIN:VTIMEZONE
TZID:Europe/Berlin
BEGIN:DAYLIGHT
TZOFFSETFROM:+0100
TZOFFSETTO:+0200
TZNAME:CEST
DTSTART:20250330T010000
END:DAYLIGHT
BEGIN:STANDARD
TZOFFSETFROM:+0200
TZOFFSETTO:+0100
TZNAME:CET
DTSTART:20251026T010000
END:STANDARD
BEGIN:DAYLIGHT
TZOFFSETFROM:+0100
TZOFFSETTO:+0200
TZNAME:CEST
DTSTART:20260329T010000
END:DAYLIGHT
BEGIN:STANDARD
TZOFFSETFROM:+0200
TZOFFSETTO:+0100
TZNAME:CET
DTSTART:20261025T010000
END:STANDARD
BEGIN:DAYLIGHT
TZOFFSETFROM:+0100
TZOFFSETTO:+0200
TZNAME:CEST
DTSTART:20270328T010000
END:DAYLIGHT
BEGIN:STANDARD
TZOFFSETFROM:+0200
TZOFFSETTO:+0100
TZNAME:CET
DTSTART:20271031T010000
END:STANDARD
END:VTIMEZONE
BEGIN:VEVENT
DTSTART;TZID=Europe/Berlin:20260506T090000
DTEND;TZID=Europe/Berlin:20260506T100000
DTSTAMP:20260421T211939
CREATED:20260226T194804Z
LAST-MODIFIED:20260226T194804Z
UID:9962-1778058000-1778061600@kirche-velbert.de
SUMMARY:Kaffee und Klönen
DESCRIPTION:Kaffee und Klönen\nBäckerei Hosselmann im Kaufland Heiligenhaus\, Velberter Str. 38-44\, 42579 Heiligenhaus \nEin offenes Format zum Plaudern über Gott und die Welt – ernsthaft\, tiefgründig oder ganz alltagsnah.\nPfarrerin Juliane Engert ist vor Ort\, jede und jeder kann sich dazusetzen.
URL:https://kirche-velbert.de/veranstaltung/kaffee-und-kloenen/
CATEGORIES:Café
ATTACH;FMTTYPE=image/jpeg:https://kirche-velbert.de/wp-content/uploads/dasein-rund-e1772133285254.jpg
ORGANIZER;CN="Erprobungsraum dasein":MAILTO:juliane.engert@ekir.de
END:VEVENT
BEGIN:VEVENT
DTSTART;TZID=Europe/Berlin:20260506T190000
DTEND;TZID=Europe/Berlin:20260506T190000
DTSTAMP:20260421T211939
CREATED:20260413T115217Z
LAST-MODIFIED:20260413T115217Z
UID:10087-1778094000-1778094000@kirche-velbert.de
SUMMARY:Kneipengottesdienst
DESCRIPTION:Am Mittwoch\, dem 6. Mai\, findet um 19 Uhr unser Kneipengottesdienst statt! \nOrt: Die Velberter Traditionskneipe „Bistro Treffpunkt“\, Nevigeser Straße 286\, Velbert-Tönisheide \nMit Juliane Engert und Dieter Jeschke
URL:https://kirche-velbert.de/veranstaltung/kneipengottesdienst/
CATEGORIES:Gottesdienst
ATTACH;FMTTYPE=image/jpeg:https://kirche-velbert.de/wp-content/uploads/dasein-rund-e1772133285254.jpg
ORGANIZER;CN="Erprobungsraum dasein":MAILTO:juliane.engert@ekir.de
END:VEVENT
END:VCALENDAR