BEGIN:VCALENDAR
VERSION:2.0
PRODID:-//Kirche-Velbert.de - ECPv6.15.20//NONSGML v1.0//EN
CALSCALE:GREGORIAN
METHOD:PUBLISH
X-WR-CALNAME:Kirche-Velbert.de
X-ORIGINAL-URL:https://kirche-velbert.de
X-WR-CALDESC:Veranstaltungen für Kirche-Velbert.de
REFRESH-INTERVAL;VALUE=DURATION:PT1H
X-Robots-Tag:noindex
X-PUBLISHED-TTL:PT1H
BEGIN:VTIMEZONE
TZID:Europe/Berlin
BEGIN:DAYLIGHT
TZOFFSETFROM:+0100
TZOFFSETTO:+0200
TZNAME:CEST
DTSTART:20250330T010000
END:DAYLIGHT
BEGIN:STANDARD
TZOFFSETFROM:+0200
TZOFFSETTO:+0100
TZNAME:CET
DTSTART:20251026T010000
END:STANDARD
BEGIN:DAYLIGHT
TZOFFSETFROM:+0100
TZOFFSETTO:+0200
TZNAME:CEST
DTSTART:20260329T010000
END:DAYLIGHT
BEGIN:STANDARD
TZOFFSETFROM:+0200
TZOFFSETTO:+0100
TZNAME:CET
DTSTART:20261025T010000
END:STANDARD
BEGIN:DAYLIGHT
TZOFFSETFROM:+0100
TZOFFSETTO:+0200
TZNAME:CEST
DTSTART:20270328T010000
END:DAYLIGHT
BEGIN:STANDARD
TZOFFSETFROM:+0200
TZOFFSETTO:+0100
TZNAME:CET
DTSTART:20271031T010000
END:STANDARD
END:VTIMEZONE
BEGIN:VEVENT
DTSTART;TZID=Europe/Berlin:20260626T150000
DTEND;TZID=Europe/Berlin:20260626T200000
DTSTAMP:20260421T231226
CREATED:20260226T195256Z
LAST-MODIFIED:20260226T195256Z
UID:9964-1782486000-1782504000@kirche-velbert.de
SUMMARY:Einfach heiraten – Pop-Up-Hochzeitsfestival
DESCRIPTION:Einfach heiraten – Pop-Up-Hochzeitsfestival\nRund um die Alte Kirche in Heiligenhaus\, Hauptstraße 206\, 42579 Heiligenhaus \nDas nächste Hochzeitsfestival des Kirchenkreises rückt näher und wir freuen uns auf alle Paare\, die sich am 26.6.26 trauen oder segnen lassen möchten. Für kurzentschlossene Langzeit- und frischverliebte Kurzzeitpaare jeden Alters und Geschlechts\, die wenig Lust auf Formalitäten und langen Planungsvorlauf haben.
URL:https://kirche-velbert.de/veranstaltung/einfach-heiraten-pop-up-hochzeitsfestival/
ATTACH;FMTTYPE=image/jpeg:https://kirche-velbert.de/wp-content/uploads/dasein-rund-e1772133285254.jpg
ORGANIZER;CN="Erprobungsraum dasein":MAILTO:juliane.engert@ekir.de
END:VEVENT
END:VCALENDAR