BEGIN:VCALENDAR
VERSION:2.0
PRODID:-//Kirche-Velbert.de - ECPv6.15.20//NONSGML v1.0//EN
CALSCALE:GREGORIAN
METHOD:PUBLISH
X-WR-CALNAME:Kirche-Velbert.de
X-ORIGINAL-URL:https://kirche-velbert.de
X-WR-CALDESC:Veranstaltungen für Kirche-Velbert.de
REFRESH-INTERVAL;VALUE=DURATION:PT1H
X-Robots-Tag:noindex
X-PUBLISHED-TTL:PT1H
BEGIN:VTIMEZONE
TZID:Europe/Berlin
BEGIN:DAYLIGHT
TZOFFSETFROM:+0100
TZOFFSETTO:+0200
TZNAME:CEST
DTSTART:20250330T010000
END:DAYLIGHT
BEGIN:STANDARD
TZOFFSETFROM:+0200
TZOFFSETTO:+0100
TZNAME:CET
DTSTART:20251026T010000
END:STANDARD
BEGIN:DAYLIGHT
TZOFFSETFROM:+0100
TZOFFSETTO:+0200
TZNAME:CEST
DTSTART:20260329T010000
END:DAYLIGHT
BEGIN:STANDARD
TZOFFSETFROM:+0200
TZOFFSETTO:+0100
TZNAME:CET
DTSTART:20261025T010000
END:STANDARD
BEGIN:DAYLIGHT
TZOFFSETFROM:+0100
TZOFFSETTO:+0200
TZNAME:CEST
DTSTART:20270328T010000
END:DAYLIGHT
BEGIN:STANDARD
TZOFFSETFROM:+0200
TZOFFSETTO:+0100
TZNAME:CET
DTSTART:20271031T010000
END:STANDARD
END:VTIMEZONE
BEGIN:VEVENT
DTSTART;TZID=Europe/Berlin:20260426T150000
DTEND;TZID=Europe/Berlin:20260426T170000
DTSTAMP:20260421T190742
CREATED:20260226T194356Z
LAST-MODIFIED:20260226T194356Z
UID:9959-1777215600-1777222800@kirche-velbert.de
SUMMARY:Kunst und Kirche – Mut kreativ entdecken
DESCRIPTION:Kunst und Kirche – Mut kreativ entdecken\nOffenes Atelier der Diakonie Aprath\nNach einem thematischen Impuls zum Thema „Mut“ sind die Teilnehmenden eingeladen\, das Thema künstlerisch umzusetzen. Eine fachkundige Anleitung erhalten sie durch die Mitarbeiterinnen und Mitarbeiter des Offenen Ateliers. Alle Materialien und Farben werden zur Verfügung gestellt. \nIm Anschluss gibt es Snacks\, Getränke und Zeit für Gespräche über Gott und die Welt.\nEin integratives Angebot in Kooperation mit dem Offenen Atelier der Diakonie Aprath.
URL:https://kirche-velbert.de/veranstaltung/kunst-und-kirche-mut-kreativ-entdecken/
LOCATION:Diakonie Aprath\, Diakonissenweg 13\, Wülfrath\, 42489
ATTACH;FMTTYPE=image/jpeg:https://kirche-velbert.de/wp-content/uploads/dasein-rund-e1772133285254.jpg
ORGANIZER;CN="Erprobungsraum dasein":MAILTO:juliane.engert@ekir.de
END:VEVENT
END:VCALENDAR