BEGIN:VCALENDAR
VERSION:2.0
PRODID:-//Kirche-Velbert.de - ECPv6.15.20//NONSGML v1.0//EN
CALSCALE:GREGORIAN
METHOD:PUBLISH
X-WR-CALNAME:Kirche-Velbert.de
X-ORIGINAL-URL:https://kirche-velbert.de
X-WR-CALDESC:Veranstaltungen für Kirche-Velbert.de
REFRESH-INTERVAL;VALUE=DURATION:PT1H
X-Robots-Tag:noindex
X-PUBLISHED-TTL:PT1H
BEGIN:VTIMEZONE
TZID:Europe/Berlin
BEGIN:DAYLIGHT
TZOFFSETFROM:+0100
TZOFFSETTO:+0200
TZNAME:CEST
DTSTART:20240331T010000
END:DAYLIGHT
BEGIN:STANDARD
TZOFFSETFROM:+0200
TZOFFSETTO:+0100
TZNAME:CET
DTSTART:20241027T010000
END:STANDARD
BEGIN:DAYLIGHT
TZOFFSETFROM:+0100
TZOFFSETTO:+0200
TZNAME:CEST
DTSTART:20250330T010000
END:DAYLIGHT
BEGIN:STANDARD
TZOFFSETFROM:+0200
TZOFFSETTO:+0100
TZNAME:CET
DTSTART:20251026T010000
END:STANDARD
BEGIN:DAYLIGHT
TZOFFSETFROM:+0100
TZOFFSETTO:+0200
TZNAME:CEST
DTSTART:20260329T010000
END:DAYLIGHT
BEGIN:STANDARD
TZOFFSETFROM:+0200
TZOFFSETTO:+0100
TZNAME:CET
DTSTART:20261025T010000
END:STANDARD
END:VTIMEZONE
BEGIN:VEVENT
DTSTART;TZID=Europe/Berlin:20251107T190000
DTEND;TZID=Europe/Berlin:20251107T190000
DTSTAMP:20260422T005829
CREATED:20250825T201320Z
LAST-MODIFIED:20250825T201320Z
UID:8314-1762542000-1762542000@kirche-velbert.de
SUMMARY:Ökumenisches Friedensgebet
DESCRIPTION:Jeden Freitag beten wir für Frieden in der Welt. Beginn ist jeweils um 19 Uhr in der Taufkapelle der Christuskirche. \nAlle\, die ein Zeichen für Frieden setzen und gemeinsam beten möchten\, sind herzlich eingeladen.
URL:https://kirche-velbert.de/veranstaltung/oekumenisches-friedensgebet-10/
LOCATION:Christuskirche\, Grünstr. 27\, Velbert\, NRW\, 42551
CATEGORIES:Ökumene
ATTACH;FMTTYPE=image/jpeg:https://kirche-velbert.de/wp-content/uploads/Friedenstaube_calendar.jpeg
END:VEVENT
BEGIN:VEVENT
DTSTART;TZID=Europe/Berlin:20251114T190000
DTEND;TZID=Europe/Berlin:20251114T190000
DTSTAMP:20260422T005829
CREATED:20250825T201341Z
LAST-MODIFIED:20250825T201341Z
UID:8316-1763146800-1763146800@kirche-velbert.de
SUMMARY:Ökumenisches Friedensgebet
DESCRIPTION:Jeden Freitag beten wir für Frieden in der Welt. Beginn ist jeweils um 19 Uhr in der Taufkapelle der Christuskirche. \nAlle\, die ein Zeichen für Frieden setzen und gemeinsam beten möchten\, sind herzlich eingeladen.
URL:https://kirche-velbert.de/veranstaltung/oekumenisches-friedensgebet-11/
LOCATION:Christuskirche\, Grünstr. 27\, Velbert\, NRW\, 42551
CATEGORIES:Ökumene
ATTACH;FMTTYPE=image/jpeg:https://kirche-velbert.de/wp-content/uploads/Friedenstaube_calendar.jpeg
END:VEVENT
BEGIN:VEVENT
DTSTART;TZID=Europe/Berlin:20251121T190000
DTEND;TZID=Europe/Berlin:20251121T190000
DTSTAMP:20260422T005829
CREATED:20250825T201358Z
LAST-MODIFIED:20250825T201358Z
UID:8318-1763751600-1763751600@kirche-velbert.de
SUMMARY:Ökumenisches Friedensgebet
DESCRIPTION:Jeden Freitag beten wir für Frieden in der Welt. Beginn ist jeweils um 19 Uhr in der Taufkapelle der Christuskirche. \nAlle\, die ein Zeichen für Frieden setzen und gemeinsam beten möchten\, sind herzlich eingeladen.
URL:https://kirche-velbert.de/veranstaltung/oekumenisches-friedensgebet-12/
LOCATION:Christuskirche\, Grünstr. 27\, Velbert\, NRW\, 42551
CATEGORIES:Ökumene
ATTACH;FMTTYPE=image/jpeg:https://kirche-velbert.de/wp-content/uploads/Friedenstaube_calendar.jpeg
END:VEVENT
BEGIN:VEVENT
DTSTART;TZID=Europe/Berlin:20251128T190000
DTEND;TZID=Europe/Berlin:20251128T190000
DTSTAMP:20260422T005829
CREATED:20250825T201419Z
LAST-MODIFIED:20250825T201419Z
UID:8320-1764356400-1764356400@kirche-velbert.de
SUMMARY:Ökumenisches Friedensgebet
DESCRIPTION:Jeden Freitag beten wir für Frieden in der Welt. Beginn ist jeweils um 19 Uhr in der Taufkapelle der Christuskirche. \nAlle\, die ein Zeichen für Frieden setzen und gemeinsam beten möchten\, sind herzlich eingeladen.
URL:https://kirche-velbert.de/veranstaltung/oekumenisches-friedensgebet-13/
LOCATION:Christuskirche\, Grünstr. 27\, Velbert\, NRW\, 42551
CATEGORIES:Ökumene
ATTACH;FMTTYPE=image/jpeg:https://kirche-velbert.de/wp-content/uploads/Friedenstaube_calendar.jpeg
END:VEVENT
END:VCALENDAR