BEGIN:VCALENDAR
VERSION:2.0
PRODID:-//Kirche-Velbert.de - ECPv6.15.20//NONSGML v1.0//EN
CALSCALE:GREGORIAN
METHOD:PUBLISH
X-WR-CALNAME:Kirche-Velbert.de
X-ORIGINAL-URL:https://kirche-velbert.de
X-WR-CALDESC:Veranstaltungen für Kirche-Velbert.de
REFRESH-INTERVAL;VALUE=DURATION:PT1H
X-Robots-Tag:noindex
X-PUBLISHED-TTL:PT1H
BEGIN:VTIMEZONE
TZID:Europe/Berlin
BEGIN:DAYLIGHT
TZOFFSETFROM:+0100
TZOFFSETTO:+0200
TZNAME:CEST
DTSTART:20250330T010000
END:DAYLIGHT
BEGIN:STANDARD
TZOFFSETFROM:+0200
TZOFFSETTO:+0100
TZNAME:CET
DTSTART:20251026T010000
END:STANDARD
BEGIN:DAYLIGHT
TZOFFSETFROM:+0100
TZOFFSETTO:+0200
TZNAME:CEST
DTSTART:20260329T010000
END:DAYLIGHT
BEGIN:STANDARD
TZOFFSETFROM:+0200
TZOFFSETTO:+0100
TZNAME:CET
DTSTART:20261025T010000
END:STANDARD
BEGIN:DAYLIGHT
TZOFFSETFROM:+0100
TZOFFSETTO:+0200
TZNAME:CEST
DTSTART:20270328T010000
END:DAYLIGHT
BEGIN:STANDARD
TZOFFSETFROM:+0200
TZOFFSETTO:+0100
TZNAME:CET
DTSTART:20271031T010000
END:STANDARD
END:VTIMEZONE
BEGIN:VEVENT
DTSTART;TZID=Europe/Berlin:20260422T190000
DTEND;TZID=Europe/Berlin:20260422T203000
DTSTAMP:20260422T120456
CREATED:20260214T123800Z
LAST-MODIFIED:20260415T094717Z
UID:9906-1776884400-1776889800@kirche-velbert.de
SUMMARY:Theologie für Nicht-Theologen
DESCRIPTION:„Haben Tiere eine Seele?“\nTiere werden oft wie eine beliebige Ware behandelt. Dabei empfinden viele Tiere komplexe Emotionen wie Trauer\, Mitgefühl\, Angst und Freude. \nIst solches „Seelenleben“ schon wie eine „unsterbliche Seele“? Eine uralte Frage\, aber für die menschliche Schöpfungsverantwortung absolut aktuell. \nMit Pfr. Dr. D. Jeschke
URL:https://kirche-velbert.de/veranstaltung/theologie-fuer-nicht-theologen-2/
LOCATION:Gemeindehaus Kuhlendahler Straße\, Kuhlendahler Str. 34\, Velbert\, 42553\, Deutschland
CATEGORIES:Gesprächskreis
ATTACH;FMTTYPE=image/jpeg:https://kirche-velbert.de/wp-content/uploads/Haben-Tiere-eine-Seele-e1776246407698.jpg
END:VEVENT
BEGIN:VEVENT
DTSTART;TZID=Europe/Berlin:20260423T193000
DTEND;TZID=Europe/Berlin:20260423T210000
DTSTAMP:20260422T120456
CREATED:20260210T190923Z
LAST-MODIFIED:20260210T190923Z
UID:9826-1776972600-1776978000@kirche-velbert.de
SUMMARY:Frauenabendkreis
DESCRIPTION:„Familie Vogel: Vogelzug\, Vogelsang\, Vogeluhr … …„ \nAnsprechpartnerin Ulrike Wasner-Guth\, Tel.: 02051 62384.
URL:https://kirche-velbert.de/veranstaltung/frauenabendkreis-12/
LOCATION:Gemeindehaus Oststraße\, Oststr. 59\, Velbert\, NRW\, 42551
CATEGORIES:Gesprächskreis
ATTACH;FMTTYPE=image/png:https://kirche-velbert.de/wp-content/uploads/Frauenabendkreis_calendar.png
END:VEVENT
BEGIN:VEVENT
DTSTART;TZID=Europe/Berlin:20260424T193000
DTEND;TZID=Europe/Berlin:20260424T193000
DTSTAMP:20260422T120456
CREATED:20260210T194325Z
LAST-MODIFIED:20260210T194325Z
UID:9832-1777059000-1777059000@kirche-velbert.de
SUMMARY:Gott und die Welt
DESCRIPTION:„Gott und die Welt“ ist ein offener Gesprächskreis für alle\, die sich gerne über theologische und andere aktuelle Themen unterhalten. \nKommen Sie gerne dazu\, Sie müssen kein Vorwissen mitbringen. \nAnsprechpartnerin: Pfarrerin Maret Schmerkotte\,\nTel.: 02051-607036\, maret.schmerkotte@kirche-velbert.de
URL:https://kirche-velbert.de/veranstaltung/gott-und-die-welt-10/
LOCATION:Gemeindehaus Oststraße\, Oststr. 59\, Velbert\, NRW\, 42551
CATEGORIES:Gesprächskreis
ATTACH;FMTTYPE=image/jpeg:https://kirche-velbert.de/wp-content/uploads/Toetterkreis_calendar.jpeg
END:VEVENT
BEGIN:VEVENT
DTSTART;TZID=Europe/Berlin:20260430T190000
DTEND;TZID=Europe/Berlin:20260430T190000
DTSTAMP:20260422T120456
CREATED:20260210T181526Z
LAST-MODIFIED:20260419T110550Z
UID:9743-1777575600-1777575600@kirche-velbert.de
SUMMARY:Frauen-Kontaktkreis
DESCRIPTION:Herzliche Einladung zu unserem Gesprächskreis für Frauen!Alle 14 Tage – jeweils donnerstags in den ungeraden Wochen – treffen wir uns um 19 Uhr in der Markuskirche.Freuen Sie sich auf interessante Themen\, anregende Vorträge und Zeit für Austausch in angenehmer Runde.Wir freuen uns auf Ihr Kommen! \nKontakt: Christel Krey\, 02051 82119
URL:https://kirche-velbert.de/veranstaltung/frauen-kontaktkreis-17/
LOCATION:Markuskirche\, Losenburger Weg 40\, Velbert\, NRW\, 42549
CATEGORIES:Gesprächskreis
ATTACH;FMTTYPE=image/png:https://kirche-velbert.de/wp-content/uploads/Frauenkontakt-Kreis-e1776596739877.png
END:VEVENT
BEGIN:VEVENT
DTSTART;TZID=Europe/Berlin:20260430T193000
DTEND;TZID=Europe/Berlin:20260430T210000
DTSTAMP:20260422T120456
CREATED:20260207T185111Z
LAST-MODIFIED:20260207T185111Z
UID:9684-1777577400-1777582800@kirche-velbert.de
SUMMARY:Bibelgesprächskreis
DESCRIPTION:Wir erleben weiterhin die besondere spirituelle Welt des Johannesevangeliums. \n\nJesus betet (Joh 17\, 1-26) Pfarrer Uwe Flaig\n\n\nSeid alle herzlich willkommen in unserer Runde.\nEin Anmeldung ist nicht nötig. Bitte bringen Sie eine Bibel mit. \nLeitung: Margret Stolz und Gerhard Sandrock.
URL:https://kirche-velbert.de/veranstaltung/bibelgespraechskreis-8/
LOCATION:Gemeindehaus Oststraße\, Oststr. 59\, Velbert\, NRW\, 42551
CATEGORIES:Gesprächskreis
ATTACH;FMTTYPE=image/jpeg:https://kirche-velbert.de/wp-content/uploads/Bibel_calendar.jpeg
END:VEVENT
END:VCALENDAR