BEGIN:VCALENDAR
VERSION:2.0
PRODID:-//Kirche-Velbert.de - ECPv6.15.20//NONSGML v1.0//EN
CALSCALE:GREGORIAN
METHOD:PUBLISH
X-ORIGINAL-URL:https://kirche-velbert.de
X-WR-CALDESC:Veranstaltungen für Kirche-Velbert.de
REFRESH-INTERVAL;VALUE=DURATION:PT1H
X-Robots-Tag:noindex
X-PUBLISHED-TTL:PT1H
BEGIN:VTIMEZONE
TZID:Europe/Berlin
BEGIN:DAYLIGHT
TZOFFSETFROM:+0100
TZOFFSETTO:+0200
TZNAME:CEST
DTSTART:20250330T010000
END:DAYLIGHT
BEGIN:STANDARD
TZOFFSETFROM:+0200
TZOFFSETTO:+0100
TZNAME:CET
DTSTART:20251026T010000
END:STANDARD
BEGIN:DAYLIGHT
TZOFFSETFROM:+0100
TZOFFSETTO:+0200
TZNAME:CEST
DTSTART:20260329T010000
END:DAYLIGHT
BEGIN:STANDARD
TZOFFSETFROM:+0200
TZOFFSETTO:+0100
TZNAME:CET
DTSTART:20261025T010000
END:STANDARD
BEGIN:DAYLIGHT
TZOFFSETFROM:+0100
TZOFFSETTO:+0200
TZNAME:CEST
DTSTART:20270328T010000
END:DAYLIGHT
BEGIN:STANDARD
TZOFFSETFROM:+0200
TZOFFSETTO:+0100
TZNAME:CET
DTSTART:20271031T010000
END:STANDARD
END:VTIMEZONE
BEGIN:VEVENT
DTSTART;TZID=Europe/Berlin:20260723T190000
DTEND;TZID=Europe/Berlin:20260723T190000
DTSTAMP:20260422T120814
CREATED:20260210T181722Z
LAST-MODIFIED:20260419T111214Z
UID:9753-1784833200-1784833200@kirche-velbert.de
SUMMARY:Frauen-Kontaktkreis
DESCRIPTION:Herzliche Einladung zu unserem Gesprächskreis für Frauen!Alle 14 Tage – jeweils donnerstags in den ungeraden Wochen – treffen wir uns um 19 Uhr in der Markuskirche.Freuen Sie sich auf interessante Themen\, anregende Vorträge und Zeit für Austausch in angenehmer Runde.Wir freuen uns auf Ihr Kommen! \nKontakt: Christel Krey\, 02051 82119
URL:https://kirche-velbert.de/veranstaltung/frauen-kontaktkreis-22/
LOCATION:Markuskirche\, Losenburger Weg 40\, Velbert\, NRW\, 42549
CATEGORIES:Gesprächskreis
ATTACH;FMTTYPE=image/png:https://kirche-velbert.de/wp-content/uploads/Frauenkontakt-Kreis-e1776596739877.png
END:VEVENT
BEGIN:VEVENT
DTSTART;TZID=Europe/Berlin:20260806T190000
DTEND;TZID=Europe/Berlin:20260806T190000
DTSTAMP:20260422T120814
CREATED:20260210T181746Z
LAST-MODIFIED:20260419T111247Z
UID:9755-1786042800-1786042800@kirche-velbert.de
SUMMARY:Frauen-Kontaktkreis
DESCRIPTION:Herzliche Einladung zu unserem Gesprächskreis für Frauen!Alle 14 Tage – jeweils donnerstags in den ungeraden Wochen – treffen wir uns um 19 Uhr in der Markuskirche.Freuen Sie sich auf interessante Themen\, anregende Vorträge und Zeit für Austausch in angenehmer Runde.Wir freuen uns auf Ihr Kommen! \nKontakt: Christel Krey\, 02051 82119
URL:https://kirche-velbert.de/veranstaltung/frauen-kontaktkreis-23/
LOCATION:Markuskirche\, Losenburger Weg 40\, Velbert\, NRW\, 42549
CATEGORIES:Gesprächskreis
ATTACH;FMTTYPE=image/png:https://kirche-velbert.de/wp-content/uploads/Frauenkontakt-Kreis-e1776596739877.png
END:VEVENT
BEGIN:VEVENT
DTSTART;TZID=Europe/Berlin:20260820T190000
DTEND;TZID=Europe/Berlin:20260820T190000
DTSTAMP:20260422T120814
CREATED:20260210T181805Z
LAST-MODIFIED:20260419T111330Z
UID:9757-1787252400-1787252400@kirche-velbert.de
SUMMARY:Frauen-Kontaktkreis
DESCRIPTION:Herzliche Einladung zu unserem Gesprächskreis für Frauen!Alle 14 Tage – jeweils donnerstags in den ungeraden Wochen – treffen wir uns um 19 Uhr in der Markuskirche.Freuen Sie sich auf interessante Themen\, anregende Vorträge und Zeit für Austausch in angenehmer Runde.Wir freuen uns auf Ihr Kommen! \nKontakt: Christel Krey\, 02051 82119
URL:https://kirche-velbert.de/veranstaltung/frauen-kontaktkreis-24/
LOCATION:Markuskirche\, Losenburger Weg 40\, Velbert\, NRW\, 42549
CATEGORIES:Gesprächskreis
ATTACH;FMTTYPE=image/png:https://kirche-velbert.de/wp-content/uploads/Frauenkontakt-Kreis-e1776596739877.png
END:VEVENT
END:VCALENDAR