BEGIN:VCALENDAR
VERSION:2.0
PRODID:-//Kirche-Velbert.de - ECPv6.15.20//NONSGML v1.0//EN
CALSCALE:GREGORIAN
METHOD:PUBLISH
X-ORIGINAL-URL:https://kirche-velbert.de
X-WR-CALDESC:Veranstaltungen für Kirche-Velbert.de
REFRESH-INTERVAL;VALUE=DURATION:PT1H
X-Robots-Tag:noindex
X-PUBLISHED-TTL:PT1H
BEGIN:VTIMEZONE
TZID:Europe/Berlin
BEGIN:DAYLIGHT
TZOFFSETFROM:+0100
TZOFFSETTO:+0200
TZNAME:CEST
DTSTART:20250330T010000
END:DAYLIGHT
BEGIN:STANDARD
TZOFFSETFROM:+0200
TZOFFSETTO:+0100
TZNAME:CET
DTSTART:20251026T010000
END:STANDARD
BEGIN:DAYLIGHT
TZOFFSETFROM:+0100
TZOFFSETTO:+0200
TZNAME:CEST
DTSTART:20260329T010000
END:DAYLIGHT
BEGIN:STANDARD
TZOFFSETFROM:+0200
TZOFFSETTO:+0100
TZNAME:CET
DTSTART:20261025T010000
END:STANDARD
BEGIN:DAYLIGHT
TZOFFSETFROM:+0100
TZOFFSETTO:+0200
TZNAME:CEST
DTSTART:20270328T010000
END:DAYLIGHT
BEGIN:STANDARD
TZOFFSETFROM:+0200
TZOFFSETTO:+0100
TZNAME:CET
DTSTART:20271031T010000
END:STANDARD
END:VTIMEZONE
BEGIN:VEVENT
DTSTART;TZID=Europe/Berlin:20260314T143000
DTEND;TZID=Europe/Berlin:20260314T173000
DTSTAMP:20260421T202622
CREATED:20260214T121437Z
LAST-MODIFIED:20260214T121437Z
UID:9894-1773498600-1773509400@kirche-velbert.de
SUMMARY:Kindertrödelmarkt im CVJM Tönisheide
DESCRIPTION:
URL:https://kirche-velbert.de/veranstaltung/kindertroedelmarkt-im-cvjm-toenisheide/
LOCATION:Gemeindehaus Kuhlendahler Straße\, Kuhlendahler Str. 34\, Velbert\, 42553\, Deutschland
CATEGORIES:Familie
ATTACH;FMTTYPE=image/png:https://kirche-velbert.de/wp-content/uploads/04-CVJM-Toe-naechster-Kindertroedelmarkt-21-x-14-cm.png
ORGANIZER;CN="CVJM T%C3%B6nisheide":MAILTO:info@cvjm-toenisheide.de
END:VEVENT
BEGIN:VEVENT
DTSTART;TZID=Europe/Berlin:20260315T113000
DTEND;TZID=Europe/Berlin:20260315T150000
DTSTAMP:20260421T202622
CREATED:20260214T121519Z
LAST-MODIFIED:20260214T121519Z
UID:9898-1773574200-1773586800@kirche-velbert.de
SUMMARY:Kindertrödelmarkt im CVJM Tönisheide
DESCRIPTION:
URL:https://kirche-velbert.de/veranstaltung/kindertroedelmarkt-im-cvjm-toenisheide-2/
LOCATION:Gemeindehaus Kuhlendahler Straße\, Kuhlendahler Str. 34\, Velbert\, 42553\, Deutschland
CATEGORIES:Familie
ATTACH;FMTTYPE=image/png:https://kirche-velbert.de/wp-content/uploads/04-CVJM-Toe-naechster-Kindertroedelmarkt-21-x-14-cm.png
ORGANIZER;CN="CVJM T%C3%B6nisheide":MAILTO:info@cvjm-toenisheide.de
END:VEVENT
END:VCALENDAR