BEGIN:VCALENDAR
VERSION:2.0
PRODID:-//Kirche-Velbert.de - ECPv6.15.20//NONSGML v1.0//EN
CALSCALE:GREGORIAN
METHOD:PUBLISH
X-ORIGINAL-URL:https://kirche-velbert.de
X-WR-CALDESC:Veranstaltungen für Kirche-Velbert.de
REFRESH-INTERVAL;VALUE=DURATION:PT1H
X-Robots-Tag:noindex
X-PUBLISHED-TTL:PT1H
BEGIN:VTIMEZONE
TZID:Europe/Berlin
BEGIN:DAYLIGHT
TZOFFSETFROM:+0100
TZOFFSETTO:+0200
TZNAME:CEST
DTSTART:20240331T010000
END:DAYLIGHT
BEGIN:STANDARD
TZOFFSETFROM:+0200
TZOFFSETTO:+0100
TZNAME:CET
DTSTART:20241027T010000
END:STANDARD
BEGIN:DAYLIGHT
TZOFFSETFROM:+0100
TZOFFSETTO:+0200
TZNAME:CEST
DTSTART:20250330T010000
END:DAYLIGHT
BEGIN:STANDARD
TZOFFSETFROM:+0200
TZOFFSETTO:+0100
TZNAME:CET
DTSTART:20251026T010000
END:STANDARD
BEGIN:DAYLIGHT
TZOFFSETFROM:+0100
TZOFFSETTO:+0200
TZNAME:CEST
DTSTART:20260329T010000
END:DAYLIGHT
BEGIN:STANDARD
TZOFFSETFROM:+0200
TZOFFSETTO:+0100
TZNAME:CET
DTSTART:20261025T010000
END:STANDARD
END:VTIMEZONE
BEGIN:VEVENT
DTSTART;TZID=Europe/Berlin:20251121T190000
DTEND;TZID=Europe/Berlin:20251121T210000
DTSTAMP:20260423T065151
CREATED:20250101T204818Z
LAST-MODIFIED:20250730T184603Z
UID:6032-1763751600-1763758800@kirche-velbert.de
SUMMARY:Kultfrei
DESCRIPTION:Am 21.11.25 haben wir Spectaculum e.V. in der Markuskirche zu Gast. \nEinlass 19.00 Uhr\, Beginn 19.30 Uhr.  \nSpectaculum existiert nun im 21. Jahr. Das Repertoire an Musicals ist weitgefächert und jährlich kommen\, dank der engagierten und kreativen Trainer\, immer mehr neue Choreografien dazu. Doch auch alte Stücke werden neu aufgerollt oder durch kleine Ergänzungen raffiniert verfeinert. \nLassen Sie sich durch einen schönen und unterhaltsamen Abend führen und erfreuen Sie sich an den immer neuen Kostümen. \nWie immer ist der Eintritt frei\, für Speisen und Getränke ist gesorgt. Unser Markuskirchen Schwein freut sich über reichlich Spenden.
URL:https://kirche-velbert.de/veranstaltung/kultfrei-7/
LOCATION:Markuskirche\, Losenburger Weg 40\, Velbert\, NRW\, 42549
ATTACH;FMTTYPE=image/jpeg:https://kirche-velbert.de/wp-content/uploads/Logo_Kultfrei_calendar.jpg
END:VEVENT
BEGIN:VEVENT
DTSTART;TZID=Europe/Berlin:20251121T190000
DTEND;TZID=Europe/Berlin:20251121T210000
DTSTAMP:20260423T065151
CREATED:20251127T192604Z
LAST-MODIFIED:20251127T192604Z
UID:9213-1763751600-1763758800@kirche-velbert.de
SUMMARY:Kultfrei - Hommage an Agatha Christie
DESCRIPTION:Hommage an Agatha Christie\nIhre Krimis sind Kult\, deren Verfilmungen absolute Kino-Klassiker. Agatha Christie ist die unangefochtene Königin der Kriminalliteratur. \nAm 12. Januar ist ihr 50.Todestag. \nWir laden deshalb im Rahmen von Kultfrei zu einem Filmabend in der Markuskirche ein. \nAm Freitag\, den 9. Januar 2026\, erwarten wir Sie ab 19.00 Uhr zur traditionellen mörderisch scharfen Currywurst. Dazu kredenzen wir schaurig schicke Cocktails. \nAb 19.45 Uhr werden zwei ihrer kultigsten Filme gezeigt\, die Sie\, liebe Leserin und Leser aussuchen können. \nZur Verfügung stehen: \n\n16.50 ab Paddington (mit Margret Rutherford)\nUnd dann gab es keines mehr (u.a. mit Mario Adorf)\nTod auf dem Nil (mit Peter Ustinov)\nDas Böse unter der Sonne (mit Peter Ustinov)\n\nBitte nennen Sie Ihren Wunschfilm an folgende Mail-Adresse: dieter.jeschke@ekir.de \n 
URL:https://kirche-velbert.de/veranstaltung/kultfrei-hommage-an-agatha-christie/
LOCATION:Markuskirche\, Losenburger Weg 40\, Velbert\, NRW\, 42549
ATTACH;FMTTYPE=image/jpeg:https://kirche-velbert.de/wp-content/uploads/Logo_Kultfrei_calendar.jpg
END:VEVENT
END:VCALENDAR