BEGIN:VCALENDAR
VERSION:2.0
PRODID:-//Kirche-Velbert.de - ECPv6.15.20//NONSGML v1.0//EN
CALSCALE:GREGORIAN
METHOD:PUBLISH
X-ORIGINAL-URL:https://kirche-velbert.de
X-WR-CALDESC:Veranstaltungen für Kirche-Velbert.de
REFRESH-INTERVAL;VALUE=DURATION:PT1H
X-Robots-Tag:noindex
X-PUBLISHED-TTL:PT1H
BEGIN:VTIMEZONE
TZID:Europe/Berlin
BEGIN:DAYLIGHT
TZOFFSETFROM:+0100
TZOFFSETTO:+0200
TZNAME:CEST
DTSTART:20250330T010000
END:DAYLIGHT
BEGIN:STANDARD
TZOFFSETFROM:+0200
TZOFFSETTO:+0100
TZNAME:CET
DTSTART:20251026T010000
END:STANDARD
BEGIN:DAYLIGHT
TZOFFSETFROM:+0100
TZOFFSETTO:+0200
TZNAME:CEST
DTSTART:20260329T010000
END:DAYLIGHT
BEGIN:STANDARD
TZOFFSETFROM:+0200
TZOFFSETTO:+0100
TZNAME:CET
DTSTART:20261025T010000
END:STANDARD
BEGIN:DAYLIGHT
TZOFFSETFROM:+0100
TZOFFSETTO:+0200
TZNAME:CEST
DTSTART:20270328T010000
END:DAYLIGHT
BEGIN:STANDARD
TZOFFSETFROM:+0200
TZOFFSETTO:+0100
TZNAME:CET
DTSTART:20271031T010000
END:STANDARD
END:VTIMEZONE
BEGIN:VEVENT
DTSTART;TZID=Europe/Berlin:20260306T150000
DTEND;TZID=Europe/Berlin:20260306T150000
DTSTAMP:20260422T114706
CREATED:20251125T113645Z
LAST-MODIFIED:20251125T121450Z
UID:8932-1772809200-1772809200@kirche-velbert.de
SUMMARY:Weltgebetstag
DESCRIPTION:Weltgebetstag\n„Kommt! Bringt eure Last.“ \nSo lautet der offizielle deutsche Titel des Weltgebetstages 2026. Frauen aus Nigeria haben ihn vorbereitet. Im Mittelpunkt des ökumenischen Gottesdienstes steht die Einladung aus Matthäus 11\,28-30: \n„Kommt her zu mir alle\, die ihr mühselig und beladen seid; ich will euch erquicken…“ \nIn einer Zeit\, in der Menschen auf der ganzen Welt schwere Lasten zu tragen haben\, können wir von den nigerianischen Frauen lernen\, wie man in Gott Ruhe und Erholung findet. \nIn Velbert feiern wir den Weltgebetstag am Freitag\, den 6. März\, \n– 15.00 Uhr in Tönisheide und \n– 16.30 Uhr in der Evangelisch-Freikirchliche Gemeinde Hofstr. 14
URL:https://kirche-velbert.de/veranstaltung/weltgebetstag/
LOCATION:Gemeindehaus Kuhlendahler Straße\, Kuhlendahler Str. 34\, Velbert\, 42553\, Deutschland
CATEGORIES:Gottesdienst,Ökumene
ATTACH;FMTTYPE=image/jpeg:https://kirche-velbert.de/wp-content/uploads/02a-Weltgebetstag-WGT_Banner_2026_Nigeria_print1-scaled-e1764070530870.jpeg
END:VEVENT
BEGIN:VEVENT
DTSTART;TZID=Europe/Berlin:20260306T163000
DTEND;TZID=Europe/Berlin:20260306T163000
DTSTAMP:20260422T114706
CREATED:20251125T114817Z
LAST-MODIFIED:20251125T114817Z
UID:8937-1772814600-1772814600@kirche-velbert.de
SUMMARY:Weltgebetstag
DESCRIPTION:Weltgebetstag\n„Kommt! Bringt eure Last.“ \nSo lautet der offizielle deutsche Titel des Weltgebetstages 2026. Frauen aus Nigeria haben ihn vorbereitet. Im Mittelpunkt des ökumenischen Gottesdienstes steht die Einladung aus Matthäus 11\,28-30: \n„Kommt her zu mir alle\, die ihr mühselig und beladen seid; ich will euch erquicken…“ \nIn einer Zeit\, in der Menschen auf der ganzen Welt schwere Lasten zu tragen haben\, können wir von den nigerianischen Frauen lernen\, wie man in Gott Ruhe und Erholung findet. \nIn Velbert feiern wir den Weltgebetstag am Freitag\, den 6. März\, \n– 15.00 Uhr in Tönisheide und \n– 16.30 Uhr in der Evangelisch-freikirchlichen Gemeinde Hofstr. 14
URL:https://kirche-velbert.de/veranstaltung/weltgebetstag-2/
LOCATION:Evangelisch-Freikirchliche Gemeinde\, Hofstr. 14\, Velbert\, 42551
CATEGORIES:Gottesdienst,Ökumene
ATTACH;FMTTYPE=image/jpeg:https://kirche-velbert.de/wp-content/uploads/02a-Weltgebetstag-WGT_Banner_2026_Nigeria_print1-scaled-e1764070530870.jpeg
END:VEVENT
END:VCALENDAR