BEGIN:VCALENDAR
VERSION:2.0
PRODID:-//Kirche-Velbert.de - ECPv6.15.20//NONSGML v1.0//EN
CALSCALE:GREGORIAN
METHOD:PUBLISH
X-ORIGINAL-URL:https://kirche-velbert.de
X-WR-CALDESC:Veranstaltungen für Kirche-Velbert.de
REFRESH-INTERVAL;VALUE=DURATION:PT1H
X-Robots-Tag:noindex
X-PUBLISHED-TTL:PT1H
BEGIN:VTIMEZONE
TZID:Europe/Berlin
BEGIN:DAYLIGHT
TZOFFSETFROM:+0100
TZOFFSETTO:+0200
TZNAME:CEST
DTSTART:20250330T010000
END:DAYLIGHT
BEGIN:STANDARD
TZOFFSETFROM:+0200
TZOFFSETTO:+0100
TZNAME:CET
DTSTART:20251026T010000
END:STANDARD
BEGIN:DAYLIGHT
TZOFFSETFROM:+0100
TZOFFSETTO:+0200
TZNAME:CEST
DTSTART:20260329T010000
END:DAYLIGHT
BEGIN:STANDARD
TZOFFSETFROM:+0200
TZOFFSETTO:+0100
TZNAME:CET
DTSTART:20261025T010000
END:STANDARD
BEGIN:DAYLIGHT
TZOFFSETFROM:+0100
TZOFFSETTO:+0200
TZNAME:CEST
DTSTART:20270328T010000
END:DAYLIGHT
BEGIN:STANDARD
TZOFFSETFROM:+0200
TZOFFSETTO:+0100
TZNAME:CET
DTSTART:20271031T010000
END:STANDARD
END:VTIMEZONE
BEGIN:VEVENT
DTSTART;TZID=Europe/Berlin:20260319T193000
DTEND;TZID=Europe/Berlin:20260319T193000
DTSTAMP:20260422T154449
CREATED:20260210T205340Z
LAST-MODIFIED:20260219T150616Z
UID:9889-1773948600-1773948600@kirche-velbert.de
SUMMARY:Männerarbeit
DESCRIPTION:Neu in unserer Kirchengemeinde: Männerarbeit \nDas Selbstverständnis und die Lebensentwürfe von Männern sind mächtig in Fluss geraten. Viele betrifft es ganz direkt\, manche nehmen es nur am Rande wahr. Etwa die vielen Artikel und Sendungen in den Medien. Wenn es um Umwälzungen auf dem Arbeitsmarkt geht\, um Frauenrechte\, um Fragen der Vereinbarkeit von Familie und Beruf\, um Erziehungsfragen\, um Sorgerecht\, um das\, was zählt in unserer Gesellschaft: Bei all dem geht es immer auch um neue und alte Männerbilder und um die ganz persönliche Identität von Männern. Deswegen sollten Männer sich selbstbewusst und selbstkritisch einschalten. Zum Nutzen Aller. \n(Text: EKD-Männerarbeit) \nMänner kommen zusammen\, bringen ihre Themen mit\, reden auf ihre Weise über den Glauben\, entwickeln Begeisterung für das Leben. \nHabt Ihr Interesse? Das erste Treffen findet statt: \nDonnerstag\, 19.März 2026 (Josephstag!)\, 19.30 Uhr\, Gemeindehaus Tönisheide\, mit Dieter Jeschke \nUnd dann schauen wir weiter nach Terminen\, Themen\, Aktionen
URL:https://kirche-velbert.de/veranstaltung/maennerarbeit/
LOCATION:Gemeindehaus Kuhlendahler Straße\, Kuhlendahler Str. 34\, Velbert\, 42553\, Deutschland
CATEGORIES:Gesprächskreis
ATTACH;FMTTYPE=image/jpeg:https://kirche-velbert.de/wp-content/uploads/Logo-Maennerkreis-e1771513566628.jpg
END:VEVENT
END:VCALENDAR